Report for Apache-Test-1.36

Back
From: metabase:user:30dda8bc-2aae-11df-837a-5e0a49663a4f
Subject: PASS Apache-Test-1.36 v5.10.1 GNU/Linux
Date: 2011-03-12T23:55:33Z

This distribution has been tested as part of the CPAN Testers
project, supporting the Perl programming language.  See
http://wiki.cpantesters.org/ for more information or email
questions to cpan-testers-discuss@perl.org


--
Dear Fred Moyer,

This is a computer-generated report for Apache-Test-1.36
on perl 5.10.1, created by CPAN-Reporter-1.1902.

Thank you for uploading your work to CPAN.  Congratulations!
All tests were successful.

Sections of this report:

    * Tester comments
    * Program output
    * Prerequisites
    * Environment and other context

------------------------------
TESTER COMMENTS
------------------------------

Additional comments from tester:

this report is from an automated smoke testing program
and was not reviewed by a human for accuracy

------------------------------
PROGRAM OUTPUT
------------------------------

Output from '/usr/bin/make test':

/net/netfile2/ag-russell/install/CentOS-5.5-x86_64/perlbrew/perls/perl-5.10.1/bin/perl -Iblib/arch -Iblib/lib \
	t/TEST  -clean
[warning] setting ulimit to allow core files
ulimit -c unlimited; /net/netfile2/ag-russell/install/CentOS-5.5-x86_64/perlbrew/perls/perl-5.10.1/bin/perl /tmp/cpan/CentOS-5.5-x86_64/perl-5.10.1/build/Apache-Test-1.36-Go6oXx/t/TEST -clean
APACHE_TEST_GROUP= APACHE_TEST_HTTPD= APACHE_TEST_PORT= APACHE_TEST_USER= APACHE_TEST_APXS= \
	/net/netfile2/ag-russell/install/CentOS-5.5-x86_64/perlbrew/perls/perl-5.10.1/bin/perl -Iblib/arch -Iblib/lib \
	t/TEST  -bugreport -verbose=0 
[warning] setting ulimit to allow core files
ulimit -c unlimited; /net/netfile2/ag-russell/install/CentOS-5.5-x86_64/perlbrew/perls/perl-5.10.1/bin/perl /tmp/cpan/CentOS-5.5-x86_64/perl-5.10.1/build/Apache-Test-1.36-Go6oXx/t/TEST -bugreport -verbose=0
/usr/sbin/httpd  -d /tmp/cpan/CentOS-5.5-x86_64/perl-5.10.1/build/Apache-Test-1.36-Go6oXx/t -f /tmp/cpan/CentOS-5.5-x86_64/perl-5.10.1/build/Apache-Test-1.36-Go6oXx/t/conf/httpd.conf -D APACHE2 -D PERL_USEITHREADS
using Apache/2.2.3 (prefork MPM)

waiting 60 seconds for server to start: .[Sun Mar 13 00:55:17 2011] [warn] module php5_module is already loaded, skipping
.
waiting 60 seconds for server to start: ok (waited 1 secs)
server localhost.localdomain:8529 started
[   info] adding source lib /tmp/cpan/CentOS-5.5-x86_64/perl-5.10.1/build/Apache-Test-1.36-Go6oXx/lib to @INC
[warning] Using random number seed: 2129715440 (autogenerated)
Use of uninitialized value in binmode at /net/netfile2/ag-russell/perl/CentOS-5.5-x86_64/perl-5.10.1/lib/perl5/Test/Builder.pm line 1916.
Use of uninitialized value in binmode at /net/netfile2/ag-russell/perl/CentOS-5.5-x86_64/perl-5.10.1/lib/perl5/Test/Builder.pm line 1916.
Use of uninitialized value in binmode at /net/netfile2/ag-russell/perl/CentOS-5.5-x86_64/perl-5.10.1/lib/perl5/Test/Builder.pm line 1916.
Use of uninitialized value in binmode at /net/netfile2/ag-russell/perl/CentOS-5.5-x86_64/perl-5.10.1/lib/perl5/Test/Builder.pm line 1916.
t/sok.t .................. ok
t/more/03testpm.t ........ ok
t/redirect.t ............. ok
t/ping.t ................. ok
t/more/04testmore.t ...... ok
t/more/01testpm.t ........ ok
t/request.t .............. ok
t/more/02testmore.t ...... ok
t/bad_coding.t ........... ok
t/alltest/all.t .......... skipped: testing all.t
t/log_watch.t ............ ok
t/next_available_port.t .. ok
t/cookies.t .............. ok
Use of uninitialized value in binmode at /net/netfile2/ag-russell/perl/CentOS-5.5-x86_64/perl-5.10.1/lib/perl5/Test/Builder.pm line 1916.
Use of uninitialized value in binmode at /net/netfile2/ag-russell/perl/CentOS-5.5-x86_64/perl-5.10.1/lib/perl5/Test/Builder.pm line 1916.
t/import.t ............... ok
t/alltest2/all.t ......... skipped: testing more than one all.t
All tests successful.
Files=15, Tests=94,  9 wallclock secs ( 0.15 usr  0.09 sys +  5.29 cusr  1.58 csys =  7.11 CPU)
Result: PASS
[warning] server localhost.localdomain:8529 shutdown

------------------------------
PREREQUISITES
------------------------------

Prerequisite modules loaded:

requires:

    Module              Need Have   
    ------------------- ---- -------
    Cwd                 2.06 3.30   
    File::Spec          0.8  3.30   

configure_requires:

    Module              Need Have   
    ------------------- ---- -------
    ExtUtils::MakeMaker 0    6.55_02


------------------------------
ENVIRONMENT AND OTHER CONTEXT
------------------------------

Environment variables:

    AUTOMATED_TESTING = 1
    LANG = en_US.utf8
    LD_LIBRARY_PATH = :/net/netfile2/ag-russell/install/CentOS-5.5-x86_64/lib:/net/netfile2/ag-russell/install/CentOS-5.5-x86_64/lib64:/usr/lib/mysql
    PATH = /usr/java/jdk1.6.0_22/bin:/net/netfile2/ag-russell/perl/CentOS-5.5-x86_64/perl-5.10.1/bin:/net/netfile2/ag-russell/install/CentOS-5.5-x86_64/perlbrew/bin:/net/netfile2/ag-russell/install/CentOS-5.5-x86_64/perlbrew/perls/perl-5.10.1/bin:/home/bq_cdavis/scripts:/home/bq_cdavis/usr/bin:/bin:/sbin:/usr/bin:/usr/sbin:/usr/local/bin:/net/netfile2/ag-russell/admin:/net/netfile2/ag-russell/admin/data:/net/netfile2/ag-russell/install/CentOS-5.5-x86_64/bin:/net/netfile2/ag-russell/code/misc/bin:/net/netfile2/ag-russell/lbin
    PATH_WITHOUT_PERLBREW = /home/bq_cdavis/scripts:/home/bq_cdavis/usr/bin:/bin:/sbin:/usr/bin:/usr/sbin:/usr/local/bin:/net/netfile2/ag-russell/admin:/net/netfile2/ag-russell/admin/data:/net/netfile2/ag-russell/install/CentOS-5.5-x86_64/bin
    PERL5LIB = /net/netfile2/ag-russell/perl/CentOS-5.5-x86_64/perl-5.10.1/lib/perl5/x86_64-linux-thread-multi:/net/netfile2/ag-russell/perl/CentOS-5.5-x86_64/perl-5.10.1/lib/perl5::/net/netfile2/ag-russell/install/CentOS-5.5-x86_64/lib/perl5:/net/netfile2/ag-russell/code/misc/lib
    PERL5OPT = 
    PERL5_CPANPLUS_IS_RUNNING = 17992
    PERL5_CPAN_IS_RUNNING = 17992
    PERL5_CPAN_IS_RUNNING_IN_RECURSION = 10783,17992
    PERLBREW_PATH = /net/netfile2/ag-russell/install/CentOS-5.5-x86_64/perlbrew/bin:/net/netfile2/ag-russell/install/CentOS-5.5-x86_64/perlbrew/perls/perl-5.10.1/bin
    PERLBREW_PERL = perl-5.10.1
    PERLBREW_ROOT = /net/netfile2/ag-russell/install/CentOS-5.5-x86_64/perlbrew
    PERLBREW_VERSION = 0.17
    PERL_CR_SMOKER_CURRENT = Apache-Test-1.36
    PERL_EXTUTILS_AUTOINSTALL = --defaultdeps
    PERL_LOCAL_LIB_ROOT = /net/netfile2/ag-russell/perl/CentOS-5.5-x86_64/perl-5.10.1
    PERL_MB_OPT = --install_base /net/netfile2/ag-russell/perl/CentOS-5.5-x86_64/perl-5.10.1
    PERL_MM_OPT = INSTALL_BASE=/net/netfile2/ag-russell/perl/CentOS-5.5-x86_64/perl-5.10.1
    PERL_MM_USE_DEFAULT = 1
    SHELL = /bin/bash
    TERM = screen

Perl special variables (and OS-specific diagnostics, for MSWin32):

    $^X = /net/netfile2/ag-russell/install/CentOS-5.5-x86_64/perlbrew/perls/perl-5.10.1/bin/perl
    $UID/$EUID = 2699 / 2699
    $GID = 2048 2048 10000 10003 10004 10099
    $EGID = 2048 2048 10000 10003 10004 10099

Perl module toolchain versions installed:

    Module              Have    
    ------------------- --------
    CPAN                1.9402  
    Cwd                 3.30    
    ExtUtils::CBuilder  0.280202
    ExtUtils::Command   1.16    
    ExtUtils::Install   1.54    
    ExtUtils::MakeMaker 6.55_02 
    ExtUtils::Manifest  1.56    
    ExtUtils::ParseXS   2.2206  
    File::Spec          3.30    
    Module::Build       0.3800  
    Module::Signature   n/a     
    Test::Harness       3.17    
    Test::More          0.98    
    YAML                0.72    
    YAML::Syck          n/a     
    version             0.88    


--

Summary of my perl5 (revision 5 version 10 subversion 1) configuration:
   
  Platform:
    osname=linux, osvers=2.6.18-194.32.1.el5, archname=x86_64-linux-thread-multi
    uname='linux pevolution 2.6.18-194.32.1.el5 #1 smp wed jan 5 17:52:25 est 2011 x86_64 x86_64 x86_64 gnulinux '
    config_args='-de -Dprefix=/net/netfile2/ag-russell/install/CentOS-5.5-x86_64/perlbrew/perls/perl-5.10.1 -Dusethreads'
    hint=recommended, useposix=true, d_sigaction=define
    useithreads=define, usemultiplicity=define
    useperlio=define, d_sfio=undef, uselargefiles=define, usesocks=undef
    use64bitint=define, use64bitall=define, uselongdouble=undef
    usemymalloc=n, bincompat5005=undef
  Compiler:
    cc='cc', ccflags ='-D_REENTRANT -D_GNU_SOURCE -fno-strict-aliasing -pipe -fstack-protector -I/usr/local/include -D_LARGEFILE_SOURCE -D_FILE_OFFSET_BITS=64',
    optimize='-O2',
    cppflags='-D_REENTRANT -D_GNU_SOURCE -fno-strict-aliasing -pipe -fstack-protector -I/usr/local/include'
    ccversion='', gccversion='4.1.2 20080704 (Red Hat 4.1.2-48)', gccosandvers=''
    intsize=4, longsize=8, ptrsize=8, doublesize=8, byteorder=12345678
    d_longlong=define, longlongsize=8, d_longdbl=define, longdblsize=16
    ivtype='long', ivsize=8, nvtype='double', nvsize=8, Off_t='off_t', lseeksize=8
    alignbytes=8, prototype=define
  Linker and Libraries:
    ld='cc', ldflags =' -fstack-protector -L/usr/local/lib'
    libpth=/usr/local/lib /lib /usr/lib /lib64 /usr/lib64 /usr/local/lib64
    libs=-lnsl -ldb -ldl -lm -lcrypt -lutil -lpthread -lc
    perllibs=-lnsl -ldl -lm -lcrypt -lutil -lpthread -lc
    libc=/lib/libc-2.5.so, so=so, useshrplib=false, libperl=libperl.a
    gnulibc_version='2.5'
  Dynamic Linking:
    dlsrc=dl_dlopen.xs, dlext=so, d_dlsymun=undef, ccdlflags='-Wl,-E'
    cccdlflags='-fPIC', lddlflags='-shared -O2 -L/usr/local/lib -fstack-protector'


Characteristics of this binary (from libperl): 
  Compile-time options: MULTIPLICITY PERL_DONT_CREATE_GVSV
                        PERL_IMPLICIT_CONTEXT PERL_MALLOC_WRAP USE_64_BIT_ALL
                        USE_64_BIT_INT USE_ITHREADS USE_LARGE_FILES
                        USE_PERLIO USE_REENTRANT_API
  Built under linux
  Compiled at Mar 10 2011 18:26:05
  %ENV:
    PERL5LIB="/net/netfile2/ag-russell/perl/CentOS-5.5-x86_64/perl-5.10.1/lib/perl5/x86_64-linux-thread-multi:/net/netfile2/ag-russell/perl/CentOS-5.5-x86_64/perl-5.10.1/lib/perl5::/net/netfile2/ag-russell/install/CentOS-5.5-x86_64/lib/perl5:/net/netfile2/ag-russell/code/misc/lib"
    PERL5OPT=""
    PERL5_CPANPLUS_IS_RUNNING="17992"
    PERL5_CPAN_IS_RUNNING="17992"
    PERL5_CPAN_IS_RUNNING_IN_RECURSION="10783,17992"
    PERLBREW_PATH="/net/netfile2/ag-russell/install/CentOS-5.5-x86_64/perlbrew/bin:/net/netfile2/ag-russell/install/CentOS-5.5-x86_64/perlbrew/perls/perl-5.10.1/bin"
    PERLBREW_PERL="perl-5.10.1"
    PERLBREW_ROOT="/net/netfile2/ag-russell/install/CentOS-5.5-x86_64/perlbrew"
    PERLBREW_VERSION="0.17"
    PERL_CR_SMOKER_CURRENT="Apache-Test-1.36"
    PERL_EXTUTILS_AUTOINSTALL="--defaultdeps"
    PERL_LOCAL_LIB_ROOT="/net/netfile2/ag-russell/perl/CentOS-5.5-x86_64/perl-5.10.1"
    PERL_MB_OPT="--install_base /net/netfile2/ag-russell/perl/CentOS-5.5-x86_64/perl-5.10.1"
    PERL_MM_OPT="INSTALL_BASE=/net/netfile2/ag-russell/perl/CentOS-5.5-x86_64/perl-5.10.1"
    PERL_MM_USE_DEFAULT="1"
  @INC:
    /net/netfile2/ag-russell/perl/CentOS-5.5-x86_64/perl-5.10.1/lib/perl5/x86_64-linux-thread-multi
    /net/netfile2/ag-russell/perl/CentOS-5.5-x86_64/perl-5.10.1/lib/perl5/x86_64-linux-thread-multi
    /net/netfile2/ag-russell/perl/CentOS-5.5-x86_64/perl-5.10.1/lib/perl5
    /net/netfile2/ag-russell/install/CentOS-5.5-x86_64/lib/perl5
    /net/netfile2/ag-russell/code/misc/lib
    /net/netfile2/ag-russell/install/CentOS-5.5-x86_64/perlbrew/perls/perl-5.10.1/lib/5.10.1/x86_64-linux-thread-multi
    /net/netfile2/ag-russell/install/CentOS-5.5-x86_64/perlbrew/perls/perl-5.10.1/lib/5.10.1
    /net/netfile2/ag-russell/install/CentOS-5.5-x86_64/perlbrew/perls/perl-5.10.1/lib/site_perl/5.10.1/x86_64-linux-thread-multi
    /net/netfile2/ag-russell/install/CentOS-5.5-x86_64/perlbrew/perls/perl-5.10.1/lib/site_perl/5.10.1
    .