Thrift-API-HiveClient2 v0.026 Perl 5 v5.10.1 amd64-freebsd

Status
Pass
From
Slaven Rezić
Dist
Thrift-API-HiveClient2 v0.026
Platform
Perl 5 v5.10.1 amd64-freebsd
Date
2024-06-28 16:55:26
ID
37ba5bcc-356f-11ef-83df-db2b6e8775ea
This distribution has been tested as part of the CPAN Testers
project, supporting the Perl programming language.  See
http://wiki.cpantesters.org/ for more information or email
questions to cpan-testers-discuss@perl.org


--
Dear Burak Gursoy,

This is a computer-generated report for Thrift-API-HiveClient2-0.026
on perl 5.10.1, created by CPAN-Reporter-1.2019.

Thank you for uploading your work to CPAN.  Congratulations!
All tests were successful.

Sections of this report:

    * Tester comments
    * Program output
    * Prerequisites
    * Environment and other context

------------------------------
TESTER COMMENTS
------------------------------

Additional comments from tester:

none provided

------------------------------
PROGRAM OUTPUT
------------------------------

Output from '/usr/bin/make test':

PERL_DL_NONLAZY=1 "/usr/perl5.10.1/bin/perl" "-MExtUtils::Command::MM" "-MTest::Harness" "-e" "undef *Test::Harness::Switches; test_harness(0, 'blib/lib', 'blib/arch')" t/*.t
t/00-compile.t ........... ok
# Testing Thrift::API::HiveClient2 0.026, Perl 5.010001, /usr/perl5.10.1/bin/perl
t/00-load.t .............. ok
# 
# Versions for all modules listed in MYMETA.json (including optional ones):
# 
# === Configure Requires ===
# 
#     Module              Want Have
#     ------------------- ---- ----
#     ExtUtils::MakeMaker  any 7.70
# 
# === Build Requires ===
# 
#     Module              Want Have
#     ------------------- ---- ----
#     ExtUtils::MakeMaker  any 7.70
# 
# === Test Requires ===
# 
#     Module                     Want     Have
#     -------------------------- ---- --------
#     ExtUtils::MakeMaker         any     7.70
#     File::Spec                  any     3.75
#     IO::Handle                  any     1.55
#     IPC::Open3                  any     1.04
#     Test::More                  any 1.302198
#     Thrift::XS::BinaryProtocol  any    undef
# 
# === Test Recommends ===
# 
#     Module         Want     Have
#     ---------- -------- --------
#     CPAN::Meta 2.120900 2.150010
# 
# === Runtime Requires ===
# 
#     Module                       Want     Have
#     ------------------------- ------- --------
#     Authen::SASL                  any     2.16
#     Carp                          any     1.50
#     Class::Accessor               any     0.51
#     IO::Socket::SSL               any    2.085
#     List::MoreUtils               any    0.430
#     Moo                           any 2.005005
#     Scalar::Util                  any     1.63
#     Thrift                    v0.10.0  v0.16.0
#     Thrift::BinaryProtocol        any    undef
#     Thrift::BufferedTransport     any    undef
#     Thrift::SASL::Transport       any    0.004
#     Thrift::SSLSocket             any    undef
#     Thrift::Socket                any    undef
#     base                          any     2.23
#     constant                      any     1.33
#     perl                        5.010 5.010001
#     strict                        any     1.04
#     version                       any   0.9932
#     warnings                      any     1.06
# 
t/00-report-prereqs.t .... ok
t/01-new.t ............... skipped: Set up HiveServer2 host with $ENV{HIVEHOST}
t/author-distmeta.t ...... skipped: these tests are for testing by the author
t/author-pod-coverage.t .. skipped: these tests are for testing by the author
t/author-pod-syntax.t .... skipped: these tests are for testing by the author
t/manifest.t ............. skipped: Author tests not required for installation
All tests successful.
Files=8, Tests=7,  1 wallclock secs ( 0.02 usr  0.01 sys +  0.55 cusr  0.08 csys =  0.65 CPU)
Result: PASS

------------------------------
PREREQUISITES
------------------------------

Prerequisite modules loaded:

requires:

    Module                     Need     Have    
    -------------------------- -------- --------
    Authen::SASL               0        2.16    
    base                       0        2.23    
    Carp                       0        1.50    
    Class::Accessor            0        0.51    
    constant                   0        1.33    
    IO::Socket::SSL            0        2.085   
    List::MoreUtils            0        0.430   
    Moo                        0        2.005005
    perl                       5.010    5.010001
    Scalar::Util               0        1.63    
    strict                     0        1.04    
    Thrift                     v0.10.0  v0.16.0 
    Thrift::BinaryProtocol     0        v0.16.0 
    Thrift::BufferedTransport  0        v0.16.0 
    Thrift::SASL::Transport    0        0.004   
    Thrift::Socket             0        v0.16.0 
    Thrift::SSLSocket          0        v0.16.0 
    version                    0        0.9932  
    warnings                   0        1.06    

build_requires:

    Module                     Need     Have    
    -------------------------- -------- --------
    ExtUtils::MakeMaker        0        7.70    
    File::Spec                 0        3.75    
    IO::Handle                 0        1.55    
    IPC::Open3                 0        1.04    
    Test::More                 0        1.302198
    Thrift::XS::BinaryProtocol 0        0       

configure_requires:

    Module                     Need     Have    
    -------------------------- -------- --------
    ExtUtils::MakeMaker        0        7.70    

opt_build_requires:

    Module                     Need     Have    
    -------------------------- -------- --------
    CPAN::Meta                 2.120900 2.150010


------------------------------
ENVIRONMENT AND OTHER CONTEXT
------------------------------

Environment variables:

    LC_ALL = de_DE.ISO8859-1
    PATH = /usr/local/bin:/usr/bin:/bin:/usr/local/sbin:/usr/sbin:/sbin:/home/cpansand/bin/freebsd9.3:/home/cpansand/bin/sh:/home/cpansand/bin:/usr/games:/home/cpansand/devel:/usr/home/eserte/src/srezic-misc/scripts
    PERL5LIB = /home/cpansand/.cpan/build/2024062818/Thrift-0.16.0-4/blib/arch:/home/cpansand/.cpan/build/2024062818/Thrift-0.16.0-4/blib/lib
    PERL5OPT = 
    PERL5_CPANPLUS_IS_RUNNING = 26846
    PERL5_CPAN_IS_RUNNING = 26846
    PERL5_CPAN_IS_RUNNING_IN_RECURSION = 17539,26846
    PERLDOC = -MPod::Perldoc::ToTextOverstrike
    PERL_BATCH = yes
    PERL_CANARY_STABILITY_NOPROMPT = 1
    PERL_CPAN_REPORTER_CONFIG = /var/tmp/cpansmoker-1023/2024062818/cpanreporter_000_config.ini
    PERL_EXTUTILS_AUTOINSTALL = --defaultdeps
    PERL_USE_UNSAFE_INC = 1
    SHELL = /usr/local/bin/zsh
    TERM = screen
    TMPDIR = /var/tmp/cpansmoker-1023/2024062818

Perl special variables (and OS-specific diagnostics, for MSWin32):

    $^X = /usr/perl5.10.1/bin/perl
    $UID/$EUID = 1023 / 1023
    $GID = 1023 1023
    $EGID = 1023 1023

Perl module toolchain versions installed:

    Module              Have    
    ------------------- --------
    CPAN                2.36    
    CPAN::Meta          2.150010
    Cwd                 3.75    
    ExtUtils::CBuilder  0.280236
    ExtUtils::Command   7.70    
    ExtUtils::Install   2.22    
    ExtUtils::MakeMaker 7.70    
    ExtUtils::Manifest  1.75    
    ExtUtils::ParseXS   3.51    
    File::Spec          3.75    
    JSON                4.10    
    JSON::PP            4.16    
    Module::Build       0.4234  
    Module::Signature   0.88    
    Parse::CPAN::Meta   2.150010
    Test2               1.302198
    Test::Harness       3.47    
    Test::More          1.302198
    YAML                1.30    
    YAML::Syck          1.34    
    version             0.9932  


--

Summary of my perl5 (revision 5 version 10 subversion 1) configuration:
   
  Platform:
    osname=freebsd, osvers=9.2-release-p4, archname=amd64-freebsd
    uname='freebsd cvrsnica-freebsd-92 9.2-release-p4 freebsd 9.2-release-p4 #0: tue apr 8 18:08:22 utc 2014 root@amd64-builder.daemonology.net:usrobjusrsrcsysgeneric amd64 '
    config_args='-ds -e -Dprefix=/usr/perl5.10.1'
    hint=recommended, useposix=true, d_sigaction=define
    useithreads=undef, usemultiplicity=undef
    useperlio=define, d_sfio=undef, uselargefiles=define, usesocks=undef
    use64bitint=define, use64bitall=define, uselongdouble=undef
    usemymalloc=n, bincompat5005=undef
  Compiler:
    cc='cc', ccflags ='-DHAS_FPSETMASK -DHAS_FLOATINGPOINT_H -fno-strict-aliasing -pipe -fstack-protector -I/usr/local/include',
    optimize='-O',
    cppflags='-DHAS_FPSETMASK -DHAS_FLOATINGPOINT_H -fno-strict-aliasing -pipe -fstack-protector -I/usr/local/include'
    ccversion='', gccversion='4.2.1 20070831 patched [FreeBSD]', gccosandvers=''
    intsize=4, longsize=8, ptrsize=8, doublesize=8, byteorder=12345678
    d_longlong=define, longlongsize=8, d_longdbl=define, longdblsize=16
    ivtype='long', ivsize=8, nvtype='double', nvsize=8, Off_t='off_t', lseeksize=8
    alignbytes=8, prototype=define
  Linker and Libraries:
    ld='cc', ldflags ='-Wl,-E  -fstack-protector -L/usr/local/lib'
    libpth=/usr/lib /usr/local/lib
    libs=-lgdbm -lm -lcrypt -lutil -lc
    perllibs=-lm -lcrypt -lutil -lc
    libc=, so=so, useshrplib=false, libperl=libperl.a
    gnulibc_version=''
  Dynamic Linking:
    dlsrc=dl_dlopen.xs, dlext=so, d_dlsymun=undef, ccdlflags=' '
    cccdlflags='-DPIC -fPIC', lddlflags='-shared  -L/usr/local/lib -fstack-protector'


Characteristics of this binary (from libperl): 
  Compile-time options: PERL_DONT_CREATE_GVSV PERL_MALLOC_WRAP USE_64_BIT_ALL
                        USE_64_BIT_INT USE_LARGE_FILES USE_PERLIO
  Built under freebsd
  Compiled at May 15 2014 23:30:26
  %ENV:
    PERL5LIB="/home/cpansand/.cpan/build/2024062818/Thrift-0.16.0-4/blib/arch:/home/cpansand/.cpan/build/2024062818/Thrift-0.16.0-4/blib/lib"
    PERL5OPT=""
    PERL5_CPANPLUS_IS_RUNNING="26846"
    PERL5_CPAN_IS_RUNNING="26846"
    PERL5_CPAN_IS_RUNNING_IN_RECURSION="17539,26846"
    PERLDOC="-MPod::Perldoc::ToTextOverstrike"
    PERL_BATCH="yes"
    PERL_CANARY_STABILITY_NOPROMPT="1"
    PERL_CPAN_REPORTER_CONFIG="/var/tmp/cpansmoker-1023/2024062818/cpanreporter_000_config.ini"
    PERL_EXTUTILS_AUTOINSTALL="--defaultdeps"
    PERL_USE_UNSAFE_INC="1"
  @INC:
    /home/cpansand/.cpan/build/2024062818/Thrift-0.16.0-4/blib/arch
    /home/cpansand/.cpan/build/2024062818/Thrift-0.16.0-4/blib/lib
    /usr/perl5.10.1/lib/5.10.1/amd64-freebsd
    /usr/perl5.10.1/lib/5.10.1
    /usr/perl5.10.1/lib/site_perl/5.10.1/amd64-freebsd
    /usr/perl5.10.1/lib/site_perl/5.10.1
    .