Project-Euler v0.20 Perl 5 v5.28.2 RC1 amd64-freebsd
- Status
- Pass
- From
- Slaven Rezić (SREZIC)
- Dist
-
Project-Euler v0.20
- Platform
- Perl 5 v5.28.2 RC1 amd64-freebsd
- Date
- 2019-04-19 07:24:50
- ID
- 37c0d35e-6274-11e9-9d23-70651f24ea8f
This distribution has been tested as part of the CPAN Testers
project, supporting the Perl programming language. See
http://wiki.cpantesters.org/ for more information or email
questions to cpan-testers-discuss@perl.org
--
Dear Adam Lesperance,
This is a computer-generated report for Project-Euler-0.20
on perl 5.28.2, created by CPAN-Reporter-1.2018.
Thank you for uploading your work to CPAN. Congratulations!
All tests were successful.
Sections of this report:
* Tester comments
* Program output
* Prerequisites
* Environment and other context
------------------------------
TESTER COMMENTS
------------------------------
Additional comments from tester:
none provided
------------------------------
PROGRAM OUTPUT
------------------------------
Output from './Build test':
# Testing Project::Euler, Perl 5.028002, /usr/perl5.28.2-RC1p/bin/perl
t/00-Base/00-load.t ........................... ok
t/00-Base/01-base.t ........................... ok
t/00-compile.t ................................ ok
t/10-Lib/000-Types.t .......................... ok
t/10-Lib/100-Utils_List.t ..................... ok
t/10-Lib/101-Utils_Fibs.t ..................... ok
t/20-Problems/000-Correct_Defaults.t .......... ok
t/20-Problems/001-Sum_Filtered_Lists.t ........ ok
t/20-Problems/002-Sum_Filtered_Fib_Numbers.t .. ok
t/author-99-template.t ........................ skipped: these tests are for testing by the author
t/author-critic.t ............................. skipped: these tests are for testing by the author
t/release-check-changes.t ..................... skipped: these tests are for release candidate testing
t/release-distmeta.t .......................... skipped: these tests are for release candidate testing
t/release-has-version.t ....................... skipped: these tests are for release candidate testing
t/release-kwalitee.t .......................... skipped: these tests are for release candidate testing
t/release-minimum-version.t ................... skipped: these tests are for release candidate testing
t/release-pod-coverage.t ...................... skipped: these tests are for release candidate testing
t/release-pod-syntax.t ........................ skipped: these tests are for release candidate testing
t/release-portability.t ....................... skipped: these tests are for release candidate testing
t/release-synopsis.t .......................... skipped: these tests are for release candidate testing
t/release-unused-vars.t ....................... skipped: these tests are for release candidate testing
All tests successful.
Files=21, Tests=338, 14 wallclock secs ( 0.12 usr 0.06 sys + 9.03 cusr 4.76 csys = 13.97 CPU)
Result: PASS
------------------------------
PREREQUISITES
------------------------------
Prerequisite modules loaded:
requires:
Module Need Have
--------------------------- ------ ----------
Carp 0 1.50
DateTime 0 1.50
DateTime::Format::DateParse 0 0.05
Exporter::Easy 0 0.18
List::MoreUtils 0 0.428
List::Util 0 1.50
Math::Big::Factors 0 1.14
Math::BigInt 0 1.999811
Modern::Perl 0 1.20181021
Moose 0 2.2011
Moose::Role 0 2.2011
MooseX::Types 0 0.50
MooseX::Types::Moose 0 0.50
namespace::autoclean 0 0.28
perl 5.010 5.028002
Readonly 0 2.05
String::Palindrome 0 2.000001
build_requires:
Module Need Have
--------------------------- ------ ----------
autodie 0 2.29
constant 0 1.33
English 0 1.10
File::Find 0 1.34
File::Spec 0 3.74
File::Temp 0 0.2309
Module::Build 0.3601 0.4229
Test::Exception 0 0.43
Test::More 0 1.302162
Test::Most 0 0.35
configure_requires:
Module Need Have
--------------------------- ------ ----------
Module::Build 0.3601 0.4229
------------------------------
ENVIRONMENT AND OTHER CONTEXT
------------------------------
Environment variables:
LC_ALL = de_DE.UTF-8
PATH = /usr/local/bin:/usr/bin:/bin:/usr/local/sbin:/usr/sbin:/sbin:/home/cpansand/bin/freebsd12.0:/home/cpansand/bin/sh:/home/cpansand/bin:/usr/games:/home/cpansand/devel:/usr/home/eserte/src/srezic-misc/scripts
PERL5LIB = /home/cpansand/.cpan/build/2019041801/String-Palindrome-2.000001-0/blib/arch:/home/cpansand/.cpan/build/2019041801/String-Palindrome-2.000001-0/blib/lib:/home/cpansand/.cpan/build/2019041801/Math-Big-1.14-0/blib/arch:/home/cpansand/.cpan/build/2019041801/Math-Big-1.14-0/blib/lib:/home/cpansand/.cpan/build/2019041801/DateTime-Format-DateParse-0.05-0/blib/arch:/home/cpansand/.cpan/build/2019041801/DateTime-Format-DateParse-0.05-0/blib/lib:/home/cpansand/.cpan/build/2019041801/Pod-Readme-v1.2.3-1/blib/arch:/home/cpansand/.cpan/build/2019041801/Pod-Readme-v1.2.3-1/blib/lib:/home/cpansand/.cpan/build/2019041801/Test-Kit-2.15-1/blib/arch:/home/cpansand/.cpan/build/2019041801/Test-Kit-2.15-1/blib/lib:/home/cpansand/.cpan/build/2019041801/Module-Install-Repository-0.06-1/blib/arch:/home/cpansand/.cpan/build/2019041801/Module-Install-Repository-0.06-1/blib/lib:/home/cpansand/.cpan/build/2019041801/Device-SerialPort-1.04-0/blib/arch:/home/cpansand/.cpan/build/2019041801/Device-SerialPort-1.04-0/blib/lib
PERL5OPT =
PERL5_CPANPLUS_IS_RUNNING = 98900
PERL5_CPAN_IS_RUNNING = 98900
PERL5_CPAN_IS_RUNNING_IN_RECURSION = 55785,98900
PERLDOC = -MPod::Perldoc::ToTextOverstrike
PERL_BATCH = yes
PERL_CANARY_STABILITY_NOPROMPT = 1
PERL_CPAN_REPORTER_CONFIG = /var/tmp/cpansmoker-1023/2019041717/cpanreporter_000_config.ini
PERL_EXTUTILS_AUTOINSTALL = --defaultdeps
PERL_PARALLEL_SMOKER = yes
PERL_USE_UNSAFE_INC = 1
SHELL = /usr/local/bin/zsh
TERM = screen
TMPDIR = /var/tmp/cpansmoker-1023/2019041717
Perl special variables (and OS-specific diagnostics, for MSWin32):
$^X = /usr/perl5.28.2-RC1p/bin/perl
$UID/$EUID = 1023 / 1023
$GID = 1023 1023
$EGID = 1023 1023
Perl module toolchain versions installed:
Module Have
------------------- --------
CPAN 2.20
CPAN::Meta 2.150010
Cwd 3.74
ExtUtils::CBuilder 0.280231
ExtUtils::Command 7.34
ExtUtils::Install 2.14
ExtUtils::MakeMaker 7.34
ExtUtils::Manifest 1.70
ExtUtils::ParseXS 3.39
File::Spec 3.74
JSON 4.02
JSON::PP 2.97001
Module::Build 0.4229
Module::Signature 0.83
Parse::CPAN::Meta 2.150010
Test::Harness 3.42
Test::More 1.302162
YAML 1.27
YAML::Syck 1.31
version 0.9923
--
Summary of my perl5 (revision 5 version 28 subversion 2) configuration:
Platform:
osname=freebsd
osvers=12.0-stable
archname=amd64-freebsd
uname='freebsd cloud1.bbbike.org 12.0-stable freebsd 12.0-stable 09c6161fb01(stable12) generic amd64 '
config_args='-ds -e -Dprefix=/usr/perl5.28.2-RC1p -Dcf_email=srezic@cpan.org -Dnoextensions=GDBM_File -Doptimize=-O2 -pipe'
hint=recommended
useposix=true
d_sigaction=define
useithreads=undef
usemultiplicity=undef
use64bitint=define
use64bitall=define
uselongdouble=undef
usemymalloc=n
default_inc_excludes_dot=define
bincompat5005=undef
Compiler:
cc='cc'
ccflags ='-DHAS_FPSETMASK -DHAS_FLOATINGPOINT_H -fno-strict-aliasing -pipe -fstack-protector-strong -I/usr/local/include -D_FORTIFY_SOURCE=2'
optimize='-O2 -pipe'
cppflags='-DHAS_FPSETMASK -DHAS_FLOATINGPOINT_H -fno-strict-aliasing -pipe -fstack-protector-strong -I/usr/local/include'
ccversion=''
gccversion='4.2.1 Compatible FreeBSD Clang 7.0.1 (tags/RELEASE_701/final 349250)'
gccosandvers=''
intsize=4
longsize=8
ptrsize=8
doublesize=8
byteorder=12345678
doublekind=3
d_longlong=define
longlongsize=8
d_longdbl=define
longdblsize=16
longdblkind=3
ivtype='long'
ivsize=8
nvtype='double'
nvsize=8
Off_t='off_t'
lseeksize=8
alignbytes=8
prototype=define
Linker and Libraries:
ld='cc'
ldflags ='-pthread -Wl,-E -fstack-protector-strong -L/usr/local/lib'
libpth=/usr/lib /usr/local/lib /usr/lib/clang/7.0.1/lib /usr/lib
libs=-lpthread -lgdbm -ldl -lm -lcrypt -lutil -lc
perllibs=-lpthread -ldl -lm -lcrypt -lutil -lc
libc=
so=so
useshrplib=false
libperl=libperl.a
gnulibc_version=''
Dynamic Linking:
dlsrc=dl_dlopen.xs
dlext=so
d_dlsymun=undef
ccdlflags=' '
cccdlflags='-DPIC -fPIC'
lddlflags='-shared -L/usr/local/lib -fstack-protector-strong'
Characteristics of this binary (from libperl):
Compile-time options:
HAS_TIMES
PERLIO_LAYERS
PERL_COPY_ON_WRITE
PERL_DONT_CREATE_GVSV
PERL_MALLOC_WRAP
PERL_OP_PARENT
PERL_PRESERVE_IVUV
USE_64_BIT_ALL
USE_64_BIT_INT
USE_LARGE_FILES
USE_LOCALE
USE_LOCALE_COLLATE
USE_LOCALE_CTYPE
USE_LOCALE_NUMERIC
USE_LOCALE_TIME
USE_PERLIO
USE_PERL_ATOF
Locally applied patches:
RC1
Built under freebsd
Compiled at Apr 6 2019 06:44:18
%ENV:
PERL5LIB="/home/cpansand/.cpan/build/2019041801/String-Palindrome-2.000001-0/blib/arch:/home/cpansand/.cpan/build/2019041801/String-Palindrome-2.000001-0/blib/lib:/home/cpansand/.cpan/build/2019041801/Math-Big-1.14-0/blib/arch:/home/cpansand/.cpan/build/2019041801/Math-Big-1.14-0/blib/lib:/home/cpansand/.cpan/build/2019041801/DateTime-Format-DateParse-0.05-0/blib/arch:/home/cpansand/.cpan/build/2019041801/DateTime-Format-DateParse-0.05-0/blib/lib:/home/cpansand/.cpan/build/2019041801/Pod-Readme-v1.2.3-1/blib/arch:/home/cpansand/.cpan/build/2019041801/Pod-Readme-v1.2.3-1/blib/lib:/home/cpansand/.cpan/build/2019041801/Test-Kit-2.15-1/blib/arch:/home/cpansand/.cpan/build/2019041801/Test-Kit-2.15-1/blib/lib:/home/cpansand/.cpan/build/2019041801/Module-Install-Repository-0.06-1/blib/arch:/home/cpansand/.cpan/build/2019041801/Module-Install-Repository-0.06-1/blib/lib:/home/cpansand/.cpan/build/2019041801/Device-SerialPort-1.04-0/blib/arch:/home/cpansand/.cpan/build/2019041801/Device-SerialPort-1.04-0/blib/lib"
PERL5OPT=""
PERL5_CPANPLUS_IS_RUNNING="98900"
PERL5_CPAN_IS_RUNNING="98900"
PERL5_CPAN_IS_RUNNING_IN_RECURSION="55785,98900"
PERLDOC="-MPod::Perldoc::ToTextOverstrike"
PERL_BATCH="yes"
PERL_CANARY_STABILITY_NOPROMPT="1"
PERL_CPAN_REPORTER_CONFIG="/var/tmp/cpansmoker-1023/2019041717/cpanreporter_000_config.ini"
PERL_EXTUTILS_AUTOINSTALL="--defaultdeps"
PERL_PARALLEL_SMOKER="yes"
PERL_USE_UNSAFE_INC="1"
@INC:
/home/cpansand/.cpan/build/2019041801/String-Palindrome-2.000001-0/blib/arch
/home/cpansand/.cpan/build/2019041801/String-Palindrome-2.000001-0/blib/lib
/home/cpansand/.cpan/build/2019041801/Math-Big-1.14-0/blib/arch
/home/cpansand/.cpan/build/2019041801/Math-Big-1.14-0/blib/lib
/home/cpansand/.cpan/build/2019041801/DateTime-Format-DateParse-0.05-0/blib/arch
/home/cpansand/.cpan/build/2019041801/DateTime-Format-DateParse-0.05-0/blib/lib
/home/cpansand/.cpan/build/2019041801/Pod-Readme-v1.2.3-1/blib/arch
/home/cpansand/.cpan/build/2019041801/Pod-Readme-v1.2.3-1/blib/lib
/home/cpansand/.cpan/build/2019041801/Test-Kit-2.15-1/blib/arch
/home/cpansand/.cpan/build/2019041801/Test-Kit-2.15-1/blib/lib
/home/cpansand/.cpan/build/2019041801/Module-Install-Repository-0.06-1/blib/arch
/home/cpansand/.cpan/build/2019041801/Module-Install-Repository-0.06-1/blib/lib
/home/cpansand/.cpan/build/2019041801/Device-SerialPort-1.04-0/blib/arch
/home/cpansand/.cpan/build/2019041801/Device-SerialPort-1.04-0/blib/lib
/usr/perl5.28.2-RC1p/lib/site_perl/5.28.2/amd64-freebsd
/usr/perl5.28.2-RC1p/lib/site_perl/5.28.2
/usr/perl5.28.2-RC1p/lib/5.28.2/amd64-freebsd
/usr/perl5.28.2-RC1p/lib/5.28.2
.