Back
From: metabase:user:314402c4-2aae-11df-837a-5e0a49663a4f
Subject: PASS Shell-Guess-0.06 v5.25.12 GNU/Linux
Date: 2017-05-01T08:57:34Z
This distribution has been tested as part of the CPAN Testers
project, supporting the Perl programming language. See
http://wiki.cpantesters.org/ for more information or email
questions to cpan-testers-discuss@perl.org
--
Dear Graham Ollis,
This is a computer-generated report for Shell-Guess-0.06
on perl 5.25.12, created by CPAN-Reporter-1.2018.
Thank you for uploading your work to CPAN. Congratulations!
All tests were successful.
Sections of this report:
* Tester comments
* Program output
* Prerequisites
* Environment and other context
------------------------------
TESTER COMMENTS
------------------------------
Additional comments from tester:
none provided
------------------------------
PROGRAM OUTPUT
------------------------------
Output from './Build test':
Useless use of getppid in void context at inc/My/ModuleBuild.pm line 12.
#
#
#
# HARNESS_ACTIVE=1
# HARNESS_VERSION=3.38
# LANG=en_US.UTF-8
# PERL5LIB=/home/cpansand/.cpan/build/2017050109/Shell-Guess-0.06-0/blib/lib:/home/cpansand/.cpan/build/2017050109/Shell-Guess-0.06-0/blib/arch:inc:/home/cpansand/.cpan/build/2017050109/File-chdir-0.1010-0/blib/arch:/home/cpansand/.cpan/build/2017050109/File-chdir-0.1010-0/blib/lib:/home/cpansand/.cpan/build/2017050109/Archive-Extract-0.80-0/blib/arch:/home/cpansand/.cpan/build/2017050109/Archive-Extract-0.80-0/blib/lib:/home/cpansand/.cpan/build/2017050109/File-chdir-0.1010-0/blib/arch:/home/cpansand/.cpan/build/2017050109/File-chdir-0.1010-0/blib/lib:/home/cpansand/.cpan/build/2017050109/Archive-Extract-0.80-0/blib/arch:/home/cpansand/.cpan/build/2017050109/Archive-Extract-0.80-0/blib/lib
# PERL5OPT=
# PERL5_CPANPLUS_IS_RUNNING=2996
# PERL5_CPAN_IS_RUNNING=2996
# PERL5_CPAN_IS_RUNNING_IN_RECURSION=2842,2996
# PERLDOC=-MPod::Perldoc::ToTextOverstrike
# PERL_BATCH=yes
# PERL_CANARY_STABILITY_NOPROMPT=1
# PERL_CPAN_REPORTER_CONFIG=/var/tmp/cpansmoker-1002/2017050109/cpanreporter_000_config.ini
# PERL_DL_NONLAZY=1
# PERL_EXTUTILS_AUTOINSTALL=--defaultdeps
# PERL_USE_UNSAFE_INC=1
# SHELL=/bin/zsh
#
#
#
# PERL5LIB path
# /home/cpansand/.cpan/build/2017050109/Shell-Guess-0.06-0/blib/lib
# /home/cpansand/.cpan/build/2017050109/Shell-Guess-0.06-0/blib/arch
# inc
# /home/cpansand/.cpan/build/2017050109/File-chdir-0.1010-0/blib/arch
# /home/cpansand/.cpan/build/2017050109/File-chdir-0.1010-0/blib/lib
# /home/cpansand/.cpan/build/2017050109/Archive-Extract-0.80-0/blib/arch
# /home/cpansand/.cpan/build/2017050109/Archive-Extract-0.80-0/blib/lib
# /home/cpansand/.cpan/build/2017050109/File-chdir-0.1010-0/blib/arch
# /home/cpansand/.cpan/build/2017050109/File-chdir-0.1010-0/blib/lib
# /home/cpansand/.cpan/build/2017050109/Archive-Extract-0.80-0/blib/arch
# /home/cpansand/.cpan/build/2017050109/Archive-Extract-0.80-0/blib/lib
#
#
#
# perl v5.25.12
# Module::Build 0.4222
# Test::More 1.302073
# Unix::Process -
# Win32::Getppid -
# Win32::Process::List -
#
#
#
t/00_diag.t ........ ok
t/guess_login.t .... ok
t/guess_running.t .. ok
t/os_dos.t ......... skipped: DOS only test
t/os_proc.t ........ skipped: test requires c shell in /bin/csh
t/os_vms.t ......... skipped: VMS only test
t/os_win32.t ....... skipped: windows only test
t/shell_bash.t ..... ok
t/shell_bourne.t ... ok
t/shell_c.t ........ ok
t/shell_cmd.t ...... ok
t/shell_command.t .. ok
t/shell_dcl.t ...... ok
t/shell_fish.t ..... ok
t/shell_korn.t ..... ok
t/shell_power.t .... ok
t/shell_tc.t ....... ok
t/shell_z.t ........ ok
t/use.t ............ ok
All tests successful.
Files=19, Tests=182, 1 wallclock secs ( 0.08 usr 0.03 sys + 1.25 cusr 0.20 csys = 1.56 CPU)
Result: PASS
------------------------------
PREREQUISITES
------------------------------
Prerequisite modules loaded:
requires:
Module Need Have
------------- ----- --------
perl 5.006 5.025012
build_requires:
Module Need Have
------------- ----- --------
Module::Build 0.28 0.4222
perl 5.006 5.025012
Test::More 0.94 1.302073
configure_requires:
Module Need Have
------------- ----- --------
Module::Build 0.28 0.4222
perl 5.006 5.025012
------------------------------
ENVIRONMENT AND OTHER CONTEXT
------------------------------
Environment variables:
LANG = en_US.UTF-8
PATH = /usr/local/bin:/usr/bin:/bin:/usr/local/sbin:/usr/sbin:/sbin:/home/cpansand/bin/linux-gnu:/home/cpansand/bin/sh:/home/cpansand/bin:/usr/games:/home/cpansand/devel:/home/eserte/src/srezic-misc/scripts
PERL5LIB = /home/cpansand/.cpan/build/2017050109/File-chdir-0.1010-0/blib/arch:/home/cpansand/.cpan/build/2017050109/File-chdir-0.1010-0/blib/lib:/home/cpansand/.cpan/build/2017050109/Archive-Extract-0.80-0/blib/arch:/home/cpansand/.cpan/build/2017050109/Archive-Extract-0.80-0/blib/lib
PERL5OPT =
PERL5_CPANPLUS_IS_RUNNING = 2996
PERL5_CPAN_IS_RUNNING = 2996
PERL5_CPAN_IS_RUNNING_IN_RECURSION = 2842,2996
PERLDOC = -MPod::Perldoc::ToTextOverstrike
PERL_BATCH = yes
PERL_CANARY_STABILITY_NOPROMPT = 1
PERL_CPAN_REPORTER_CONFIG = /var/tmp/cpansmoker-1002/2017050109/cpanreporter_000_config.ini
PERL_EXTUTILS_AUTOINSTALL = --defaultdeps
PERL_USE_UNSAFE_INC = 1
SHELL = /bin/zsh
TERM = screen
TMPDIR = /var/tmp/cpansmoker-1002/2017050109
Perl special variables (and OS-specific diagnostics, for MSWin32):
$^X = /opt/perl-5.25.12D/bin/perl5.25.12
$UID/$EUID = 1002 / 1002
$GID = 1002 1002
$EGID = 1002 1002
Perl module toolchain versions installed:
Module Have
------------------- ----------
CPAN 2.18
CPAN::Meta 2.150010
Cwd 3.67
ExtUtils::CBuilder 0.280225
ExtUtils::Command 7.24
ExtUtils::Install 2.04
ExtUtils::MakeMaker 7.24
ExtUtils::Manifest 1.70
ExtUtils::ParseXS 3.34
File::Spec 3.67
JSON 2.90
JSON::PP 2.27400_02
Module::Build 0.4222
Module::Signature n/a
Parse::CPAN::Meta 2.150010
Test::Harness 3.38
Test::More 1.302073
YAML 1.23
YAML::Syck 1.30
version 0.9917
--
Summary of my perl5 (revision 5 version 25 subversion 12) configuration:
Platform:
osname=linux
osvers=3.10.0-514.16.1.el7.x86_64
archname=x86_64-linux-ld
uname='linux prod5 3.10.0-514.16.1.el7.x86_64 #1 smp wed apr 12 15:04:24 utc 2017 x86_64 x86_64 x86_64 gnulinux '
config_args='-ds -e -Dprefix=/opt/perl-5.25.12D -Dusedevel -Dusemallocwrap=no -Duselongdouble -Dcf_email=srezic@cpan.org'
hint=recommended
useposix=true
d_sigaction=define
useithreads=undef
usemultiplicity=undef
use64bitint=define
use64bitall=define
uselongdouble=define
usemymalloc=n
default_inc_excludes_dot=define
bincompat5005=undef
Compiler:
cc='cc'
ccflags ='-fwrapv -fno-strict-aliasing -pipe -fstack-protector-strong -I/usr/local/include -D_LARGEFILE_SOURCE -D_FILE_OFFSET_BITS=64 -D_FORTIFY_SOURCE=2'
optimize='-O2'
cppflags='-fwrapv -fno-strict-aliasing -pipe -fstack-protector-strong -I/usr/local/include'
ccversion=''
gccversion='4.8.5 20150623 (Red Hat 4.8.5-11)'
gccosandvers=''
intsize=4
longsize=8
ptrsize=8
doublesize=8
byteorder=12345678
doublekind=3
d_longlong=define
longlongsize=8
d_longdbl=define
longdblsize=16
longdblkind=3
ivtype='long'
ivsize=8
nvtype='long double'
nvsize=16
Off_t='off_t'
lseeksize=8
alignbytes=16
prototype=define
Linker and Libraries:
ld='cc'
ldflags =' -fstack-protector-strong -L/usr/local/lib'
libpth=/usr/local/lib /usr/lib /lib/../lib64 /usr/lib/../lib64 /lib /lib64 /usr/lib64 /usr/local/lib64
libs=-lpthread -lnsl -lgdbm -ldb -ldl -lm -lcrypt -lutil -lc -lgdbm_compat
perllibs=-lpthread -lnsl -ldl -lm -lcrypt -lutil -lc
libc=libc-2.17.so
so=so
useshrplib=false
libperl=libperl.a
gnulibc_version='2.17'
Dynamic Linking:
dlsrc=dl_dlopen.xs
dlext=so
d_dlsymun=undef
ccdlflags='-Wl,-E'
cccdlflags='-fPIC'
lddlflags='-shared -O2 -L/usr/local/lib -fstack-protector-strong'
Characteristics of this binary (from libperl):
Compile-time options:
HAS_TIMES
PERLIO_LAYERS
PERL_COPY_ON_WRITE
PERL_DONT_CREATE_GVSV
PERL_OP_PARENT
PERL_PRESERVE_IVUV
PERL_USE_DEVEL
USE_64_BIT_ALL
USE_64_BIT_INT
USE_LARGE_FILES
USE_LOCALE
USE_LOCALE_COLLATE
USE_LOCALE_CTYPE
USE_LOCALE_NUMERIC
USE_LOCALE_TIME
USE_LONG_DOUBLE
USE_PERLIO
USE_PERL_ATOF
Built under linux
Compiled at Apr 26 2017 00:09:39
%ENV:
PERL5LIB="/home/cpansand/.cpan/build/2017050109/File-chdir-0.1010-0/blib/arch:/home/cpansand/.cpan/build/2017050109/File-chdir-0.1010-0/blib/lib:/home/cpansand/.cpan/build/2017050109/Archive-Extract-0.80-0/blib/arch:/home/cpansand/.cpan/build/2017050109/Archive-Extract-0.80-0/blib/lib"
PERL5OPT=""
PERL5_CPANPLUS_IS_RUNNING="2996"
PERL5_CPAN_IS_RUNNING="2996"
PERL5_CPAN_IS_RUNNING_IN_RECURSION="2842,2996"
PERLDOC="-MPod::Perldoc::ToTextOverstrike"
PERL_BATCH="yes"
PERL_CANARY_STABILITY_NOPROMPT="1"
PERL_CPAN_REPORTER_CONFIG="/var/tmp/cpansmoker-1002/2017050109/cpanreporter_000_config.ini"
PERL_EXTUTILS_AUTOINSTALL="--defaultdeps"
PERL_USE_UNSAFE_INC="1"
@INC:
/home/cpansand/.cpan/build/2017050109/File-chdir-0.1010-0/blib/arch
/home/cpansand/.cpan/build/2017050109/File-chdir-0.1010-0/blib/lib
/home/cpansand/.cpan/build/2017050109/Archive-Extract-0.80-0/blib/arch
/home/cpansand/.cpan/build/2017050109/Archive-Extract-0.80-0/blib/lib
/opt/perl-5.25.12D/lib/site_perl/5.25.12/x86_64-linux-ld
/opt/perl-5.25.12D/lib/site_perl/5.25.12
/opt/perl-5.25.12D/lib/5.25.12/x86_64-linux-ld
/opt/perl-5.25.12D/lib/5.25.12
.