DBIx-Class v0.082841_01 Perl 5 v5.12.1 i386-netbsd-64int

Status
Pass
From
Chris Williams (BINGOS)
Dist
DBIx-Class v0.082841_01
Platform
Perl 5 v5.12.1 i386-netbsd-64int
Date
2019-11-01 21:47:36
ID
37f0ae7c-fcf1-11e9-99fe-b031dbec7dbf
This distribution has been tested as part of the CPAN Testers
project, supporting the Perl programming language.  See
http://wiki.cpantesters.org/ for more information or email
questions to cpan-testers-discuss@perl.org


--

Dear RIBASUSHI,

This is a computer-generated error report created automatically by
CPANPLUS, version 0.9178. Testers personal comments may appear
at the end of this report.


Thank you for uploading your work to CPAN.  Congratulations!
All tests were successful.

TEST RESULTS:

Below is the error stack from stage 'make test':

PERL_DL_NONLAZY=1 "/home/cpan/pit/64bit/perl-5.12.1/bin/perl" "-MExtUtils::Command::MM" "-MTest::Harness" "-e" "undef *Test::Harness::Switches; test_harness(0, 'inc', 'blib/lib', 'blib/arch')" t/*.t t/admin/*.t t/cdbi/*.t t/cdbi/DeepAbstractSearch/*.t t/cdbi/abstract/*.t t/cdbi/sweet/*.t t/count/*.t t/debug/*.t t/delete/*.t t/inflate/*.t t/multi_create/*.t t/ordered/*.t t/prefetch/*.t t/relationship/*.t t/resultset/*.t t/resultsource/*.t t/row/*.t t/schema/*.t t/search/*.t t/sqlmaker/*.t t/sqlmaker/hierarchical/*.t t/sqlmaker/limit_dialects/*.t t/storage/*.t t/update/*.t xt/*.t
# 
# 
# List of loadable modules within both *OPTIONAL* and core dependency chains
# present on this system (modules sourced from ./blib, ./lib, ./t, and ./xt
# with versions identical to their parent namespace were omitted for brevity)
# 
#     *** Note that *MANY* of these modules will *NEVER* be loaded ***
#             *** during normal operation of DBIx::Class ***
# 
# @INC at startup (does not reflect manipulation at runtime):
#   0: ./inc/
#   1: ./blib/lib/
#   2: ./blib/arch/
#   ...
#   6: /home/cpan/pit/jail/ahObzqGqin/lib/perl5/i386-netbsd-64int
#   ...
#  10: /home/cpan/pit/jail/ahObzqGqin/lib/perl5
#   ...
#  15: ./blib/lib/
#  16: ./blib/arch/
#  17: <<SA>>/
#  18: <<SL>>/
#  19: <<PA>>/
#  20: <<PL>>/
#  21: ./
# 
# Sourcing markers:
#        PA: $Config{archlib}
#        PL: $Config{privlib}
#        SA: $Config{sitearch}
#        SL: $Config{sitelib}
#       BLL: ./blib/lib/
# 
# =============================
#        PL            5.70  AutoLoader                                                                      [ MD5: c414d772ebfdeac121a056c61f62b328 ]
#        PA            1.23  B                                                                               [ MD5: 6bb8e25d7888439ba1b92fb129e4ef64 ]
#  $INC[10]            0.24  B::Hooks::EndOfScope                                                            [ MD5: 3b9731e44ba19c730e41ef0865a9611a ]
#  $INC[10]            0.24  B::Hooks::EndOfScope::XS                                                        [ MD5: e329476ce9d632219d1448c8dd641a25 ]
#        PL            2.15  base                                                                            [ MD5: 1aa4780265c330160242060cd625febf ]
#        PL            1.04  bytes                                                                           [ MD5: d1dd254359351507b57b2271c382608a ]
#  $INC[10]            1.50  Carp                                                                            [ MD5: 01d59a664a69ffaed1bd0300ba0c7134 ]
#  $INC[10]            1.50  Carp::Heavy                                                                     [ MD5: e9735f342b2b84149a56cd1ac967130a ]
#  $INC[10]            0.51  Class::Accessor                                                                 [ MD5: a0a06301e39652deaee12c78d63dcc74 ]
#  $INC[10]                  Class::Accessor::Chained::Fast                                                  [ MD5: 544678632aaf294dc280944a83c509bc ]
#  $INC[10]            0.51  Class::Accessor::Fast                                                           [ MD5: d55e6349be3f027f1c5f6fa7eb833d8e ]
#  $INC[10]         0.10014  Class::Accessor::Grouped                                                        [ MD5: e62be17499d53d13f67a4361268aac40 ]
#  $INC[10]        1.001002  Class::C3::Componentised                                                        [ MD5: 2e92d4f7f9a7d2eda3cd1100583541a2 ]
#  $INC[10]            1.36  Class::Inspector                                                                [ MD5: 7aed0ce1dfc5dd2067632ea22fd2f483 ]
#        PL            0.63  Class::Struct                                                                   [ MD5: f147c95fe98e71c033b738292c7e205d ]
#   $INC[6]            1.19  Class::XSAccessor                                                               [ MD5: 0b7adfcc61192a80f97463e89d6d1696 ]
#   $INC[6]            1.19  Class::XSAccessor::Heavy                                                        [ MD5: db9379a668d6133fce801e4648cdef45 ]
#  $INC[10]           0.010  Clone::Choose                                                                   [ MD5: 884cece05d3959f067c7e20ed3d05cf5 ]
#        PA                  Config                                                                          [ MD5: 86aa3b29024c3244521daabfa55d8e07 ]
#        PL            1.20  constant                                                                        [ MD5: b83884dc214246412cc828fdd4a231f6 ]
#  $INC[10]            0.03  Context::Preserve                                                               [ MD5: 62155e2bc041508eff050250d74a0c38 ]
#        SA            3.75  Cwd                                                                             [ MD5: ac096f132d787b5c834fdf897d149650 ]
#        PA           2.125  Data::Dumper                                                                    [ MD5: 5a0bcd4940fc4a4e6f9aee591c6d9591 ]
#  $INC[10]           2.023  Data::Dumper::Concise                                                           [ MD5: b18cb47e46e385ccee825ac7e5e59d9e ]
#  $INC[10]            2.03  Data::Page                                                                      [ MD5: b1b86ef926254ee062c0ac6c00041135 ]
#   $INC[6]            1.64  DBD::SQLite                                                                     [ MD5: 51b8cd5b6a12afa6919700e9835df0cf ]
#   $INC[6]           1.642  DBI                                                                             [ MD5: 1fe9f7a88ed440a65d84bcf7d793296b ]
#       BLL     0.082841_01  DBIx::Class                                                                     [ MD5: ada0e597adf1ec94e5245a7f9855e91f ]
#  $INC[10]            0.14  Devel::GlobalDestruction                                                        [ MD5: fa8dcedeb9a8a3d29fbef7dfce342970 ]
#   $INC[6]            0.03  Devel::GlobalDestruction::XS                                                    [ MD5: 9005a7c43dd67a018a561172e7cbdcaa ]
#        PL            1.16  Digest::base                                                                    [ MD5: c46e2ebb720ee7d9c600ce5acbf34291 ]
#        PA            2.39  Digest::MD5                                                                     [ MD5: 4db60b135e236d5d2c12fc508e1b4119 ]
#        PA            1.10  DynaLoader                                                                      [ MD5: 978158ada09f3cb1299a44d2b988dab1 ]
#        PA            2.39  Encode                                                                          [ MD5: 83ad499b5d083bc81d44f7068f7e4abd ]
#        PA            2.12  Encode::Alias                                                                   [ MD5: a280bba83d09587d5d80abee16d2f65c ]
#        PA            2.05  Encode::Config                                                                  [ MD5: 7bdd1d8dffa8d3500086802451fc020d ]
#        PA            2.05  Encode::Encoding                                                                [ MD5: 8e9869e87ae57a6331f0af4a104f39b1 ]
#        PA            1.11  Errno                                                                           [ MD5: 31e78cdf712edbbdc4cbf72792bec1ad ]
#        PL         5.64_01  Exporter                                                                        [ MD5: b7b554fcef13162803c6f92986ed4760 ]
#        PL         5.64_01  Exporter::Heavy                                                                 [ MD5: 318e5dc1bffe6f768c454eaa1754e4df ]
#        SL            7.36  ExtUtils::Liblist                                                               [ MD5: 09f243be48bcd3c65ebe150c49d5c025 ]
#        SL            7.36  ExtUtils::Liblist::Kid                                                          [ MD5: bde583bc61909c52a54f2d2e3895f81d ]
#        SL            7.36  ExtUtils::MakeMaker                                                             [ MD5: da1d2512654001e9f28631885924d939 ]
#        SL            7.36  ExtUtils::MakeMaker::Config                                                     [ MD5: ce3c469ca881e6f098ea4dd40b6a9e17 ]
#        SL            7.36  ExtUtils::MakeMaker::Locale                                                     [ MD5: 290f693435741770026322b01605ae59 ]
#        SL            7.36  ExtUtils::MakeMaker::version                                                    [ MD5: b3e5716fe179a0962850609e300effc3 ]
#        SL            7.36  ExtUtils::MM                                                                    [ MD5: f066646feefed3b5518f40aec761d580 ]
#        SL            7.36  ExtUtils::MM_Any                                                                [ MD5: a7f7b7f517872888d85bc736886ac0b5 ]
#        SL            7.36  ExtUtils::MM_Unix                                                               [ MD5: 52547bd078fddba4235e879ae0f41dbd ]
#        SL            7.36  ExtUtils::MY                                                                    [ MD5: 7f75aaeb6e28c4e6f0e916bf8b3c0c2b ]
#        PA            1.06  Fcntl                                                                           [ MD5: d9316011e6b1817b63c07870889b7bb7 ]
#        PL            1.16  feature                                                                         [ MD5: cee0a8521af538d05c83821b07e9c850 ]
#        PL            2.78  File::Basename                                                                  [ MD5: 6fcc6ab127389ed18200b6b1e29c77d2 ]
#        PL            2.18  File::Copy                                                                      [ MD5: 061bf335eba59febf3bfcb324ba48358 ]
#        PL            1.15  File::Find                                                                      [ MD5: c848448c601c484332d8be9c33ebe9f6 ]
#        PA            1.07  File::Glob                                                                      [ MD5: 22e3571790e824be52b5cdb3b045666f ]
#        SL            2.16  File::Path                                                                      [ MD5: f99518263f74b3fd734893c5bbe2220b ]
#        SA            3.75  File::Spec                                                                      [ MD5: 60adab4a60c40a7115274bd9c0801425 ]
#        SA            3.75  File::Spec::Unix                                                                [ MD5: 64adb743d17fa746ca7c31eb21971eb7 ]
#        PL            1.02  File::stat                                                                      [ MD5: a037a903fa37cc08e4761b7346fa862e ]
#        SL          0.2309  File::Temp                                                                      [ MD5: 9710fcbc8911ae90f20b0c863ebfe79b ]
#                    0.2309  File::Temp::Dir                                                               ! -f $INC{'File/Temp/Dir.pm'}
#  $INC[10]           0.300  Hash::Merge                                                                     [ MD5: 6d88a0cad7f5b301c53a27491c664a53 ]
#        PA            0.03  I18N::Langinfo                                                                  [ MD5: f796cf4d1b241248751903e546004d4c ]
#        PL            1.00  integer                                                                         [ MD5: 4a9b2a5bdd05b8f12371f0bd13135b95 ]
#        PA         1.25_02  IO                                                                              [ MD5: e47d02036bf1d8c72fd42d146f6db1bd ]
#        PA            1.07  IO::Dir                                                                         [ MD5: 8e4f9f299b4e625225e8bac6a4c8fc59 ]
#        PA            1.14  IO::File                                                                        [ MD5: 25bd93e91d571ffaeafad336c7c03f1c ]
#        PA            1.28  IO::Handle                                                                      [ MD5: 09ceedbb6d36cbb4dd04c01ea3313266 ]
#        PA            1.10  IO::Seekable                                                                    [ MD5: f62813b55c062f449160100dca67d043 ]
#        SL            4.04  JSON::PP                                                                        [ MD5: f984f1141517300e20bce2639f285517 ]
#        SL            4.04  JSON::PP::Boolean                                                               [ MD5: 7bf4bd8aa770bc78895a2b38aa46f9a1 ]
#                      1.01  JSON::PP::IncrParser                                                          ! -f $INC{'JSON/PP/IncrParser.pm'}
#        PA            1.22  List::Util                                                                      [ MD5: da81c51fc4ff89c2d5d281fc7c0d3d23 ]
#        PL            1.00  locale                                                                          [ MD5: 4346d93140ea28c4c7f7db4d25b3d3f7 ]
#        PL         1.89_01  Math::BigInt                                                                    [ MD5: c50bd9811b8885b238ef498f1b49832e ]
#  $INC[10]                  Method::Generate::Accessor                                                      [ MD5: 9209197a79974c455fca96e01ae687fe ]
#  $INC[10]                  Method::Generate::Constructor                                                   [ MD5: 34ec0d8db3d6be1fef4b216a47ed3f40 ]
#  $INC[10]            0.09  Module::Implementation                                                          [ MD5: 2a146bb117cd6b798e2b928231799546 ]
#  $INC[10]           0.016  Module::Runtime                                                                 [ MD5: db1042b0f9341111c7f904480a82596a ]
#  $INC[10]        2.003006  Moo                                                                             [ MD5: 527fb450d0524b1130a359c693d8ea3d ]
#  $INC[10]                  Moo::Object                                                                     [ MD5: 454a78f98f0239ac4044db19f07e8567 ]
#  $INC[10]                  Moo::sification                                                                 [ MD5: 9ef3e1bfcf46a351c20ca221d490d99f ]
#        PA            1.02  mro                                                                             [ MD5: 3173dae0b981e387081f628ffe19058f ]
#  $INC[10]            0.13  MRO::Compat                                                                     [ MD5: 0e22f9bf6be934a1ef7ecc18c01ea6be ]
#  $INC[10]            0.27  namespace::clean                                                                [ MD5: f3e03f7f5f26391565d98357834e909b ]
#        PL            1.10  overload                                                                        [ MD5: 86507e6606980aeb8560eb0eee94690b ]
#        PL            0.01  overloading                                                                     [ MD5: c97d19228c8b13d308bcb6f2b5de0f06 ]
#  $INC[10]            0.38  Package::Stash                                                                  [ MD5: eb2d8bc231d6485055686fba89992d05 ]
#   $INC[6]            0.29  Package::Stash::XS                                                              [ MD5: fd533e932b5895d3a734d7f04ee3bf87 ]
#        PL           0.223  parent                                                                          [ MD5: 939bc389db5679789359c9575d89bd5a ]
#  $INC[10]            0.37  Path::Class                                                                     [ MD5: 62b3248e0d25291933a8d0f09e731547 ]
#  $INC[10]            0.37  Path::Class::Dir                                                                [ MD5: 9b7bd783037e1e812d6a82d62bcecb92 ]
#  $INC[10]            0.37  Path::Class::Entity                                                             [ MD5: 8e14d34b8f5a0909736e9bdaac460848 ]
#  $INC[10]            0.37  Path::Class::File                                                               [ MD5: b7f9029ac9e90dc1d509a95d12103c69 ]
#                  5.012001  perl                                                                            [ MD5: 90fbfa9fc1141a495ad81a1120f47a3f ]
#        PL            1.06  PerlIO                                                                          [ MD5: 49363ad40969f2bad7251738c8e03e5a ]
#        PA            1.19  POSIX                                                                           [ MD5: 54972836b29510c20cb63f6a83b9d6cf ]
#        PA            1.22  Scalar::Util                                                                    [ MD5: 7a6d36544ccea4d3193acc5f14f253d2 ]
#  $INC[10]            0.21  Scope::Guard                                                                    [ MD5: 914494bdeb65cd340f14eae265635cf2 ]
#        PL            1.02  SelectSaver                                                                     [ MD5: bddc465e351ad0508581b94ef112d322 ]
#  $INC[10]            1.91  SQL::Abstract::Classic                                                          [ MD5: 82c47bb99257b1225bb3576458e85992 ]
#  $INC[10]                  SQL::Abstract::Tree                                                             [ MD5: 4ebd475571c49fd341fd961558c89c7b ]
#  $INC[10]                  SQL::Abstract::Util                                                             [ MD5: 4599b28bcd164597e690650c495bd658 ]
#        SA            3.15  Storable                                                                        [ MD5: 69585bcc08511ae70e57bf21ba5725bd ]
#        PL            1.04  strict                                                                          [ MD5: 93ec0a10fdbf14b33c1c15447221e050 ]
#  $INC[10]        2.006006  Sub::Defer                                                                      [ MD5: d3942ab62222394a34d49d8a4e5d7e69 ]
#  $INC[10]        0.001013  Sub::Exporter::Progressive                                                      [ MD5: 5f37412f2438f87c7b088c7b2e6dd8ab ]
#   $INC[6]            0.26  Sub::Name                                                                       [ MD5: 9ffca0ac7776cb7653a81b85330b6b71 ]
#  $INC[10]        2.006006  Sub::Quote                                                                      [ MD5: 5601633673df930e47b212c2022b4eec ]
#        PL            1.07  Symbol                                                                          [ MD5: 083c3fe866ec1be9c84540b9ac8e6eee ]
#        SL        1.302164  Test2::API                                                                      [ MD5: 334a8ccf3bd78376314beb1a5aaa7af6 ]
#        SL        1.302164  Test2::API::Context                                                             [ MD5: dc2a449e99a9047b8a19fc70de5dcee4 ]
#        SL        1.302164  Test2::API::Instance                                                            [ MD5: 8204a7cffcdda158761e500b2f08e84e ]
#        SL        1.302164  Test2::API::Stack                                                               [ MD5: f13bf3bcf901fb4cfa184031692c2237 ]
#        SL        1.302164  Test2::Event                                                                    [ MD5: 1b7b606cdc23c4d71652dbdfc1c88585 ]
#        SL        1.302164  Test2::Event::Bail                                                              [ MD5: c56e5eaea2334fa6e11d2f62815162b5 ]
#        SL        1.302164  Test2::Event::Diag                                                              [ MD5: 6d4363530114de500d5451e30ed12959 ]
#        SL        1.302164  Test2::Event::Exception                                                         [ MD5: 1ad641a434d0265976c4c1ea71518401 ]
#        SL        1.302164  Test2::Event::Fail                                                              [ MD5: eeb21847dae4184bb40939bd04242976 ]
#        SL        1.302164  Test2::Event::Note                                                              [ MD5: c20ce350d28a0bd51eb09da600ababc6 ]
#        SL        1.302164  Test2::Event::Ok                                                                [ MD5: 3275d3ea01ec246f6c01ab6e184b19d2 ]
#        SL        1.302164  Test2::Event::Pass                                                              [ MD5: f8d9f8a9974b3c6400e0fea8faed21bc ]
#        SL        1.302164  Test2::Event::Plan                                                              [ MD5: 6dcbc93bc1c4b9e8ec1b5183a527e14b ]
#        SL        1.302164  Test2::Event::Skip                                                              [ MD5: 135f80127a45fd9c307df07c9f1a68cc ]
#        SL        1.302164  Test2::Event::Subtest                                                           [ MD5: 63673e13a44a9db678874152d8ffdb36 ]
#        SL        1.302164  Test2::Event::V2                                                                [ MD5: d3ec82b523aa614b2df5fdb7007ee2fc ]
#        SL        1.302164  Test2::Event::Waiting                                                           [ MD5: 4b7b7a3206cbbe69696912c9654c264d ]
#        SL        1.302164  Test2::EventFacet                                                               [ MD5: 52070d131f19bd394cb50bacd2ac0681 ]
#        SL        1.302164  Test2::EventFacet::About                                                        [ MD5: ad929045f67050ba8a3b3b6a4b3cb26a ]
#        SL        1.302164  Test2::EventFacet::Amnesty                                                      [ MD5: efde06772becb06dda87e7efa9ad0627 ]
#        SL        1.302164  Test2::EventFacet::Assert                                                       [ MD5: 22cfabe11616a0a1298385cb53fed25b ]
#        SL        1.302164  Test2::EventFacet::Control                                                      [ MD5: df35658076789cb4b9137bae4f440c42 ]
#        SL        1.302164  Test2::EventFacet::Error                                                        [ MD5: b7763a57b960510ca82cf37d7dd559c3 ]
#        SL        1.302164  Test2::EventFacet::Hub                                                          [ MD5: 2be14c384ffc6e119fd9833213295059 ]
#        SL        1.302164  Test2::EventFacet::Info                                                         [ MD5: f67e7a80a17cfb97471a8ec9fff9a2dd ]
#        SL        1.302164  Test2::EventFacet::Meta                                                         [ MD5: 5fad820bdf1a45f24fa881472d638788 ]
#        SL        1.302164  Test2::EventFacet::Parent                                                       [ MD5: 51d16b0102d99a75995cce1cf98aa3a0 ]
#        SL        1.302164  Test2::EventFacet::Plan                                                         [ MD5: 217add29e4b3edd4a299e0c042fd2444 ]
#        SL        1.302164  Test2::EventFacet::Trace                                                        [ MD5: 25dc3537005f07f93b578058a06f8263 ]
#        SL        1.302164  Test2::Formatter                                                                [ MD5: 2ddd3d77898836e6ccf8b24b15b0f1dc ]
#        SL        1.302164  Test2::Formatter::TAP                                                           [ MD5: 9d78c678d4055b26df2fb6040dd4e09b ]
#        SL        1.302164  Test2::Hub                                                                      [ MD5: 6e874cb92a12ed5acfb4eb82170e11ae ]
#        SL        1.302164  Test2::Hub::Interceptor                                                         [ MD5: 43d1d7232d6d8a4e7bdd754f88f1689b ]
#        SL        1.302164  Test2::Hub::Interceptor::Terminator                                             [ MD5: 36a70f02bf00e01a128e324df8a1a642 ]
#        SL        1.302164  Test2::Hub::Subtest                                                             [ MD5: eec623154a221565dd388057887e3431 ]
#        SL        1.302164  Test2::Util                                                                     [ MD5: dd7a91a23f80e379471c97e51546763a ]
#        SL        1.302164  Test2::Util::ExternalMeta                                                       [ MD5: efe529882f34540934e2f5186def3233 ]
#        SL        1.302164  Test2::Util::Facets2Legacy                                                      [ MD5: 72260a1939fa5e1412622be339e5d8a5 ]
#        SL        1.302164  Test2::Util::HashBase                                                           [ MD5: 5ac3be5cbc5fbfa8e52593b7f07d798b ]
#        SL        1.302164  Test2::Util::Trace                                                              [ MD5: f6049045a6e449fe95016752e4bf81b6 ]
#        SL        1.302164  Test::Builder                                                                   [ MD5: 9d32c650570cc033476b5053d9220dff ]
#        SL        1.302164  Test::Builder::Formatter                                                        [ MD5: 88cd21c15bbd916e5eeef93f5bef26d4 ]
#        SL        1.302164  Test::Builder::Module                                                           [ MD5: 7667ecdbfc72cef54d4a909944b48a48 ]
#        SL        1.302164  Test::Builder::TodoDiag                                                         [ MD5: bc24ecedea9fbbaca8e3325efdb23495 ]
#        SL        1.302164  Test::More                                                                      [ MD5: 0973883b1a4e8707f781ada0209aea2d ]
#        PL            1.03  Tie::Hash                                                                       [ MD5: 6ef02d1af9fbd41d3c932c015b817b43 ]
#        PA          1.9719  Time::HiRes                                                                     [ MD5: 74fca535dadf25847201a200567843f6 ]
#  $INC[10]            0.30  Try::Tiny                                                                       [ MD5: d89736db8fa61623ca85dcccd3678b4d ]
#        PL            1.08  utf8                                                                            [ MD5: 47b277da9c5158d1effb1390dd23e146 ]
#   $INC[6]            0.62  Variable::Magic                                                                 [ MD5: f799b01d18fef4f04032b0737bca868c ]
#        PL            1.01  vars                                                                            [ MD5: 1fdfc3c76657302be4a1bdae9280a8a0 ]
#        SA          0.9924  version                                                                         [ MD5: 6a2ea5f50139835f39590496dd5cd018 ]
#        SA          0.9924  version::regex                                                                  [ MD5: 1804cdcea69766fe0b4587f713779d20 ]
#        SA          0.9924  version::vxs                                                                    [ MD5: f7b0d12a2ac2ede57d12035e68c291ff ]
#        PL            1.09  warnings                                                                        [ MD5: b02bcf9c24ea205dc3ad28f19ce54c33 ]
#        PL            1.01  warnings::register                                                              [ MD5: 03e8278807eacf3a9bd227a13d1fd6ac ]
#        PL            0.10  XSLoader                                                                        [ MD5: a11f8884cd708f4280af9ece0994e8e8 ]
# =============================
# 
# List of loadable modules within both *OPTIONAL* and core dependency chains
# present on this system (modules sourced from ./blib, ./lib, ./t, and ./xt
# with versions identical to their parent namespace were omitted for brevity)
# 
#     *** Note that *MANY* of these modules will *NEVER* be loaded ***
#             *** during normal operation of DBIx::Class ***
# 
# 
t/00describe_environment.t .......................... ok
t/04_c3_mro.t ....................................... ok
t/05components.t .................................... ok
t/100extra_source.t ................................. ok
t/100populate.t ..................................... ok
t/101populate_rs.t .................................. ok
t/101source.t ....................................... ok
t/102load_classes.t ................................. ok
t/103many_to_many_warning.t ......................... ok
t/104view.t ......................................... ok
t/106dbic_carp.t .................................... ok
t/107obj_result_class.t ............................. ok
t/18insert_default.t ................................ ok
t/19retrieve_on_insert.t ............................ ok
t/20setuperrors.t ................................... ok
t/26dumper.t ........................................ ok
t/33exception_wrap.t ................................ ok
t/34exception_action.t .............................. ok
t/35exception_inaction.t ............................ ok
t/39load_namespaces_1.t ............................. ok
t/39load_namespaces_2.t ............................. ok
t/39load_namespaces_3.t ............................. ok
t/39load_namespaces_4.t ............................. ok
t/39load_namespaces_exception.t ..................... ok
t/39load_namespaces_rt41083.t ....................... ok
t/39load_namespaces_stress.t ........................ ok
t/40compose_connection.t ............................ ok
t/40resultsetmanager.t .............................. ok
t/46where_attribute.t ............................... ok
t/50fork.t .......................................... skipped: Test needs DBD::Pg (see DBIx::Class::Optional::Dependencies for details)
t/51threadnodb.t .................................... skipped: your perl does not support ithreads
t/51threads.t ....................................... skipped: your perl does not support ithreads
t/51threadtxn.t ..................................... skipped: your perl does not support ithreads
t/52leaks.t ......................................... ok
t/53lean_startup.t .................................. ok
t/55namespaces_cleaned.t ............................ ok
t/60core.t .......................................... ok
t/61findnot.t ....................................... ok
t/63register_class.t ................................ ok
t/63register_column.t ............................... ok
t/63register_source.t ............................... ok
t/64db.t ............................................ ok
t/65multipk.t ....................................... ok
t/67pager.t ......................................... ok
t/69update.t ........................................ ok
t/70auto.t .......................................... ok
t/71mysql.t ......................................... skipped: Set $ENV{DBICTEST_MYSQL_DSN}, _USER and _PASS to run this test
t/72pg.t ............................................ skipped: Set $ENV{DBICTEST_PG_DSN}, _USER and _PASS to run this test
t/72pg_bytea.t ...................................... skipped: Test needs DBD::Pg (see DBIx::Class::Optional::Dependencies for details)
t/73oracle.t ........................................ skipped: Set $ENV{DBICTEST_ORA_DSN}, _USER and _PASS to run this test.
t/73oracle_blob.t ................................... skipped: Set $ENV{DBICTEST_ORA_DSN}, _USER and _PASS to run this test.
t/73oracle_hq.t ..................................... skipped: Set $ENV{DBICTEST_ORA_DSN}, _USER and _PASS to run this test.
t/745db2.t .......................................... skipped: Set $ENV{DBICTEST_DB2_DSN}, _USER and _PASS to run this test
t/746db2_400.t ...................................... skipped: Set $ENV{DBICTEST_DB2_400_DSN}, _USER and _PASS to run this test
t/746mssql.t ........................................ skipped: Set $ENV{DBICTEST_MSSQL_ODBC_DSN}, _USER and _PASS to run this test
t/746sybase.t ....................................... skipped: Set $ENV{DBICTEST_SYBASE_DSN}, _USER and _PASS to run this test. Warning: This test drops and creates the tables: 'artist', 'money_test' and 'bindtype_test'
t/747mssql_ado.t .................................... skipped: Set $ENV{DBICTEST_MSSQL_ADO_DSN}, _USER and _PASS to run this test
t/748informix.t ..................................... skipped: Set $ENV{DBICTEST_INFORMIX_DSN}, _USER and _PASS to run this test
t/749sqlanywhere.t .................................. skipped: Set $ENV{DBICTEST_SQLANYWHERE_DSN} and/or $ENV{DBICTEST_SQLANYWHERE_ODBC_DSN},
t/74mssql.t ......................................... skipped: Set $ENV{DBICTEST_MSSQL_DSN}, _USER and _PASS to run this test
t/750firebird.t ..................................... skipped: Set $ENV{DBICTEST_FIREBIRD_DSN} and/or $ENV{DBICTEST_FIREBIRD_INTERBASE_DSN} and/or $ENV{DBICTEST_FIREBIRD_ODBC_DSN}, _USER and _PASS to run these tests. WARNING: this test creates and drops the tables "artist", "bindtype_test" and "sequence_test"; the generators "gen_artist_artistid", "pkid1_seq", "pkid2_seq" and "nonpkid_seq" and the trigger "artist_bi".
t/751msaccess.t ..................................... skipped: Set $ENV{DBICTEST_MSACCESS_ODBC_DSN} and/or $ENV{DBICTEST_MSACCESS_ADO_DSN} (and optionally _USER and _PASS) to run these tests.
t/752sqlite.t ....................................... ok
t/76joins.t ......................................... ok
t/76select.t ........................................ ok
t/77join_count.t .................................... ok
t/78self_referencial.t .............................. ok
t/79aliasing.t ...................................... ok
t/80unique.t ........................................ ok
t/82cascade_copy.t .................................. ok
t/83cache.t ......................................... ok
t/84serialize.t ..................................... ok
t/85utf8.t .......................................... ok
t/86might_have.t .................................... ok
t/86sqlt.t .......................................... skipped: Test needs SQL::Translator >= 0.11018 (see DBIx::Class::Optional::Dependencies for details)
t/87ordered.t ....................................... ok
t/88result_set_column.t ............................. ok
t/90ensure_class_loaded.t ........................... ok
t/90join_torture.t .................................. ok
t/91merge_joinpref_attr.t ........................... ok
t/93autocast.t ...................................... ok
t/93single_accessor_object.t ........................ ok
t/94pk_mutation.t ................................... ok
t/94versioning.t .................................... skipped: Set $ENV{DBICTEST_MYSQL_DSN}, _USER and _PASS to run this test
t/96_is_deteministic_value.t ........................ skipped: Test needs DateTime >= 0.55, DateTime::Format::Strptime >= 1.2
t/97result_class.t .................................. ok
t/99dbic_sqlt_parser.t .............................. skipped: Test needs SQL::Translator >= 0.11018 (see DBIx::Class::Optional::Dependencies for details)
t/admin/01load.t .................................... skipped: Test needs JSON::Any >= 1.23, Moose >= 0.98, MooseX::Types >= 0.21, MooseX::Types::JSON >= 0.02, MooseX::Types::LoadableClass >= 0.011, MooseX::Types::Path::Class >= 0.05 (see DBIx::Class::Optional::Dependencies for details)
t/admin/02ddl.t ..................................... skipped: Test needs JSON::Any >= 1.23, Moose >= 0.98, MooseX::Types >= 0.21, MooseX::Types::JSON >= 0.02, MooseX::Types::LoadableClass >= 0.011, MooseX::Types::Path::Class >= 0.05 (see DBIx::Class::Optional::Dependencies for details)
t/admin/03data.t .................................... skipped: Test needs JSON::Any >= 1.23, Moose >= 0.98, MooseX::Types >= 0.21, MooseX::Types::JSON >= 0.02, MooseX::Types::LoadableClass >= 0.011, MooseX::Types::Path::Class >= 0.05 (see DBIx::Class::Optional::Dependencies for details)
t/admin/10script.t .................................. skipped: Test needs Cpanel::JSON::XS, Getopt::Long::Descriptive >= 0.081, JSON, JSON::Any >= 1.31, JSON::DWIW, JSON::XS, Moose >= 0.98, MooseX::Types >= 0.21, MooseX::Types::JSON >= 0.02, MooseX::Types::LoadableClass >= 0.011, MooseX::Types::Path::Class >= 0.05, Text::CSV >= 1.16
t/cdbi/01-columns.t ................................. skipped: Class::DBI required for this test
t/cdbi/02-Film.t .................................... skipped: Class::DBI required for this test
t/cdbi/03-subclassing.t ............................. skipped: Class::DBI required for this test
t/cdbi/04-lazy.t .................................... skipped: Class::DBI required for this test
t/cdbi/06-hasa.t .................................... skipped: Class::DBI required for this test
t/cdbi/08-inheritcols.t ............................. skipped: Class::DBI required for this test
t/cdbi/09-has_many.t ................................ skipped: Class::DBI required for this test
t/cdbi/11-triggers.t ................................ skipped: Class::DBI required for this test
t/cdbi/12-filter.t .................................. skipped: Class::DBI required for this test
t/cdbi/13-constraint.t .............................. skipped: Class::DBI required for this test
t/cdbi/14-might_have.t .............................. skipped: Class::DBI required for this test
t/cdbi/15-accessor.t ................................ skipped: Class::DBI required for this test
t/cdbi/16-reserved.t ................................ skipped: Class::DBI required for this test
t/cdbi/18-has_a.t ................................... skipped: Class::DBI required for this test
t/cdbi/19-set_sql.t ................................. skipped: Class::DBI required for this test
t/cdbi/21-iterator.t ................................ skipped: Class::DBI required for this test
t/cdbi/22-deflate_order.t ........................... skipped: Class::DBI required for this test
t/cdbi/22-self_referential.t ........................ skipped: Class::DBI required for this test
t/cdbi/23-cascade.t ................................. skipped: Class::DBI required for this test
t/cdbi/24-meta_info.t ............................... skipped: Class::DBI required for this test
t/cdbi/26-mutator.t ................................. skipped: Class::DBI required for this test
t/cdbi/30-pager.t ................................... skipped: Class::DBI required for this test
t/cdbi/68-inflate_has_a.t ........................... skipped: Class::DBI required for this test
t/cdbi/70_implicit_inflate.t ........................ skipped: Test needs DateTime >= 0.55, DateTime::Format::SQLite, DateTime::Format::Strptime >= 1.2
t/cdbi/71_column_object.t ........................... skipped: The tested functionality is only available in Class::DBI >= 3.0.5
t/cdbi/98-failure.t ................................. skipped: Class::DBI required for this test
t/cdbi/abstract/search_where.t ...................... skipped: Class::DBI required for this test
t/cdbi/columns_as_hashes.t .......................... skipped: Class::DBI required for this test
t/cdbi/columns_dont_override_custom_accessors.t ..... skipped: Class::DBI required for this test
t/cdbi/construct.t .................................. skipped: Class::DBI required for this test
t/cdbi/copy.t ....................................... skipped: Class::DBI required for this test
t/cdbi/DeepAbstractSearch/01_search.t ............... skipped: Class::DBI required for this test
t/cdbi/early_column_heisenbug.t ..................... skipped: Class::DBI required for this test
t/cdbi/has_many_loads_foreign_class.t ............... skipped: Class::DBI required for this test
t/cdbi/hasa_without_loading.t ....................... skipped: Class::DBI required for this test
t/cdbi/max_min_value_of.t ........................... skipped: Class::DBI required for this test
t/cdbi/mk_group_accessors.t ......................... skipped: Class::DBI required for this test
t/cdbi/multi_column_set.t ........................... skipped: Class::DBI required for this test
t/cdbi/object_cache.t ............................... skipped: Class::DBI required for this test
t/cdbi/retrieve_from_sql_with_limit.t ............... skipped: Class::DBI required for this test
t/cdbi/set_to_undef.t ............................... skipped: Class::DBI required for this test
t/cdbi/set_vs_DateTime.t ............................ skipped: Class::DBI required for this test
t/cdbi/sweet/08pager.t .............................. skipped: Class::DBI required for this test
t/count/count_rs.t .................................. ok
t/count/distinct.t .................................. ok
t/count/group_by_func.t ............................. ok
t/count/grouped_pager.t ............................. ok
t/count/in_subquery.t ............................... ok
t/count/joined.t .................................... ok
t/count/prefetch.t .................................. ok
t/count/search_related.t ............................ ok
t/debug/bulk-insert.t ............................... ok
t/debug/core.t ...................................... ok
t/debug/no-repeats.t ................................ ok
t/debug/pretty.t .................................... skipped: Test needs JSON::Any >= 1.23
t/debug/show-progress.t ............................. ok
t/delete/cascade_missing.t .......................... ok
t/delete/complex.t .................................. ok
t/delete/m2m.t ...................................... ok
t/delete/related.t .................................. ok
t/discard_changes_in_DESTROY.t ...................... ok
t/inflate/core.t .................................... skipped: Inflation tests need DateTime >= 0.55, DateTime::Format::Strptime >= 1.2
t/inflate/datetime.t ................................ skipped: DT inflation tests need DateTime >= 0.55, DateTime::Format::SQLite, DateTime::Format::Strptime >= 1.2
t/inflate/datetime_determine_parser.t ............... skipped: Test needs DateTime >= 0.55, DateTime::Format::SQLite, DateTime::Format::Strptime >= 1.2
t/inflate/datetime_firebird.t ....................... skipped: Set $ENV{DBICTEST_FIREBIRD_DSN} and/or $ENV{DBICTEST_FIREBIRD_INTERBASE_DSN} and/or $ENV{DBICTEST_FIREBIRD_ODBC_DSN}, _USER and _PASS to run these tests. WARNING: This test drops and creates a table called 'event'
t/inflate/datetime_informix.t ....................... skipped: Test needs DateTime >= 0.55, DateTime::Format::Strptime >= 1.2 and
t/inflate/datetime_missing_deps.t ................... ok
t/inflate/datetime_msaccess.t ....................... skipped: Set $ENV{DBICTEST_MSACCESS_ODBC_DSN} and/or $ENV{DBICTEST_MSACCESS_ADO_DSN} (and optionally _USER and _PASS) to run these tests.
t/inflate/datetime_mssql.t .......................... skipped: Set $ENV{DBICTEST_MSSQL_ODBC_DSN} and/or $ENV{DBICTEST_MSSQL_DSN} and/or $ENV{DBICTEST_MSSQL_ADO_DSN} _USER and _PASS to run this test
t/inflate/datetime_mysql.t .......................... skipped: Inflation tests need DateTime >= 0.55, DateTime::Format::MySQL, DateTime::Format::Strptime >= 1.2
t/inflate/datetime_oracle.t ......................... skipped: Set $ENV{DBICTEST_ORA_DSN}, _USER and _PASS to run this test. Warning: This test drops and creates a table called 'event'
t/inflate/datetime_pg.t ............................. skipped: Test needs DateTime >= 0.55, DateTime::Format::Pg >= 0.16004, DateTime::Format::Strptime >= 1.2
t/inflate/datetime_sqlanywhere.t .................... skipped: Set $ENV{DBICTEST_SQLANYWHERE_DSN} and/or $ENV{DBICTEST_SQLANYWHERE_ODBC_DSN}
t/inflate/datetime_sybase.t ......................... skipped: Test needs DateTime >= 0.55, DateTime::Format::Strptime >= 1.2 and
t/inflate/file_column.t ............................. ok
t/inflate/hri.t ..................................... ok
t/inflate/hri_torture.t ............................. ok
t/inflate/serialize.t ............................... ok
t/multi_create/cd_single.t .......................... ok
t/multi_create/diamond.t ............................ ok
t/multi_create/existing_in_chain.t .................. ok
t/multi_create/find_or_multicreate.t ................ ok
t/multi_create/has_many.t ........................... ok
t/multi_create/in_memory.t .......................... ok
t/multi_create/insert_defaults.t .................... ok
t/multi_create/m2m.t ................................ ok
t/multi_create/multilev_single_PKeqFK.t ............. ok
t/multi_create/reentrance_count.t ................... skipped: Disable test entirely until multicreate is rewritten in terms of subqueries
t/multi_create/standard.t ........................... ok
t/multi_create/torture.t ............................ ok
t/ordered/cascade_delete.t .......................... ok
t/ordered/unordered_movement.t ...................... ok
t/prefetch/attrs_untouched.t ........................ ok
t/prefetch/correlated.t ............................. ok
t/prefetch/count.t .................................. ok
t/prefetch/diamond.t ................................ ok
t/prefetch/double_prefetch.t ........................ ok
t/prefetch/empty_cache.t ............................ ok
t/prefetch/false_colvalues.t ........................ ok
t/prefetch/grouped.t ................................ ok
t/prefetch/incomplete.t ............................. ok
t/prefetch/join_type.t .............................. ok
t/prefetch/lazy_cursor.t ............................ ok
t/prefetch/manual.t ................................. ok
t/prefetch/multiple_hasmany.t ....................... ok
t/prefetch/multiple_hasmany_torture.t ............... ok
t/prefetch/o2m_o2m_order_by_with_limit.t ............ ok
t/prefetch/one_to_many_to_one.t ..................... ok
t/prefetch/refined_search_on_relation.t ............. ok
t/prefetch/restricted_children_set.t ................ ok
t/prefetch/standard.t ............................... ok
t/prefetch/via_search_related.t ..................... ok
t/prefetch/with_limit.t ............................. ok
t/relationship/after_update.t ....................... ok
t/relationship/core.t ............................... ok
t/relationship/custom.t ............................. ok
t/relationship/custom_opaque.t ...................... ok
t/relationship/custom_with_null_in_cond.t ........... ok
t/relationship/doesnt_exist.t ....................... ok
t/relationship/dynamic_foreign_columns.t ............ ok
t/relationship/info.t ............................... ok
t/relationship/malformed_declaration.t .............. ok
t/relationship/proxy.t .............................. ok
t/relationship/set_column_on_fk.t ................... ok
t/relationship/unresolvable.t ....................... ok
t/relationship/update_or_create_multi.t ............. ok
t/relationship/update_or_create_single.t ............ ok
t/resultset/as_query.t .............................. ok
t/resultset/as_subselect_rs.t ....................... ok
t/resultset/bind_attr.t ............................. ok
t/resultset/find_on_subquery_cond.t ................. ok
t/resultset/inflate_result_api.t .................... ok
t/resultset/inflatemap_abuse.t ...................... ok
t/resultset/is_ordered.t ............................ ok
t/resultset/is_paged.t .............................. ok
t/resultset/nulls_only.t ............................ ok
t/resultset/plus_select.t ........................... ok
t/resultset/rowparser_internals.t ................... ok
t/resultset/update_delete.t ......................... ok
t/resultset_class.t ................................. ok
t/resultset_overload.t .............................. ok
t/resultsource/bare_resultclass_exception.t ......... ok
t/resultsource/set_primary_key.t .................... ok
t/row/copy_with_extra_selection.t ................... ok
t/row/filter_column.t ............................... ok
t/row/find_one_has_many.t ........................... ok
t/row/inflate_result.t .............................. ok
t/row/pkless.t ...................................... ok
t/row/set_extra_column.t ............................ ok
t/schema/anon.t ..................................... ok
t/schema/clone.t .................................... ok
t/search/deprecated_attributes.t .................... ok
t/search/distinct.t ................................. ok
t/search/empty_attrs.t .............................. ok
t/search/preserve_original_rs.t ..................... ok
t/search/reentrancy.t ............................... ok
t/search/related_has_many.t ......................... ok
t/search/related_strip_prefetch.t ................... ok
t/search/select_chains.t ............................ ok
t/search/select_chains_unbalanced.t ................. ok
t/search/stack_cond.t ............................... ok
t/search/subquery.t ................................. ok
t/search/void.t ..................................... ok
t/sqlmaker/bind_transport.t ......................... ok
t/sqlmaker/core.t ................................... ok
t/sqlmaker/core_quoted.t ............................ ok
t/sqlmaker/dbihacks_internals.t ..................... ok
t/sqlmaker/hierarchical/oracle.t .................... skipped: Test needs Math::Base36 >= 0.07
t/sqlmaker/legacy_joins.t ........................... ok
t/sqlmaker/limit_dialects/basic.t ................... ok
t/sqlmaker/limit_dialects/custom.t .................. ok
t/sqlmaker/limit_dialects/fetch_first.t ............. ok
t/sqlmaker/limit_dialects/first_skip.t .............. ok
t/sqlmaker/limit_dialects/generic_subq.t ............ ok
t/sqlmaker/limit_dialects/mssql_torture.t ........... ok
t/sqlmaker/limit_dialects/rno.t ..................... ok
t/sqlmaker/limit_dialects/rownum.t .................. ok
t/sqlmaker/limit_dialects/skip_first.t .............. ok
t/sqlmaker/limit_dialects/toplimit.t ................ ok
t/sqlmaker/limit_dialects/torture.t ................. ok
t/sqlmaker/literal_with_bind.t ...................... ok
t/sqlmaker/msaccess.t ............................... ok
t/sqlmaker/mysql.t .................................. ok
t/sqlmaker/nest_deprec.t ............................ ok
t/sqlmaker/oracle.t ................................. skipped: Test needs Math::Base36 >= 0.07
t/sqlmaker/oraclejoin.t ............................. skipped: Test needs Math::Base36 >= 0.07
t/sqlmaker/order_by_bindtransport.t ................. ok
t/sqlmaker/order_by_func.t .......................... ok
t/sqlmaker/pg.t ..................................... ok
t/sqlmaker/quotes.t ................................. ok
t/sqlmaker/rebase.t ................................. ok
t/sqlmaker/sqlite.t ................................. ok
t/storage/base.t .................................... ok
t/storage/cursor.t .................................. ok
t/storage/dbh_do.t .................................. ok
t/storage/dbi_coderef.t ............................. ok
t/storage/dbi_env.t ................................. ok
t/storage/deploy.t .................................. skipped: Test needs SQL::Translator >= 0.11018 (see DBIx::Class::Optional::Dependencies for details)
t/storage/deprecated_exception_source_bind_attrs.t .. ok
t/storage/disable_sth_caching.t ..................... ok
t/storage/error.t ................................... ok
t/storage/exception.t ............................... ok
t/storage/global_destruction.t ...................... ok
t/storage/nobindvars.t .............................. ok
t/storage/on_connect_call.t ......................... ok
t/storage/on_connect_do.t ........................... ok
t/storage/ping_count.t .............................. ok
t/storage/prefer_stringification.t .................. ok
t/storage/quote_names.t ............................. ok
t/storage/reconnect.t ............................... ok
t/storage/replicated.t .............................. skipped: Test needs Clone, Moose >= 0.98, MooseX::Types >= 0.21, MooseX::Types::LoadableClass >= 0.011, Test::Moose
t/storage/savepoints.t .............................. ok
t/storage/stats.t ................................... ok
t/storage/txn.t ..................................... ok
t/storage/txn_scope_guard.t ......................... ok
t/update/all.t ...................................... ok
t/update/ident_cond.t ............................... ok
t/update/type_aware.t ............................... ok
# 
# 
# 
# 208 contributors made this library what it is today
# 
# 
# Distinguished patrons:
#   * ( 2014 ~ 2015 ) Henry Van Styn, creator of http://p3rl.org/RapidApp
# 
# 
t/zzzzzzz_authors.t ................................. ok
t/zzzzzzz_perl_perf_bug.t ........................... skipped: Skipping as system appears to be a smoker
t/zzzzzzz_sqlite_deadlock.t ......................... ok
xt/authors.t ........................................ ok
xt/dbictest_unlink_guard.t .......................... ok
xt/footers.t ........................................ ok
xt/old_envvars.t .................................... ok
xt/optional_deps.t .................................. ok
xt/pod.t ............................................ skipped: Test needs: Test::Pod >= 1.42
xt/podcoverage.t .................................... skipped: Test needs: Pod::Coverage >= 0.20, Test::Pod::Coverage >= 1.08
xt/quote_sub.t ...................................... ok
xt/standalone_testschema_resultclasses.t ............ ok
xt/strictures.t ..................................... skipped: Test needs: Test::Strict >= 0.20
xt/whitespace.t ..................................... skipped: Test needs: Test::EOL >= 1.0, Test::NoTabs >= 0.9
All tests successful.

Test Summary Report
-------------------
t/sqlmaker/limit_dialects/generic_subq.t          (Wstat: 0 Tests: 19 Failed: 0)
  TODO passed:   9, 11, 13, 15, 17
Files=323, Tests=41289, 238 wallclock secs ( 1.84 usr  5.67 sys + 145.60 cusr 83.15 csys = 236.26 CPU)
Result: PASS


PREREQUISITES:

Here is a list of prerequisites you specified and versions we
managed to load:

	  Module Name                        Have     Want
	  Class::Accessor::Grouped        0.10014  0.10012
	  Class::C3::Componentised       1.001002   1.0009
	  Class::Inspector                   1.36     1.24
	  Config::Any                        0.32     0.20
	  Context::Preserve                  0.03     0.01
	  DBD::SQLite                        1.64     1.29
	  DBI                               1.642     1.57
	  Data::Dumper::Concise             2.023    2.020
	  Data::Page                         2.03     2.00
	  Devel::GlobalDestruction           0.14     0.09
	  ExtUtils::MakeMaker                7.36     6.59
	  File::Temp                       0.2309     0.22
	  Hash::Merge                       0.300     0.12
	  MRO::Compat                        0.13     0.12
	  Module::Find                       0.13     0.07
	  Moo                            2.003006    2.000
	  Package::Stash                     0.38     0.28
	  Path::Class                        0.37     0.18
	  SQL::Abstract::Classic             1.91     1.91
	  Scope::Guard                       0.21     0.03
	  Sub::Name                          0.26     0.04
	  Test::Deep                        1.128    0.101
	  Test::Exception                    0.43     0.31
	  Test::More                     1.302164     0.94
	  Test::Warn                         0.36     0.21
	  Text::Balanced                     2.02     2.00
	  Try::Tiny                          0.30     0.07
	  namespace::clean                   0.27     0.24

Perl module toolchain versions installed:
	Module Name                        Have
	CPANPLUS                         0.9178
	CPANPLUS::Dist::Build              0.90
	Cwd                                3.75
	ExtUtils::CBuilder             0.280231
	ExtUtils::Command                  7.36
	ExtUtils::Install                  2.14
	ExtUtils::MakeMaker                7.36
	ExtUtils::Manifest                 1.72
	ExtUtils::ParseXS                  3.35
	File::Spec                         3.75
	Module::Build                    0.4229
	Pod::Parser                        1.37
	Pod::Simple                        3.14
	Test2                          1.302164
	Test::Harness                      3.42
	Test::More                     1.302164
	version                          0.9924

******************************** NOTE ********************************
The comments above are created mechanically, possibly without manual
checking by the sender.  As there are many people performing automatic
tests on each upload to CPAN, it is likely that you will receive
identical messages about the same problem.

If you believe that the message is mistaken, please reply to the first
one with correction and/or additional informations, and do not take
it personally.  We appreciate your patience. :)
**********************************************************************

Additional comments:


This report was machine-generated by CPANPLUS::Dist::YACSmoke 1.08.
Powered by minismokebox version 0.68

CPANPLUS is prefering Build.PL

------------------------------
ENVIRONMENT AND OTHER CONTEXT
------------------------------

Environment variables:

    AUTOMATED_TESTING = 1
    NONINTERACTIVE_TESTING = 1
    PATH = /home/cpan/pit/64bit/conf/perl-5.12.1/.cpanplus/5.12.1/build/Sy0hj87hZk/DBIx-Class-0.082841_01/blib/script:/home/cpan/bin:/bin:/sbin:/usr/bin:/usr/sbin:/usr/X11R7/bin:/usr/pkg/bin:/usr/pkg/sbin:/usr/games:/usr/local/bin:/usr/local/sbin
    PERL5LIB = /home/cpan/pit/jail/ahObzqGqin/lib/perl5:/home/cpan/pit/64bit/conf/perl-5.12.1/.cpanplus/5.12.1/build/Sy0hj87hZk/DBIx-Class-0.082841_01/blib/lib:/home/cpan/pit/64bit/conf/perl-5.12.1/.cpanplus/5.12.1/build/Sy0hj87hZk/DBIx-Class-0.082841_01/blib/arch
    PERL5_CPANPLUS_IS_RUNNING = 782
    PERL5_CPANPLUS_IS_VERSION = 0.9178
    PERL5_MINISMOKEBOX = 0.68
    PERL5_YACSMOKE_BASE = /home/cpan/pit/64bit/conf/perl-5.12.1
    PERL_EXTUTILS_AUTOINSTALL = --defaultdeps
    PERL_LOCAL_LIB_ROOT = /home/cpan/pit/jail/ahObzqGqin
    PERL_MB_OPT = --install_base "/home/cpan/pit/jail/ahObzqGqin"
    PERL_MM_OPT = INSTALL_BASE=/home/cpan/pit/jail/ahObzqGqin
    PERL_MM_USE_DEFAULT = 1
    SHELL = /usr/pkg/bin/bash
    TERM = screen

Perl special variables (and OS-specific diagnostics, for MSWin32):

    Perl: $^X = /home/cpan/pit/64bit/perl-5.12.1/bin/perl
    UID:  $<  = 1001
    EUID: $>  = 1001
    GID:  $(  = 100 100
    EGID: $)  = 100 100


-------------------------------


--

Summary of my perl5 (revision 5 version 12 subversion 1) configuration:
   
  Platform:
    osname=netbsd, osvers=8.1, archname=i386-netbsd-64int
    uname='netbsd naboo.bingosnet.co.uk 8.1 netbsd 8.1 (generic) #0: fri may 31 08:43:59 utc 2019 mkrepro@mkrepro.netbsd.org:usrsrcsysarchi386compilegeneric i386 '
    config_args='-des -Dprefix=/home/cpan/pit/64bit/perl-5.12.1 -Duse64bitint'
    hint=recommended, useposix=true, d_sigaction=define
    useithreads=undef, usemultiplicity=undef
    useperlio=define, d_sfio=undef, uselargefiles=define, usesocks=undef
    use64bitint=define, use64bitall=undef, uselongdouble=undef
    usemymalloc=n, bincompat5005=undef
  Compiler:
    cc='cc', ccflags ='-fwrapv -fno-strict-aliasing -pipe -fstack-protector -I/usr/pkg/include',
    optimize='-O',
    cppflags='-fwrapv -fno-strict-aliasing -pipe -fstack-protector -I/usr/pkg/include'
    ccversion='', gccversion='5.5.0', gccosandvers=''
    intsize=4, longsize=4, ptrsize=4, doublesize=8, byteorder=12345678
    d_longlong=define, longlongsize=8, d_longdbl=define, longdblsize=12
    ivtype='long long', ivsize=8, nvtype='double', nvsize=8, Off_t='off_t', lseeksize=8
    alignbytes=4, prototype=define
  Linker and Libraries:
    ld='cc', ldflags =' -Wl,-rpath,/usr/pkg/lib -Wl,-rpath,/usr/local/lib -fstack-protector -L/usr/pkg/lib'
    libpth=/usr/pkg/lib /lib /usr/lib
    libs=-lgdbm -lm -lcrypt -lutil -lc -lposix
    perllibs=-lm -lcrypt -lutil -lc -lposix
    libc=/lib/libc.so, so=so, useshrplib=false, libperl=libperl.a
    gnulibc_version=''
  Dynamic Linking:
    dlsrc=dl_dlopen.xs, dlext=so, d_dlsymun=undef, ccdlflags='-Wl,-E '
    cccdlflags='-DPIC -fPIC ', lddlflags='-shared  -L/usr/pkg/lib -fstack-protector'


Characteristics of this binary (from libperl): 
  Compile-time options: PERL_DONT_CREATE_GVSV PERL_MALLOC_WRAP USE_64_BIT_INT
                        USE_LARGE_FILES USE_PERLIO USE_PERL_ATOF
  Locally applied patches:
	Devel::PatchPerl 1.64
  Built under netbsd
  Compiled at Aug  4 2019 19:55:07
  %ENV:
    PERL5LIB="/home/cpan/pit/jail/ahObzqGqin/lib/perl5:/home/cpan/pit/64bit/conf/perl-5.12.1/.cpanplus/5.12.1/build/Sy0hj87hZk/DBIx-Class-0.082841_01/blib/lib:/home/cpan/pit/64bit/conf/perl-5.12.1/.cpanplus/5.12.1/build/Sy0hj87hZk/DBIx-Class-0.082841_01/blib/arch"
    PERL5_CPANPLUS_IS_RUNNING="782"
    PERL5_CPANPLUS_IS_VERSION="0.9178"
    PERL5_MINISMOKEBOX="0.68"
    PERL5_YACSMOKE_BASE="/home/cpan/pit/64bit/conf/perl-5.12.1"
    PERL_EXTUTILS_AUTOINSTALL="--defaultdeps"
    PERL_LOCAL_LIB_ROOT="/home/cpan/pit/jail/ahObzqGqin"
    PERL_MB_OPT="--install_base "/home/cpan/pit/jail/ahObzqGqin""
    PERL_MM_OPT="INSTALL_BASE=/home/cpan/pit/jail/ahObzqGqin"
    PERL_MM_USE_DEFAULT="1"
  @INC:
    /home/cpan/pit/jail/ahObzqGqin/lib/perl5/5.12.1/i386-netbsd-64int
    /home/cpan/pit/jail/ahObzqGqin/lib/perl5/5.12.1
    /home/cpan/pit/jail/ahObzqGqin/lib/perl5/i386-netbsd-64int
    /home/cpan/pit/jail/ahObzqGqin/lib/perl5
    /home/cpan/pit/64bit/conf/perl-5.12.1/.cpanplus/5.12.1/build/Sy0hj87hZk/DBIx-Class-0.082841_01/blib/lib
    /home/cpan/pit/64bit/conf/perl-5.12.1/.cpanplus/5.12.1/build/Sy0hj87hZk/DBIx-Class-0.082841_01/blib/arch
    /home/cpan/pit/64bit/perl-5.12.1/lib/site_perl/5.12.1/i386-netbsd-64int
    /home/cpan/pit/64bit/perl-5.12.1/lib/site_perl/5.12.1
    /home/cpan/pit/64bit/perl-5.12.1/lib/5.12.1/i386-netbsd-64int
    /home/cpan/pit/64bit/perl-5.12.1/lib/5.12.1
    .