Catalyst-Authentication-Credential-HTTP v1.018 Perl 5 v5.31.2 x86_64-linux-thread-multi

Status
Pass
From
Carlos Guevara
Dist
Catalyst-Authentication-Credential-HTTP v1.018
Platform
Perl 5 v5.31.2 x86_64-linux-thread-multi
Date
2019-06-27 05:41:32
ID
3815ac0c-989e-11e9-8de7-0f4c08bb1f09
This distribution has been tested as part of the CPAN Testers
project, supporting the Perl programming language.  See
http://wiki.cpantesters.org/ for more information or email
questions to cpan-testers-discuss@perl.org


--
Dear Karen Etheridge,

This is a computer-generated report for Catalyst-Authentication-Credential-HTTP-1.018
on perl 5.31.2, created by CPAN-Reporter-1.2018.

Thank you for uploading your work to CPAN.  Congratulations!
All tests were successful.

Sections of this report:

    * Tester comments
    * Program output
    * Prerequisites
    * Environment and other context

------------------------------
TESTER COMMENTS
------------------------------

Additional comments from tester:

none provided

------------------------------
PROGRAM OUTPUT
------------------------------

Output from './Build test':

# 
# Versions for all modules listed in MYMETA.json (including optional ones):
# 
# === Configure Requires ===
# 
#     Module               Want  Have
#     ------------------- ----- -----
#     Module::Build::Tiny 0.034 0.039
# 
# === Test Requires ===
# 
#     Module                    Want       Have
#     ------------------------- ---- ----------
#     Catalyst::Controller       any      undef
#     File::Spec                 any       3.78
#     FindBin                    any       1.51
#     HTTP::Headers              any       6.18
#     HTTP::Request              any       6.18
#     Module::Metadata           any   1.000036
#     Test::Exception            any       0.43
#     Test::MockObject           any 1.20180705
#     Test::MockObject::Extends  any 1.20180705
#     Test::More                 any   1.302164
#     Test::Needs                any   0.002006
#     lib                        any       0.65
# 
# === Test Recommends ===
# 
#     Module         Want     Have
#     ---------- -------- --------
#     CPAN::Meta 2.120900 2.150010
# 
# === Runtime Requires ===
# 
#     Module                                            Want     Have
#     ---------------------------------------------- ------- --------
#     Catalyst                                           any  5.90124
#     Catalyst::Authentication::Credential::Password     any    undef
#     Catalyst::Plugin::Authentication               0.10005  0.10023
#     Class::Accessor::Fast                              any     0.51
#     Data::UUID                                        0.11    1.224
#     Digest::MD5                                        any     2.55
#     String::Escape                                     any 2010.002
#     URI::Escape                                        any     3.31
#     base                                               any     2.27
#     strict                                             any     1.11
#     warnings                                           any     1.45
# 
# === Other Modules ===
# 
#     Module        Have
#     ------------- ----
#     JSON::PP      4.02
#     Pod::Coverage 0.23
#     Sub::Name     0.21
#     YAML          1.29
#     autodie       2.29
# 
t/00-report-prereqs.t ....... ok
# Catalyst 5.90124
# Catalyst::Plugin::Authentication 0.10023
# Catalyst::Authentication::Credential::HTTP 1.018
t/00use.t ................... ok
t/basic.t ................... ok
t/live_app.t ................ skipped: Need Test::WWW::Mechanize::Catalyst 0.51
t/live_app_digest.t ......... skipped: Need Catalyst::Plugin::Cache, Test::WWW::Mechanize::Catalyst 0.51
t/live_app_digest_dotnet.t .. skipped: Need Catalyst::Plugin::Cache, Test::WWW::Mechanize::Catalyst 0.51
All tests successful.
Files=6, Tests=39,  3 wallclock secs ( 0.06 usr  0.02 sys +  2.53 cusr  0.28 csys =  2.89 CPU)
Result: PASS

------------------------------
PREREQUISITES
------------------------------

Prerequisite modules loaded:

requires:

    Module                                         Need    Have      
    ---------------------------------------------- ------- ----------
    base                                           0       2.27      
    Catalyst                                       0       5.90124   
    Catalyst::Authentication::Credential::Password 0       0         
    Catalyst::Plugin::Authentication               0.10005 0.10023   
    Class::Accessor::Fast                          0       0.51      
    Data::UUID                                     0.11    1.224     
    Digest::MD5                                    0       2.55      
    perl                                           5.006   5.031002  
    strict                                         0       1.11      
    String::Escape                                 0       2010.002  
    URI::Escape                                    0       3.31      
    warnings                                       0       1.45      

build_requires:

    Module                                         Need    Have      
    ---------------------------------------------- ------- ----------
    Catalyst::Controller                           0       0         
    File::Spec                                     0       3.78      
    FindBin                                        0       1.51      
    HTTP::Headers                                  0       6.18      
    HTTP::Request                                  0       6.18      
    lib                                            0       0.65      
    Module::Metadata                               0       1.000036  
    perl                                           5.006   5.031002  
    Test::Exception                                0       0.43      
    Test::MockObject                               0       1.20180705
    Test::MockObject::Extends                      0       1.20180705
    Test::More                                     0       1.302164  
    Test::Needs                                    0       0.002006  

configure_requires:

    Module                                         Need    Have      
    ---------------------------------------------- ------- ----------
    Module::Build::Tiny                            0.034   0.039     
    perl                                           5.006   5.031002  


------------------------------
ENVIRONMENT AND OTHER CONTEXT
------------------------------

Environment variables:

    LANG = en_US.UTF-8
    LC_ALL = C
    NONINTERACTIVE_TESTING = 1
    PATH = /home/cpan/bin/perl-blead/bin:/home/cpan/bin/perl-blead/bin:/home/cpan/bin:/home/cpan/bin:/usr/local/bin:/usr/bin:/usr/local/sbin:/usr/sbin
    PERL5LIB = 
    PERL5OPT = 
    PERL5_CPANPLUS_IS_RUNNING = 23084
    PERL5_CPAN_IS_RUNNING = 23084
    PERL_MM_USE_DEFAULT = 1
    PERL_USE_UNSAFE_INC = 1
    PERL_VERSION = blead
    SHELL = /bin/bash
    TERM = screen
    TMPDIR = /home/cpan/tmp

Perl special variables (and OS-specific diagnostics, for MSWin32):

    $^X = /home/cpan/bin/perl-blead/bin/perl5.31.2
    $UID/$EUID = 1001 / 1001
    $GID = 1001 1001
    $EGID = 1001 1001

Perl module toolchain versions installed:

    Module              Have    
    ------------------- --------
    CPAN                2.27    
    CPAN::Meta          2.150010
    Cwd                 3.78    
    ExtUtils::CBuilder  0.280232
    ExtUtils::Command   7.36    
    ExtUtils::Install   2.14    
    ExtUtils::MakeMaker 7.36    
    ExtUtils::Manifest  1.72    
    ExtUtils::ParseXS   3.40    
    File::Spec          3.78    
    JSON                4.02    
    JSON::PP            4.02    
    Module::Build       0.4229  
    Module::Signature   n/a     
    Parse::CPAN::Meta   2.150010
    Test::Harness       3.42    
    Test::More          1.302164
    YAML                1.29    
    YAML::Syck          1.31    
    version             0.9924  


--

Summary of my perl5 (revision 5 version 31 subversion 2) configuration:
  Commit id: c4d7a63389c79059f9f3d318c4166a3b11bb0974
  Platform:
    osname=linux
    osvers=5.1.11-200.fc29.x86_64
    archname=x86_64-linux-thread-multi
    uname='linux cjg-fedora29 5.1.11-200.fc29.x86_64 #1 smp mon jun 17 19:30:44 utc 2019 x86_64 x86_64 x86_64 gnulinux '
    config_args='-des -Dprefix=~/bin/perl-blead -Dscriptdir=~/bin/perl-blead/bin -Dusedevel -Duse64bitall -Duseithreads'
    hint=recommended
    useposix=true
    d_sigaction=define
    useithreads=define
    usemultiplicity=define
    use64bitint=define
    use64bitall=define
    uselongdouble=undef
    usemymalloc=n
    default_inc_excludes_dot=define
    bincompat5005=undef
  Compiler:
    cc='cc'
    ccflags ='-D_REENTRANT -D_GNU_SOURCE -fwrapv -fno-strict-aliasing -pipe -fstack-protector-strong -I/usr/local/include -D_LARGEFILE_SOURCE -D_FILE_OFFSET_BITS=64 -D_FORTIFY_SOURCE=2'
    optimize='-O2'
    cppflags='-D_REENTRANT -D_GNU_SOURCE -fwrapv -fno-strict-aliasing -pipe -fstack-protector-strong -I/usr/local/include'
    ccversion=''
    gccversion='8.3.1 20190223 (Red Hat 8.3.1-2)'
    gccosandvers=''
    intsize=4
    longsize=8
    ptrsize=8
    doublesize=8
    byteorder=12345678
    doublekind=3
    d_longlong=define
    longlongsize=8
    d_longdbl=define
    longdblsize=16
    longdblkind=3
    ivtype='long'
    ivsize=8
    nvtype='double'
    nvsize=8
    Off_t='off_t'
    lseeksize=8
    alignbytes=8
    prototype=define
  Linker and Libraries:
    ld='cc'
    ldflags =' -fstack-protector-strong -L/usr/local/lib'
    libpth=/usr/local/lib /usr/lib /lib/../lib64 /usr/lib/../lib64 /lib /lib64 /usr/lib64 /usr/local/lib64
    libs=-lpthread -ldl -lm -lcrypt -lutil -lc
    perllibs=-lpthread -ldl -lm -lcrypt -lutil -lc
    libc=libc-2.28.so
    so=so
    useshrplib=false
    libperl=libperl.a
    gnulibc_version='2.28'
  Dynamic Linking:
    dlsrc=dl_dlopen.xs
    dlext=so
    d_dlsymun=undef
    ccdlflags='-Wl,-E'
    cccdlflags='-fPIC'
    lddlflags='-shared -O2 -L/usr/local/lib -fstack-protector-strong'


Characteristics of this binary (from libperl): 
  Compile-time options:
    HAS_TIMES
    MULTIPLICITY
    PERLIO_LAYERS
    PERL_COPY_ON_WRITE
    PERL_DONT_CREATE_GVSV
    PERL_IMPLICIT_CONTEXT
    PERL_MALLOC_WRAP
    PERL_OP_PARENT
    PERL_PRESERVE_IVUV
    PERL_USE_DEVEL
    USE_64_BIT_ALL
    USE_64_BIT_INT
    USE_ITHREADS
    USE_LARGE_FILES
    USE_LOCALE
    USE_LOCALE_COLLATE
    USE_LOCALE_CTYPE
    USE_LOCALE_NUMERIC
    USE_LOCALE_TIME
    USE_PERLIO
    USE_PERL_ATOF
    USE_REENTRANT_API
    USE_THREAD_SAFE_LOCALE
  Built under linux
  Compiled at Jun 26 2019 19:10:17
  %ENV:
    PERL5LIB=""
    PERL5OPT=""
    PERL5_CPANPLUS_IS_RUNNING="23084"
    PERL5_CPAN_IS_RUNNING="23084"
    PERL_MM_USE_DEFAULT="1"
    PERL_USE_UNSAFE_INC="1"
    PERL_VERSION="blead"
  @INC:
    /home/cpan/bin/perl-blead/lib/site_perl/5.31.2/x86_64-linux-thread-multi
    /home/cpan/bin/perl-blead/lib/site_perl/5.31.2
    /home/cpan/bin/perl-blead/lib/5.31.2/x86_64-linux-thread-multi
    /home/cpan/bin/perl-blead/lib/5.31.2
    .