Back
From: metabase:user:0b91ce32-3676-11e1-a1bc-bfed0df65b4f
Subject: PASS POE-Component-UserBase-0.09 v5.8.8 GNU/Linux
Date: 2012-01-17T20:45:41Z
This distribution has been tested as part of the CPAN Testers
project, supporting the Perl programming language. See
http://wiki.cpantesters.org/ for more information or email
questions to cpan-testers-discuss@perl.org
--
Dear Jeff Goff,
This is a computer-generated report for POE-Component-UserBase-0.09
on perl 5.8.8, created by CPAN-Reporter-1.2002.
Thank you for uploading your work to CPAN. Congratulations!
All tests were successful.
Sections of this report:
* Tester comments
* Program output
* Prerequisites
* Environment and other context
------------------------------
TESTER COMMENTS
------------------------------
Additional comments from tester:
none provided
------------------------------
PROGRAM OUTPUT
------------------------------
Output from '/usr/bin/make test':
PERL_DL_NONLAZY=1 /usr/bin/perl "-MExtUtils::Command::MM" "-e" "test_harness(0, 'blib/lib', 'blib/arch')" t/*.t
t/01_basic.t .. ok
=== 31241 === a '_stop' event was sent from /usr/lib/perl5/site_perl/5.8.8/POE/Resource/Sessions.pm at 571 to session 1 (file_user_base) but session 1 (file_user_base) has neither a handler for it nor one for _default
t/02_file.t ... ok
t/03_dbi.t .... skipped: DBI is not installed
All tests successful.
Files=3, Tests=7, 0 wallclock secs ( 0.05 usr 0.02 sys + 0.54 cusr 0.13 csys = 0.74 CPU)
Result: PASS
------------------------------
PREREQUISITES
------------------------------
Prerequisite modules loaded:
requires:
Module Need Have
------------------- ---- -----
POE 0.11 1.350
Storable 1 2.30
build_requires:
Module Need Have
------------------- ---- -----
ExtUtils::MakeMaker 0 6.62
------------------------------
ENVIRONMENT AND OTHER CONTEXT
------------------------------
Environment variables:
LANG = en_US.UTF-8
PATH = /usr/kerberos/sbin:/usr/kerberos/bin:/usr/local/sbin:/usr/local/bin:/sbin:/bin:/usr/sbin:/usr/bin:/opt/real/RealPlayer:/root/bin:/opt/real/RealPlayer
PERL5LIB =
PERL5OPT =
PERL5_CPANPLUS_IS_RUNNING = 11188
PERL5_CPAN_IS_RUNNING = 11188
SHELL = /bin/bash
TERM = xterm
Perl special variables (and OS-specific diagnostics, for MSWin32):
$^X = /usr/bin/perl
$UID/$EUID = 0 / 0
$GID = 0 10 6 4 3 2 1 0
$EGID = 0 10 6 4 3 2 1 0
Perl module toolchain versions installed:
Module Have
------------------- --------
CPAN 1.9800
CPAN::Meta 2.113640
Cwd 3.33
ExtUtils::CBuilder 0.280202
ExtUtils::Command 1.17
ExtUtils::Install 1.54
ExtUtils::MakeMaker 6.62
ExtUtils::Manifest 1.60
ExtUtils::ParseXS 3.11
File::Spec 3.33
JSON 2.53
JSON::PP 2.27200
Module::Build 0.3800
Module::Signature 0.68
Parse::CPAN::Meta 1.4401
Test::Harness 3.23
Test::More 0.98
YAML 0.78
YAML::Syck 1.19
version 0.95
--
Summary of my perl5 (revision 5 version 8 subversion 8) configuration:
Platform:
osname=linux, osvers=2.6.9-34.elsmp, archname=i386-linux-thread-multi
uname='linux hs20-bc2-2.build.redhat.com 2.6.9-34.elsmp #1 smp fri feb 24 16:56:28 est 2006 i686 i686 i386 gnulinux '
config_args='-des -Doptimize=-O2 -g -pipe -Wall -Wp,-D_FORTIFY_SOURCE=2 -fexceptions -fstack-protector --param=ssp-buffer-size=4 -m32 -march=i386 -mtune=generic -fasynchronous-unwind-tables -Dversion=5.8.8 -Dmyhostname=localhost -Dperladmin=root@localhost -Dcc=gcc -Dcf_by=Red Hat, Inc. -Dinstallprefix=/usr -Dprefix=/usr -Darchname=i386-linux -Dvendorprefix=/usr -Dsiteprefix=/usr -Duseshrplib -Dusethreads -Duseithreads -Duselargefiles -Dd_dosuid -Dd_semctl_semun -Di_db -Ui_ndbm -Di_gdbm -Di_shadow -Di_syslog -Dman3ext=3pm -Duseperlio -Dinstallusrbinperl=n -Ubincompat5005 -Uversiononly -Dpager=/usr/bin/less -isr -Dd_gethostent_r_proto -Ud_endhostent_r_proto -Ud_sethostent_r_proto -Ud_endprotoent_r_proto -Ud_setprotoent_r_proto -Ud_endservent_r_proto -Ud_setservent_r_proto -Dinc_version_list=5.8.7 5.8.6 5.8.5 -Dscriptdir=/usr/bin'
hint=recommended, useposix=true, d_sigaction=define
usethreads=define use5005threads=undef useithreads=define usemultiplicity=define
useperlio=define d_sfio=undef uselargefiles=define usesocks=undef
use64bitint=undef use64bitall=undef uselongdouble=undef
usemymalloc=n, bincompat5005=undef
Compiler:
cc='gcc', ccflags ='-D_REENTRANT -D_GNU_SOURCE -fno-strict-aliasing -pipe -Wdeclaration-after-statement -I/usr/local/include -D_LARGEFILE_SOURCE -D_FILE_OFFSET_BITS=64 -I/usr/include/gdbm',
optimize='-O2 -g -pipe -Wall -Wp,-D_FORTIFY_SOURCE=2 -fexceptions -fstack-protector --param=ssp-buffer-size=4 -m32 -march=i386 -mtune=generic -fasynchronous-unwind-tables',
cppflags='-D_REENTRANT -D_GNU_SOURCE -fno-strict-aliasing -pipe -Wdeclaration-after-statement -I/usr/local/include -I/usr/include/gdbm'
ccversion='', gccversion='4.1.1 20060928 (Red Hat 4.1.1-28)', gccosandvers=''
intsize=4, longsize=4, ptrsize=4, doublesize=8, byteorder=1234
d_longlong=define, longlongsize=8, d_longdbl=define, longdblsize=12
ivtype='long', ivsize=4, nvtype='double', nvsize=8, Off_t='off_t', lseeksize=8
alignbytes=4, prototype=define
Linker and Libraries:
ld='gcc', ldflags =' -L/usr/local/lib'
libpth=/usr/local/lib /lib /usr/lib
libs=-lresolv -lnsl -lgdbm -ldb -ldl -lm -lcrypt -lutil -lpthread -lc
perllibs=-lresolv -lnsl -ldl -lm -lcrypt -lutil -lpthread -lc
libc=/lib/libc-2.5.so, so=so, useshrplib=true, libperl=libperl.so
gnulibc_version='2.5'
Dynamic Linking:
dlsrc=dl_dlopen.xs, dlext=so, d_dlsymun=undef, ccdlflags='-Wl,-E -Wl,-rpath,/usr/lib/perl5/5.8.8/i386-linux-thread-multi/CORE'
cccdlflags='-fPIC', lddlflags='-shared -O2 -g -pipe -Wall -Wp,-D_FORTIFY_SOURCE=2 -fexceptions -fstack-protector --param=ssp-buffer-size=4 -m32 -march=i386 -mtune=generic -fasynchronous-unwind-tables -L/usr/local/lib'
Characteristics of this binary (from libperl):
Compile-time options: MULTIPLICITY PERL_IMPLICIT_CONTEXT
PERL_MALLOC_WRAP USE_ITHREADS USE_LARGE_FILES
USE_PERLIO USE_REENTRANT_API
Built under linux
Compiled at Oct 3 2006 11:01:57
%ENV:
PERL5LIB=""
PERL5OPT=""
PERL5_CPANPLUS_IS_RUNNING="11188"
PERL5_CPAN_IS_RUNNING="11188"
@INC:
/usr/lib/perl5/site_perl/5.8.8/i386-linux-thread-multi
/usr/lib/perl5/site_perl/5.8.7/i386-linux-thread-multi
/usr/lib/perl5/site_perl/5.8.6/i386-linux-thread-multi
/usr/lib/perl5/site_perl/5.8.5/i386-linux-thread-multi
/usr/lib/perl5/site_perl/5.8.8
/usr/lib/perl5/site_perl/5.8.7
/usr/lib/perl5/site_perl/5.8.6
/usr/lib/perl5/site_perl/5.8.5
/usr/lib/perl5/site_perl
/usr/lib/perl5/vendor_perl/5.8.8/i386-linux-thread-multi
/usr/lib/perl5/vendor_perl/5.8.7/i386-linux-thread-multi
/usr/lib/perl5/vendor_perl/5.8.6/i386-linux-thread-multi
/usr/lib/perl5/vendor_perl/5.8.5/i386-linux-thread-multi
/usr/lib/perl5/vendor_perl/5.8.8
/usr/lib/perl5/vendor_perl/5.8.7
/usr/lib/perl5/vendor_perl/5.8.6
/usr/lib/perl5/vendor_perl/5.8.5
/usr/lib/perl5/vendor_perl
/usr/lib/perl5/5.8.8/i386-linux-thread-multi
/usr/lib/perl5/5.8.8
.