Report for Filter-Crypto-2.06

Back
From: metabase:user:30ae4450-2aae-11df-837a-5e0a49663a4f
Subject: PASS Filter-Crypto-2.06 v5.10.0 
Date: 2015-02-17T12:42:54Z

This distribution has been tested as part of the CPAN Testers
project, supporting the Perl programming language.  See
http://wiki.cpantesters.org/ for more information or email
questions to cpan-testers-discuss@perl.org


--
Dear Steve Hay,

This is a computer-generated report for Filter-Crypto-2.06
on perl 5.10.0, created by CPAN-Reporter-1.2010_01.

Thank you for uploading your work to CPAN.  Congratulations!
All tests were successful.

Sections of this report:

    * Tester comments
    * Program output
    * Prerequisites
    * Environment and other context

------------------------------
TESTER COMMENTS
------------------------------

Additional comments from tester:

this report is from an automated smoke testing program
and was not reviewed by a human for accuracy

------------------------------
PROGRAM OUTPUT
------------------------------

Output from 'C:\strawberry\c\bin\dmake.EXE test':

dmake:  Makefile:  line 425:  Warning: -- Macro `BOOTSTRAP' redefined after use
dmake:  Makefile:  line 424:  Warning: -- Macro `BOOTSTRAP' redefined after use
C:\strawberry\perl\bin\perl.exe "-MExtUtils::Command::MM" "-MTest::Harness" "-e" "undef *Test::Harness::Switches; test_harness(0, 'blib\lib', 'blib\arch')" t/*.t
t/01_imports_01.t .. ok
t/01_imports_02.t .. ok
t/01_imports_03.t .. ok
t/01_imports_04.t .. ok
t/02_function.t .... ok
t/03_script.t ...... ok
t/04_par.t ......... skipped: PAR::Filter required to test PAR::Filter::Crypto
t/05_errstr.t ...... ok
t/06_pod.t ......... ok
All tests successful.
Files=9, Tests=439, 32 wallclock secs ( 0.11 usr +  0.02 sys =  0.13 CPU)
Result: PASS
dmake.EXE:  makefile:  line 446:  Warning: -- Macro `BOOTSTRAP' redefined after use

------------------------------
PREREQUISITES
------------------------------

Prerequisite modules loaded:

requires:

    Module                Need     Have     
    --------------------- -------- ---------
    Exporter              0        5.68     
    Fcntl                 0        1.06     
    perl                  5.008001 5.010000 
    Scalar::Util          0        1.35     
    Text::ParseWords      0        3.27     
    XSLoader              0        0.10     

build_requires:

    Module                Need     Have     
    --------------------- -------- ---------
    blib                  0        1.03     
    Config                0        0        
    Cwd                   0        3.40     
    ExtUtils::MakeMaker   0        6.82     
    File::Copy            0        2.11     
    File::Spec::Functions 0        3.40     
    FindBin               0        1.49     
    perl                  5.008001 5.010000 
    strict                0        1.04     
    Test::More            0        1.001002 
    warnings              0        1.06     

configure_requires:

    Module                Need     Have     
    --------------------- -------- ---------
    Carp                  0        1.32     
    Config                0        0        
    constant              0        1.17     
    Cwd                   0        3.40     
    ExtUtils::MakeMaker   6.66     6.82     
    Fcntl                 0        1.06     
    File::Basename        0        2.76     
    File::Copy            0        2.11     
    File::Spec::Functions 0        3.40     
    Getopt::Long          0        2.42     
    perl                  5.008001 5.010000 
    Pod::Usage            1.15     1.63     
    strict                0        1.04     
    Text::Wrap            0        2013.0523
    warnings              0        1.06     


------------------------------
ENVIRONMENT AND OTHER CONTEXT
------------------------------

Environment variables:

    AUTOMATED_TESTING = 1
    COMSPEC = C:\WINDOWS\system32\cmd.exe
    NUMBER_OF_PROCESSORS = 1
    PATH = C:\Program Files\Far Manager\;C:\WINDOWS\system32;C:\WINDOWS;C:\WINDOWS\System32\Wbem;C:\strawberry\c\bin;C:\strawberry\perl\bin
    PERL5LIB = 
    PERL5OPT = 
    PERL5_CPANPLUS_IS_RUNNING = 12068
    PERL5_CPAN_IS_RUNNING = 12068
    PERL5_CPAN_IS_RUNNING_IN_RECURSION = 1672,12068
    PERL_CR_SMOKER_CURRENT = Filter-Crypto-2.06
    PERL_EXTUTILS_AUTOINSTALL = --defaultdeps
    PERL_MM_USE_DEFAULT = 1
    PROCESSOR_IDENTIFIER = x86 Family 18 Model 1 Stepping 0, AuthenticAMD
    TEMP = C:\DOCUME~1\c\LOCALS~1\Temp
    TERM = dumb

Perl special variables (and OS-specific diagnostics, for MSWin32):

    $^X = C:\strawberry\perl\bin\perl.exe
    $UID/$EUID = 0 / 0
    $GID = 0
    $EGID = 0
    Win32::GetOSName = WinXP/.Net
    Win32::GetOSVersion = Service Pack 3, 5, 1, 2600, 2, 3, 0, 256, 1
    Win32::FsType = NTFS
    Win32::IsAdminUser = 1

Perl module toolchain versions installed:

    Module              Have    
    ------------------- --------
    CPAN                2.00    
    CPAN::Meta          2.132830
    Cwd                 3.40    
    ExtUtils::CBuilder  0.280212
    ExtUtils::Command   1.16    
    ExtUtils::Install   1.54    
    ExtUtils::MakeMaker 6.82    
    ExtUtils::Manifest  1.60    
    ExtUtils::ParseXS   3.22    
    File::Spec          3.40    
    JSON                2.90    
    JSON::PP            2.27203 
    Module::Build       0.4202  
    Module::Signature   0.73    
    Parse::CPAN::Meta   1.4409  
    Test::Harness       3.30    
    Test::More          1.001002
    YAML                0.84    
    YAML::Syck          1.27    
    version             0.9904  


--

Summary of my perl5 (revision 5 version 10 subversion 0) configuration:
  Platform:
    osname=MSWin32, osvers=5.1, archname=MSWin32-x86-multi-thread
    uname='Win32 strawberryperl 5.10.0.6 #1 Wed Jul 29 22:19:01 2009 i386'
    config_args='undef'
    hint=recommended, useposix=true, d_sigaction=undef
    useithreads=define, usemultiplicity=define
    useperlio=define, d_sfio=undef, uselargefiles=define, usesocks=undef
    use64bitint=undef, use64bitall=undef, uselongdouble=undef
    usemymalloc=n, bincompat5005=undef
  Compiler:
    cc='gcc', ccflags =' -s -O2 -DWIN32 -DHAVE_DES_FCRYPT  -DPERL_IMPLICIT_CONTEXT -DPERL_IMPLICIT_SYS -fno-strict-aliasing -DPERL_MSVCRT_READFIX',
    optimize='-s -O2',
    cppflags='-DWIN32'
    ccversion='', gccversion='3.4.5', gccosandvers=''
    intsize=4, longsize=4, ptrsize=4, doublesize=8, byteorder=1234
    d_longlong=undef, longlongsize=8, d_longdbl=define, longdblsize=12
    ivtype='long', ivsize=4, nvtype='double', nvsize=8, Off_t='long long', lseeksize=8
    alignbytes=8, prototype=define
  Linker and Libraries:
    ld='g++', ldflags ='-s -L"C:\strawberry\perl\lib\CORE" -L"C:\strawberry\c\lib"'
    libpth=C:\strawberry\c\lib
    libs= -lmsvcrt -lmoldname -lkernel32 -luser32 -lgdi32 -lwinspool -lcomdlg32 -ladvapi32 -lshell32 -lole32 -loleaut32 -lnetapi32 -luuid -lws2_32 -lmpr -lwinmm -lversion -lodbc32 -lodbccp32
    perllibs= -lmsvcrt -lmoldname -lkernel32 -luser32 -lgdi32 -lwinspool -lcomdlg32 -ladvapi32 -lshell32 -lole32 -loleaut32 -lnetapi32 -luuid -lws2_32 -lmpr -lwinmm -lversion -lodbc32 -lodbccp32
    libc=-lmsvcrt, so=dll, useshrplib=true, libperl=libperl510.a
    gnulibc_version=''
  Dynamic Linking:
    dlsrc=dl_win32.xs, dlext=dll, d_dlsymun=undef, ccdlflags=' '
    cccdlflags=' ', lddlflags='-mdll -s -L"C:\strawberry\perl\lib\CORE" -L"C:\strawberry\c\lib"'


Characteristics of this binary (from libperl): 
  Compile-time options: MULTIPLICITY PERL_DONT_CREATE_GVSV
                        PERL_IMPLICIT_CONTEXT PERL_IMPLICIT_SYS
                        PERL_MALLOC_WRAP PL_OP_SLAB_ALLOC USE_ITHREADS
                        USE_LARGE_FILES USE_PERLIO
  Built under MSWin32
  Compiled at Jul 29 2009 22:37:03
  %ENV:
    PERL5_CPANPLUS_IS_RUNNING="12068"
    PERL5_CPAN_IS_RUNNING="12068"
    PERL5_CPAN_IS_RUNNING_IN_RECURSION="1672,12068"
    PERL_CR_SMOKER_CURRENT="Filter-Crypto-2.06"
    PERL_EXTUTILS_AUTOINSTALL="--defaultdeps"
    PERL_MM_USE_DEFAULT="1"
  @INC:
    C:/strawberry/perl/lib
    C:/strawberry/perl/site/lib
    .