Report for DateTime-Util-Astro-0.12000

Back
From: metabase:user:9820532a-708b-1014-9a05-b18a96298da1
Subject: PASS DateTime-Util-Astro-0.12000 v5.15.2 GNU/Linux
Date: 2011-09-15T14:15:53Z

This distribution has been tested as part of the CPAN Testers
project, supporting the Perl programming language.  See
http://wiki.cpantesters.org/ for more information or email
questions to cpan-testers-discuss@perl.org


--
Dear Daisuke Maki,

This is a computer-generated report for DateTime-Util-Astro-0.12000
on perl 5.15.2, created by CPAN-Reporter-1.2002.

Thank you for uploading your work to CPAN.  Congratulations!
All tests were successful.

Sections of this report:

    * Tester comments
    * Program output
    * Prerequisites
    * Environment and other context

------------------------------
TESTER COMMENTS
------------------------------

Additional comments from tester:

this report is from an automated smoke testing program
and was not reviewed by a human for accuracy

------------------------------
PROGRAM OUTPUT
------------------------------

Output from '/usr/bin/make test':

PERL_DL_NONLAZY=1 /home/bri/perl5/perlbrew/perls/perl-5.15.2/bin/perl5.15.2 "-MExtUtils::Command::MM" "-e" "test_harness(0, 'inc', 'blib/lib', 'blib/arch')" t/01-sanity.t t/02-new_moon.t t/03-solar_longitude.t t/99-pod-coverage.t t/99-pod.t t/rt31157.t
Use of qw(...) as parentheses is deprecated at /home/bri/.cpan/build/DateTime-Util-Astro-0.12000-1aydPl/blib/lib/DateTime/Util/Astro/Common.pm line 322.
t/01-sanity.t ........... ok
Use of qw(...) as parentheses is deprecated at /home/bri/.cpan/build/DateTime-Util-Astro-0.12000-1aydPl/blib/lib/DateTime/Util/Astro/Common.pm line 322.
Use of uninitialized value in pattern match (m//) at /home/bri/perl5/perlbrew/perls/perl-5.15.2/lib/5.15.2/Math/BigFloat.pm line 710.
Use of uninitialized value in string eq at /home/bri/perl5/perlbrew/perls/perl-5.15.2/lib/5.15.2/Math/BigFloat.pm line 713.
Use of uninitialized value in pattern match (m//) at /home/bri/perl5/perlbrew/perls/perl-5.15.2/lib/5.15.2/Math/BigFloat.pm line 722.
Use of uninitialized value in pattern match (m//) at /home/bri/perl5/perlbrew/perls/perl-5.15.2/lib/5.15.2/Math/BigFloat.pm line 710.
Use of uninitialized value in string eq at /home/bri/perl5/perlbrew/perls/perl-5.15.2/lib/5.15.2/Math/BigFloat.pm line 713.
Use of uninitialized value in pattern match (m//) at /home/bri/perl5/perlbrew/perls/perl-5.15.2/lib/5.15.2/Math/BigFloat.pm line 722.
Use of uninitialized value in pattern match (m//) at /home/bri/perl5/perlbrew/perls/perl-5.15.2/lib/5.15.2/Math/BigFloat.pm line 710.
Use of uninitialized value in string eq at /home/bri/perl5/perlbrew/perls/perl-5.15.2/lib/5.15.2/Math/BigFloat.pm line 713.
Use of uninitialized value in pattern match (m//) at /home/bri/perl5/perlbrew/perls/perl-5.15.2/lib/5.15.2/Math/BigFloat.pm line 722.
Use of uninitialized value in pattern match (m//) at /home/bri/perl5/perlbrew/perls/perl-5.15.2/lib/5.15.2/Math/BigFloat.pm line 710.
Use of uninitialized value in string eq at /home/bri/perl5/perlbrew/perls/perl-5.15.2/lib/5.15.2/Math/BigFloat.pm line 713.
Use of uninitialized value in pattern match (m//) at /home/bri/perl5/perlbrew/perls/perl-5.15.2/lib/5.15.2/Math/BigFloat.pm line 722.
Use of uninitialized value in pattern match (m//) at /home/bri/perl5/perlbrew/perls/perl-5.15.2/lib/5.15.2/Math/BigFloat.pm line 710.
Use of uninitialized value in string eq at /home/bri/perl5/perlbrew/perls/perl-5.15.2/lib/5.15.2/Math/BigFloat.pm line 713.
Use of uninitialized value in pattern match (m//) at /home/bri/perl5/perlbrew/perls/perl-5.15.2/lib/5.15.2/Math/BigFloat.pm line 722.
Use of uninitialized value in pattern match (m//) at /home/bri/perl5/perlbrew/perls/perl-5.15.2/lib/5.15.2/Math/BigFloat.pm line 710.
Use of uninitialized value in string eq at /home/bri/perl5/perlbrew/perls/perl-5.15.2/lib/5.15.2/Math/BigFloat.pm line 713.
Use of uninitialized value in pattern match (m//) at /home/bri/perl5/perlbrew/perls/perl-5.15.2/lib/5.15.2/Math/BigFloat.pm line 722.
Use of uninitialized value in pattern match (m//) at /home/bri/perl5/perlbrew/perls/perl-5.15.2/lib/5.15.2/Math/BigFloat.pm line 710.
Use of uninitialized value in string eq at /home/bri/perl5/perlbrew/perls/perl-5.15.2/lib/5.15.2/Math/BigFloat.pm line 713.
Use of uninitialized value in pattern match (m//) at /home/bri/perl5/perlbrew/perls/perl-5.15.2/lib/5.15.2/Math/BigFloat.pm line 722.
Use of uninitialized value in pattern match (m//) at /home/bri/perl5/perlbrew/perls/perl-5.15.2/lib/5.15.2/Math/BigFloat.pm line 710.
Use of uninitialized value in string eq at /home/bri/perl5/perlbrew/perls/perl-5.15.2/lib/5.15.2/Math/BigFloat.pm line 713.
Use of uninitialized value in pattern match (m//) at /home/bri/perl5/perlbrew/perls/perl-5.15.2/lib/5.15.2/Math/BigFloat.pm line 722.
Use of uninitialized value in pattern match (m//) at /home/bri/perl5/perlbrew/perls/perl-5.15.2/lib/5.15.2/Math/BigFloat.pm line 710.
Use of uninitialized value in string eq at /home/bri/perl5/perlbrew/perls/perl-5.15.2/lib/5.15.2/Math/BigFloat.pm line 713.
Use of uninitialized value in pattern match (m//) at /home/bri/perl5/perlbrew/perls/perl-5.15.2/lib/5.15.2/Math/BigFloat.pm line 722.
Use of uninitialized value in pattern match (m//) at /home/bri/perl5/perlbrew/perls/perl-5.15.2/lib/5.15.2/Math/BigFloat.pm line 710.
Use of uninitialized value in string eq at /home/bri/perl5/perlbrew/perls/perl-5.15.2/lib/5.15.2/Math/BigFloat.pm line 713.
Use of uninitialized value in pattern match (m//) at /home/bri/perl5/perlbrew/perls/perl-5.15.2/lib/5.15.2/Math/BigFloat.pm line 722.
Use of uninitialized value in pattern match (m//) at /home/bri/perl5/perlbrew/perls/perl-5.15.2/lib/5.15.2/Math/BigFloat.pm line 710.
Use of uninitialized value in string eq at /home/bri/perl5/perlbrew/perls/perl-5.15.2/lib/5.15.2/Math/BigFloat.pm line 713.
Use of uninitialized value in pattern match (m//) at /home/bri/perl5/perlbrew/perls/perl-5.15.2/lib/5.15.2/Math/BigFloat.pm line 722.
Use of uninitialized value in pattern match (m//) at /home/bri/perl5/perlbrew/perls/perl-5.15.2/lib/5.15.2/Math/BigFloat.pm line 710.
Use of uninitialized value in string eq at /home/bri/perl5/perlbrew/perls/perl-5.15.2/lib/5.15.2/Math/BigFloat.pm line 713.
Use of uninitialized value in pattern match (m//) at /home/bri/perl5/perlbrew/perls/perl-5.15.2/lib/5.15.2/Math/BigFloat.pm line 722.
Use of uninitialized value in pattern match (m//) at /home/bri/perl5/perlbrew/perls/perl-5.15.2/lib/5.15.2/Math/BigFloat.pm line 710.
Use of uninitialized value in string eq at /home/bri/perl5/perlbrew/perls/perl-5.15.2/lib/5.15.2/Math/BigFloat.pm line 713.
Use of uninitialized value in pattern match (m//) at /home/bri/perl5/perlbrew/perls/perl-5.15.2/lib/5.15.2/Math/BigFloat.pm line 722.
t/02-new_moon.t ......... ok
Use of qw(...) as parentheses is deprecated at /home/bri/.cpan/build/DateTime-Util-Astro-0.12000-1aydPl/blib/lib/DateTime/Util/Astro/Common.pm line 322.
t/03-solar_longitude.t .. ok
t/99-pod-coverage.t ..... skipped: Enable TEST_POD environment variable to test POD
t/99-pod.t .............. skipped: Enable TEST_POD environment variable to test POD
Use of qw(...) as parentheses is deprecated at /home/bri/.cpan/build/DateTime-Util-Astro-0.12000-1aydPl/blib/lib/DateTime/Util/Astro/Common.pm line 322.
t/rt31157.t ............. ok
All tests successful.
Files=6, Tests=81, 12 wallclock secs ( 0.06 usr  0.00 sys + 12.56 cusr  0.04 csys = 12.66 CPU)
Result: PASS

------------------------------
PREREQUISITES
------------------------------

Prerequisite modules loaded:

requires:

    Module                   Need Have   
    ------------------------ ---- -------
    Class::Data::Inheritable 0    0.08   
    DateTime                 0    0.70   
    DateTime::Util::Calc     0.13 0.13002
    Math::BigInt             0    1.997  
    Math::Trig               0    1.22   
    POSIX                    0    1.24   
    Test::More               0    0.98   

build_requires:

    Module                   Need Have   
    ------------------------ ---- -------
    ExtUtils::MakeMaker      0    6.59   


------------------------------
ENVIRONMENT AND OTHER CONTEXT
------------------------------

Environment variables:

    AUTOMATED_TESTING = 1
    LANG = C
    LANGUAGE = en_GB:en
    LC_ALL = C
    PATH = /home/bri/bin:/home/bri/perl5/perlbrew/bin:/home/bri/perl5/perlbrew/perls/perl-5.15.2/bin:~/bin:/usr/local/sbin:/usr/local/bin:/usr/sbin:/usr/bin:/sbin:/bin:/usr/games
    PATH_WITHOUT_PERLBREW = ~/bin:/usr/local/sbin:/usr/local/bin:/usr/sbin:/usr/bin:/sbin:/bin:/usr/games
    PERL5LIB = 
    PERL5OPT = 
    PERL5_CPANPLUS_IS_RUNNING = 24856
    PERL5_CPAN_IS_RUNNING = 24856
    PERL5_CPAN_IS_RUNNING_IN_RECURSION = 1892,24856
    PERLBREW_HOME = /home/bri/.perlbrew
    PERLBREW_PATH = /home/bri/perl5/perlbrew/bin:/home/bri/perl5/perlbrew/perls/perl-5.15.2/bin
    PERLBREW_PERL = perl-5.15.2
    PERLBREW_ROOT = /home/bri/perl5/perlbrew
    PERLBREW_VERSION = 0.28
    PERL_CPANM_OPT = --prompt --mirror http://172.16.1.3/cpan/
    PERL_CR_SMOKER_CURRENT = DateTime-Indic-0.1
    PERL_EXTUTILS_AUTOINSTALL = --defaultdeps
    PERL_MM_USE_DEFAULT = 1
    SHELL = /bin/bash
    TERM = linux

Perl special variables (and OS-specific diagnostics, for MSWin32):

    $^X = /home/bri/perl5/perlbrew/perls/perl-5.15.2/bin/perl5.15.2
    $UID/$EUID = 1000 / 1000
    $GID = 1000 4 20 24 46 112 120 122 1000
    $EGID = 1000 4 20 24 46 112 120 122 1000

Perl module toolchain versions installed:

    Module              Have    
    ------------------- --------
    CPAN                1.9800  
    CPAN::Meta          2.112150
    Cwd                 3.33    
    ExtUtils::CBuilder  0.280204
    ExtUtils::Command   1.17    
    ExtUtils::Install   1.54    
    ExtUtils::MakeMaker 6.59    
    ExtUtils::Manifest  1.60    
    ExtUtils::ParseXS   3.04    
    File::Spec          3.33    
    JSON                2.53    
    JSON::PP            2.27008 
    Module::Build       0.39_01 
    Module::Signature   n/a     
    Parse::CPAN::Meta   1.4401  
    Test::Harness       3.23    
    Test::More          0.98    
    YAML                0.73    
    YAML::Syck          n/a     
    version             0.94    


--

Summary of my perl5 (revision 5 version 15 subversion 2) configuration:
   
  Platform:
    osname=linux, osvers=2.6.38-11-generic, archname=i686-linux-ld
    uname='linux lappy 2.6.38-11-generic #48-ubuntu smp fri jul 29 19:05:14 utc 2011 i686 i686 i386 gnulinux '
    config_args='-de -Dprefix=/home/bri/perl5/perlbrew/perls/perl-5.15.2 -Duselongdouble -Dusedevel'
    hint=recommended, useposix=true, d_sigaction=define
    useithreads=undef, usemultiplicity=undef
    useperlio=define, d_sfio=undef, uselargefiles=define, usesocks=undef
    use64bitint=undef, use64bitall=undef, uselongdouble=define
    usemymalloc=n, bincompat5005=undef
  Compiler:
    cc='cc', ccflags ='-fno-strict-aliasing -pipe -fstack-protector -I/usr/local/include -D_LARGEFILE_SOURCE -D_FILE_OFFSET_BITS=64',
    optimize='-O2',
    cppflags='-fno-strict-aliasing -pipe -fstack-protector -I/usr/local/include'
    ccversion='', gccversion='4.5.2', gccosandvers=''
    intsize=4, longsize=4, ptrsize=4, doublesize=8, byteorder=1234
    d_longlong=define, longlongsize=8, d_longdbl=define, longdblsize=12
    ivtype='long', ivsize=4, nvtype='long double', nvsize=12, Off_t='off_t', lseeksize=8
    alignbytes=4, prototype=define
  Linker and Libraries:
    ld='cc', ldflags =' -fstack-protector -L/usr/local/lib'
    libpth=/usr/local/lib /lib /usr/lib /usr/lib/i386-linux-gnu /usr/lib64
    libs=-lnsl -ldl -lm -lcrypt -lutil -lc
    perllibs=-lnsl -ldl -lm -lcrypt -lutil -lc
    libc=, so=so, useshrplib=false, libperl=libperl.a
    gnulibc_version='2.13'
  Dynamic Linking:
    dlsrc=dl_dlopen.xs, dlext=so, d_dlsymun=undef, ccdlflags='-Wl,-E'
    cccdlflags='-fPIC', lddlflags='-shared -O2 -L/usr/local/lib -fstack-protector'


Characteristics of this binary (from libperl): 
  Compile-time options: HAS_TIMES PERLIO_LAYERS PERL_DONT_CREATE_GVSV
                        PERL_MALLOC_WRAP PERL_PRESERVE_IVUV PERL_USE_DEVEL
                        USE_LARGE_FILES USE_LOCALE USE_LOCALE_COLLATE
                        USE_LOCALE_CTYPE USE_LOCALE_NUMERIC USE_LONG_DOUBLE
                        USE_PERLIO USE_PERL_ATOF
  Built under linux
  Compiled at Sep 11 2011 17:13:20
  %ENV:
    PERL5LIB=""
    PERL5OPT=""
    PERL5_CPANPLUS_IS_RUNNING="24856"
    PERL5_CPAN_IS_RUNNING="24856"
    PERL5_CPAN_IS_RUNNING_IN_RECURSION="1892,24856"
    PERLBREW_HOME="/home/bri/.perlbrew"
    PERLBREW_PATH="/home/bri/perl5/perlbrew/bin:/home/bri/perl5/perlbrew/perls/perl-5.15.2/bin"
    PERLBREW_PERL="perl-5.15.2"
    PERLBREW_ROOT="/home/bri/perl5/perlbrew"
    PERLBREW_VERSION="0.28"
    PERL_CPANM_OPT="--prompt --mirror http://172.16.1.3/cpan/"
    PERL_CR_SMOKER_CURRENT="DateTime-Indic-0.1"
    PERL_EXTUTILS_AUTOINSTALL="--defaultdeps"
    PERL_MM_USE_DEFAULT="1"
  @INC:
    /home/bri/perl5/perlbrew/perls/perl-5.15.2/lib/site_perl/5.15.2/i686-linux-ld
    /home/bri/perl5/perlbrew/perls/perl-5.15.2/lib/site_perl/5.15.2
    /home/bri/perl5/perlbrew/perls/perl-5.15.2/lib/5.15.2/i686-linux-ld
    /home/bri/perl5/perlbrew/perls/perl-5.15.2/lib/5.15.2
    .