HTTP-Request-Generator v0.11 Perl 5 v5.30.3 amd64-freebsd-ld
- Status
- Pass
- From
- Slaven Rezić
- Dist
-
HTTP-Request-Generator v0.11
- Platform
- Perl 5 v5.30.3 amd64-freebsd-ld
- Date
- 2025-02-01 09:09:20
- ID
- 387e100e-e07c-11ef-adb6-fbd66d8775ea
This distribution has been tested as part of the CPAN Testers
project, supporting the Perl programming language. See
http://wiki.cpantesters.org/ for more information or email
questions to cpan-testers-discuss@perl.org
--
Dear Max Maischein,
This is a computer-generated report for HTTP-Request-Generator-0.11
on perl 5.30.3, created by CPAN-Reporter-1.2019.
Thank you for uploading your work to CPAN. Congratulations!
All tests were successful.
Sections of this report:
* Tester comments
* Program output
* Prerequisites
* Environment and other context
------------------------------
TESTER COMMENTS
------------------------------
Additional comments from tester:
none provided
------------------------------
PROGRAM OUTPUT
------------------------------
Output from '/usr/bin/make test':
PERL_DL_NONLAZY=1 "/usr/perl5.30.3Dp/bin/perl" "-MExtUtils::Command::MM" "-MTest::Harness" "-e" "undef *Test::Harness::Switches; test_harness(0, 'blib/lib', 'blib/arch')" t/00-load.t t/02-http-generator.t t/03-wrap-http-request.t t/03-wrap-plack.t t/03-wrap.t t/04-url-expansion.t
# Testing HTTP::Request::Generator 0.11, Perl 5.030003
# Algorithm::Loops 1.032
# Carp 1.50
# Config 5.030003
# Cwd 3.78
# Encode 3.21
# Encode::Alias 2.25
# Encode::Config 2.05
# Encode::Encoding 2.08
# Encode::MIME::Name 1.03
# Exporter 5.78
# Exporter::Heavy 5.78
# Exporter::Tiny 1.006002
# ExtUtils::Liblist 7.70
# ExtUtils::Liblist::Kid 7.70
# ExtUtils::MM 7.70
# ExtUtils::MM_Any 7.70
# ExtUtils::MM_Unix 7.70
# ExtUtils::MY 7.70
# ExtUtils::MakeMaker 7.70
# ExtUtils::MakeMaker::Config 7.70
# ExtUtils::MakeMaker::Locale 7.70
# ExtUtils::MakeMaker::version 7.70
# Fcntl 1.13
# File::Basename 2.85
# File::Glob 1.32
# File::Path 2.18
# File::Spec 3.78
# File::Spec::Unix 3.78
# Filter::Simple 0.95
# Filter::Util::Call 1.59
# Filter::signatures 0.19
# HTTP::Request::Generator 0.11
# I18N::Langinfo 0.18
# List::MoreUtils 0.430
# List::MoreUtils::PP 0.430
# List::MoreUtils::XS 0.430
# List::Util 1.68
# Scalar::Util 1.68
# Storable 3.25
# Test::Builder 1.302209
# Test::Builder::Formatter 1.302209
# Test::Builder::Module 1.302209
# Test::Builder::TodoDiag 1.302209
# Test::More 1.302209
# Test2::API 1.302209
# Test2::API::Context 1.302209
# Test2::API::Instance 1.302209
# Test2::API::Stack 1.302209
# Test2::Event 1.302209
# Test2::Event::Bail 1.302209
# Test2::Event::Diag 1.302209
# Test2::Event::Exception 1.302209
# Test2::Event::Fail 1.302209
# Test2::Event::Note 1.302209
# Test2::Event::Ok 1.302209
# Test2::Event::Pass 1.302209
# Test2::Event::Plan 1.302209
# Test2::Event::Skip 1.302209
# Test2::Event::Subtest 1.302209
# Test2::Event::V2 1.302209
# Test2::Event::Waiting 1.302209
# Test2::EventFacet 1.302209
# Test2::EventFacet::About 1.302209
# Test2::EventFacet::Amnesty 1.302209
# Test2::EventFacet::Assert 1.302209
# Test2::EventFacet::Control 1.302209
# Test2::EventFacet::Error 1.302209
# Test2::EventFacet::Hub 1.302209
# Test2::EventFacet::Info 1.302209
# Test2::EventFacet::Meta 1.302209
# Test2::EventFacet::Parent 1.302209
# Test2::EventFacet::Plan 1.302209
# Test2::EventFacet::Trace 1.302209
# Test2::Formatter 1.302209
# Test2::Formatter::TAP 1.302209
# Test2::Hub 1.302209
# Test2::Hub::Interceptor 1.302209
# Test2::Hub::Interceptor::Terminator 1.302209
# Test2::Hub::Subtest 1.302209
# Test2::Util 1.302209
# Test2::Util::ExternalMeta 1.302209
# Test2::Util::Facets2Legacy 1.302209
# Test2::Util::HashBase 1.302209
# Test2::Util::Trace 1.302209
# Text::Balanced 2.06
# Time::HiRes 1.9764
# URI 5.28
# URI::Escape 5.28
# XSLoader 0.30
# base 2.27
# bytes 1.07
# constant 1.33
# feature 1.54
# mro 1.22
# overload 1.30
# overloading 0.02
# parent 0.244
# re 0.37
# strict 1.11
# vars 1.05
# version 0.9924
# version::regex 0.9924
# warnings 1.44
# warnings::register 1.04
t/00-load.t ............... ok
t/02-http-generator.t ..... ok
t/03-wrap-http-request.t .. ok
t/03-wrap-plack.t ......... ok
t/03-wrap.t ............... ok
t/04-url-expansion.t ...... ok
All tests successful.
Files=6, Tests=67, 1 wallclock secs ( 0.03 usr 0.00 sys + 1.13 cusr 0.06 csys = 1.23 CPU)
Result: PASS
------------------------------
PREREQUISITES
------------------------------
Prerequisite modules loaded:
requires:
Module Need Have
------------------- ----- --------
Algorithm::Loops 0 1.032
Carp 0 1.50
Exporter 5 5.78
Filter::signatures 0 0.19
List::MoreUtils 0 0.430
perl 5.006 5.030003
URI 0 5.28
URI::Escape 0 5.28
build_requires:
Module Need Have
------------------- ----- --------
Data::Dumper 0 2.183
ExtUtils::MakeMaker 0 7.70
File::Spec 0 3.78
Test::More 0 1.302209
configure_requires:
Module Need Have
------------------- ----- --------
ExtUtils::MakeMaker 0 7.70
------------------------------
ENVIRONMENT AND OTHER CONTEXT
------------------------------
Environment variables:
PATH = /usr/local/bin:/usr/bin:/bin:/usr/local/sbin:/usr/sbin:/sbin:/home/cpansand/bin/sh:/home/cpansand/bin:/usr/games:/home/cpansand/devel:/usr/home/eserte/src/srezic-misc/scripts
PERL5LIB = /home/cpansand/.cpan/build/2025020107/Filter-signatures-0.19-1/blib/arch:/home/cpansand/.cpan/build/2025020107/Filter-signatures-0.19-1/blib/lib
PERL5OPT =
PERL5_CPANPLUS_IS_RUNNING = 3628
PERL5_CPAN_IS_RUNNING = 3628
PERL5_CPAN_IS_RUNNING_IN_RECURSION = 2388,3628
PERL_BATCH = yes
PERL_CANARY_STABILITY_NOPROMPT = 1
PERL_CPAN_REPORTER_CONFIG = /var/tmp/cpansmoker-1023/2025020107/cpanreporter_000_config.ini
PERL_EXTUTILS_AUTOINSTALL = --defaultdeps
PERL_USE_UNSAFE_INC = 1
SHELL = /bin/sh
TMPDIR = /var/tmp/cpansmoker-1023/2025020107
Perl special variables (and OS-specific diagnostics, for MSWin32):
$^X = /usr/perl5.30.3Dp/bin/perl
$UID/$EUID = 1023 / 1023
$GID = 1023 1023
$EGID = 1023 1023
Perl module toolchain versions installed:
Module Have
------------------- --------
CPAN 2.22
CPAN::Meta 2.150010
Cwd 3.78
ExtUtils::CBuilder 0.280236
ExtUtils::Command 7.70
ExtUtils::Install 2.22
ExtUtils::MakeMaker 7.70
ExtUtils::Manifest 1.75
ExtUtils::ParseXS 3.51
File::Spec 3.78
JSON 4.10
JSON::PP 4.16
Module::Build 0.4234
Module::Signature 0.88
Parse::CPAN::Meta 2.150010
Test2 1.302209
Test::Harness 3.50
Test::More 1.302209
YAML 1.31
YAML::Syck 1.34
version 0.9924
--
Summary of my perl5 (revision 5 version 30 subversion 3) configuration:
Platform:
osname=freebsd
osvers=13.3-stable
archname=amd64-freebsd-ld
uname='freebsd cloud10.bbbike.org 13.3-stable freebsd 13.3-stable stable13-b9e32d8c8f generic amd64 '
config_args='-ds -e -Dprefix=/usr/perl5.30.3Dp -Duselongdouble -Dcf_email=srezic@cpan.org -Doptimize=-O2 -pipe'
hint=recommended
useposix=true
d_sigaction=define
useithreads=undef
usemultiplicity=undef
use64bitint=define
use64bitall=define
uselongdouble=define
usemymalloc=n
default_inc_excludes_dot=define
bincompat5005=undef
Compiler:
cc='cc'
ccflags ='-DHAS_FPSETMASK -DHAS_FLOATINGPOINT_H -fno-strict-aliasing -pipe -fstack-protector-strong -I/usr/local/include'
optimize='-O2 -pipe'
cppflags='-DHAS_FPSETMASK -DHAS_FLOATINGPOINT_H -fno-strict-aliasing -pipe -fstack-protector-strong -I/usr/local/include'
ccversion=''
gccversion='FreeBSD Clang 17.0.6 (https://github.com/llvm/llvm-project.git llvmorg-17.0.6-0-g6009708b4367)'
gccosandvers=''
intsize=4
longsize=8
ptrsize=8
doublesize=8
byteorder=12345678
doublekind=3
d_longlong=define
longlongsize=8
d_longdbl=define
longdblsize=16
longdblkind=3
ivtype='long'
ivsize=8
nvtype='long double'
nvsize=16
Off_t='off_t'
lseeksize=8
alignbytes=16
prototype=define
Linker and Libraries:
ld='cc'
ldflags ='-pthread -Wl,-E -fstack-protector-strong -L/usr/local/lib'
libpth=/usr/lib /usr/local/lib /usr/lib/clang/17/lib /usr/lib
libs=-lpthread -lgdbm -ldl -lm -lcrypt -lutil -lc
perllibs=-lpthread -ldl -lm -lcrypt -lutil -lc
libc=
so=so
useshrplib=false
libperl=libperl.a
gnulibc_version=''
Dynamic Linking:
dlsrc=dl_dlopen.xs
dlext=so
d_dlsymun=undef
ccdlflags=' '
cccdlflags='-DPIC -fPIC'
lddlflags='-shared -L/usr/local/lib -fstack-protector-strong'
Characteristics of this binary (from libperl):
Compile-time options:
HAS_TIMES
PERLIO_LAYERS
PERL_COPY_ON_WRITE
PERL_DONT_CREATE_GVSV
PERL_MALLOC_WRAP
PERL_OP_PARENT
PERL_PRESERVE_IVUV
USE_64_BIT_ALL
USE_64_BIT_INT
USE_LARGE_FILES
USE_LOCALE
USE_LOCALE_COLLATE
USE_LOCALE_CTYPE
USE_LOCALE_NUMERIC
USE_LOCALE_TIME
USE_LONG_DOUBLE
USE_PERLIO
USE_PERL_ATOF
Built under freebsd
Compiled at Apr 9 2024 20:36:57
%ENV:
PERL5LIB="/home/cpansand/.cpan/build/2025020107/Filter-signatures-0.19-1/blib/arch:/home/cpansand/.cpan/build/2025020107/Filter-signatures-0.19-1/blib/lib"
PERL5OPT=""
PERL5_CPANPLUS_IS_RUNNING="3628"
PERL5_CPAN_IS_RUNNING="3628"
PERL5_CPAN_IS_RUNNING_IN_RECURSION="2388,3628"
PERL_BATCH="yes"
PERL_CANARY_STABILITY_NOPROMPT="1"
PERL_CPAN_REPORTER_CONFIG="/var/tmp/cpansmoker-1023/2025020107/cpanreporter_000_config.ini"
PERL_EXTUTILS_AUTOINSTALL="--defaultdeps"
PERL_USE_UNSAFE_INC="1"
@INC:
/home/cpansand/.cpan/build/2025020107/Filter-signatures-0.19-1/blib/arch
/home/cpansand/.cpan/build/2025020107/Filter-signatures-0.19-1/blib/lib
/usr/perl5.30.3Dp/lib/site_perl/5.30.3/amd64-freebsd-ld
/usr/perl5.30.3Dp/lib/site_perl/5.30.3
/usr/perl5.30.3Dp/lib/5.30.3/amd64-freebsd-ld
/usr/perl5.30.3Dp/lib/5.30.3
.