HTTP-Request-Generator v0.03 Perl 5 v5.18.2 x86_64-linux-thread-multi

Status
Pass
From
Nigel Horne
Dist
HTTP-Request-Generator v0.03
Platform
Perl 5 v5.18.2 x86_64-linux-thread-multi
Date
2018-12-17 09:07:47
ID
38abd38a-01db-11e9-aae8-de0f84b79659
This distribution has been tested as part of the CPAN Testers
project, supporting the Perl programming language.  See
http://wiki.cpantesters.org/ for more information or email
questions to cpan-testers-discuss@perl.org


--
Dear Max Maischein,

This is a computer-generated report for HTTP-Request-Generator-0.03
on perl 5.18.2, created by CPAN-Reporter-1.2018.

Thank you for uploading your work to CPAN.  Congratulations!
All tests were successful.

Sections of this report:

    * Tester comments
    * Program output
    * Prerequisites
    * Environment and other context

------------------------------
TESTER COMMENTS
------------------------------

Additional comments from tester:

this report is from an automated smoke testing program
and was not reviewed by a human for accuracy

------------------------------
PROGRAM OUTPUT
------------------------------

Output from '/usr/bin/make test':

PERL_DL_NONLAZY=1 "/home/njh/perl5/perlbrew/perls/perl-5.18.2/bin/perl" "-MExtUtils::Command::MM" "-MTest::Harness" "-e" "undef *Test::Harness::Switches; test_harness(0, 'blib/lib', 'blib/arch')" t/00-load.t t/02-http-generator.t t/03-wrap-http-request.t t/03-wrap-plack.t t/03-wrap.t t/04-url-expansion.t
# Testing HTTP::Request::Generator 0.03, Perl 5.018002
# Algorithm::Loops 1.032
# Carp 1.38
# Config 5.018002
# Cwd 3.75
# DynaLoader 1.18
# Encode 2.98
# Encode::Alias 2.24
# Encode::Config 2.05
# Encode::Encoding 2.08
# Encode::MIME::Name 1.03
# Exporter 5.72
# Exporter::Heavy 5.72
# Exporter::Tiny 1.000000
# ExtUtils::Liblist 7.34
# ExtUtils::Liblist::Kid 7.34
# ExtUtils::MM 7.34
# ExtUtils::MM_Any 7.34
# ExtUtils::MM_Unix 7.34
# ExtUtils::MY 7.34
# ExtUtils::MakeMaker 7.34
# ExtUtils::MakeMaker::Config 7.34
# ExtUtils::MakeMaker::Locale 7.34
# ExtUtils::MakeMaker::version 7.34
# Fcntl 1.11
# File::Basename 2.84
# File::Glob 1.20_01
# File::Path 2.15
# File::Spec 3.75
# File::Spec::Unix 3.75
# Filter::Simple 0.94
# Filter::Util::Call 1.58
# Filter::signatures 0.15
# HTTP::Request::Generator 0.03
# I18N::Langinfo 0.10
# IO 1.39
# IO::Handle 1.39
# List::MoreUtils 0.428
# List::MoreUtils::PP 0.428
# List::MoreUtils::XS 0.428
# List::Util 1.5
# POSIX 1.32
# PerlIO 1.07
# Scalar::Util 1.5
# SelectSaver 1.02
# SelfLoader 1.24
# Storable 3.11
# Storable::Limit <unknown>
# Symbol 1.07
# Test::Builder 1.302141
# Test::Builder::Formatter 1.302141
# Test::Builder::Module 1.302141
# Test::Builder::TodoDiag 1.302141
# Test::More 1.302141
# Test2::API 1.302141
# Test2::API::Context 1.302141
# Test2::API::Instance 1.302141
# Test2::API::Stack 1.302141
# Test2::Event 1.302141
# Test2::Event::Bail 1.302141
# Test2::Event::Diag 1.302141
# Test2::Event::Exception 1.302141
# Test2::Event::Fail 1.302141
# Test2::Event::Note 1.302141
# Test2::Event::Ok 1.302141
# Test2::Event::Pass 1.302141
# Test2::Event::Plan 1.302141
# Test2::Event::Skip 1.302141
# Test2::Event::Subtest 1.302141
# Test2::Event::V2 1.302141
# Test2::Event::Waiting 1.302141
# Test2::EventFacet 1.302141
# Test2::EventFacet::About 1.302141
# Test2::EventFacet::Amnesty 1.302141
# Test2::EventFacet::Assert 1.302141
# Test2::EventFacet::Control 1.302141
# Test2::EventFacet::Error 1.302141
# Test2::EventFacet::Hub 1.302141
# Test2::EventFacet::Info 1.302141
# Test2::EventFacet::Meta 1.302141
# Test2::EventFacet::Parent 1.302141
# Test2::EventFacet::Plan 1.302141
# Test2::EventFacet::Trace 1.302141
# Test2::Formatter 1.302141
# Test2::Formatter::TAP 1.302141
# Test2::Hub 1.302141
# Test2::Hub::Interceptor 1.302141
# Test2::Hub::Interceptor::Terminator 1.302141
# Test2::Hub::Subtest 1.302141
# Test2::Util 1.302141
# Test2::Util::ExternalMeta 1.302141
# Test2::Util::Facets2Legacy 1.302141
# Test2::Util::HashBase 1.302141
# Test2::Util::Trace 1.302141
# Text::Balanced 2.03
# Tie::Hash 1.04
# URI::Escape 3.31
# XSLoader 0.24
# base 2.23
# bytes 1.04
# constant 1.33
# feature 1.32
# mro 1.11
# overload 1.22
# overloading 0.02
# parent 0.236
# re 0.23
# strict 1.07
# vars 1.03
# version 0.9924
# version::regex 0.9924
# version::vxs 0.9924
# warnings 1.18
# warnings::register 1.02
t/00-load.t ............... ok
t/02-http-generator.t ..... ok
t/03-wrap-http-request.t .. ok
t/03-wrap-plack.t ......... ok
t/03-wrap.t ............... skipped: Couldn't load test prerequiste modules: Can't locate Dancer/Request.pm in @INC (you may need to install the Dancer::Request module) (@INC contains: /home/njh/.cpan/build/HTTP-Request-Generator-0.03-3/blib/lib /home/njh/.cpan/build/HTTP-Request-Generator-0.03-3/blib/arch /home/njh/.cpan/build/Filter-signatures-0.15-3/blib/arch /home/njh/.cpan/build/Filter-signatures-0.15-3/blib/lib /home/njh/.cpan/build/Algorithm-Loops-1.032-3/blib/arch /home/njh/.cpan/build/Algorithm-Loops-1.032-3/blib/lib /home/njh/.cpan/build/Filter-signatures-0.15-3/blib/arch /home/njh/.cpan/build/Filter-signatures-0.15-3/blib/lib /home/njh/.cpan/build/Algorithm-Loops-1.032-3/blib/arch /home/njh/.cpan/build/Algorithm-Loops-1.032-3/blib/lib /home/njh/perl5/perlbrew/perls/perl-5.18.2/lib/site_perl/5.18.2/x86_64-linux-thread-multi /home/njh/perl5/perlbrew/perls/perl-5.18.2/lib/site_perl/5.18.2 /home/njh/perl5/perlbrew/perls/perl-5.18.2/lib/5.18.2/x86_64-linux-thread-multi /home/njh/perl5/perlbrew/perls/perl-5.18.2/lib/5.18.2 .) at t/03-wrap.t line 11.
t/04-url-expansion.t ...... ok
All tests successful.
Files=6, Tests=32,  2 wallclock secs ( 0.02 usr  0.01 sys +  2.00 cusr  0.06 csys =  2.09 CPU)
Result: PASS

------------------------------
PREREQUISITES
------------------------------

Prerequisite modules loaded:

requires:

    Module              Need  Have    
    ------------------- ----- --------
    Algorithm::Loops    0     1.032   
    Exporter            5     5.72    
    Filter::signatures  0     0.15    
    List::MoreUtils     0     0.428   
    perl                5.006 5.018002
    URI::Escape         0     3.31    

build_requires:

    Module              Need  Have    
    ------------------- ----- --------
    Data::Dumper        0     2.173   
    ExtUtils::MakeMaker 0     7.34    
    Test::More          0     1.302141

configure_requires:

    Module              Need  Have    
    ------------------- ----- --------
    ExtUtils::MakeMaker 0     7.34    


------------------------------
ENVIRONMENT AND OTHER CONTEXT
------------------------------

Environment variables:

    AUTOMATED_TESTING = 1
    LANG = en_GB.UTF-8
    LANGUAGE = en_GB:en
    PATH = /home/njh/perl5/perlbrew/bin:/home/njh/perl5/perlbrew/perls/perl-5.18.2/bin:/home/njh/perl5/perlbrew/bin:/usr/bin:/bin
    PERL5LIB = /home/njh/.cpan/build/Filter-signatures-0.15-3/blib/arch:/home/njh/.cpan/build/Filter-signatures-0.15-3/blib/lib:/home/njh/.cpan/build/Algorithm-Loops-1.032-3/blib/arch:/home/njh/.cpan/build/Algorithm-Loops-1.032-3/blib/lib
    PERL5OPT = 
    PERL5_CPANPLUS_IS_RUNNING = 3841
    PERL5_CPAN_IS_RUNNING = 3841
    PERL5_MINISMOKEBOX = 0.68
    PERLBREW_LIB = 
    PERLBREW_MANPATH = /home/njh/perl5/perlbrew/perls/perl-5.18.2/man
    PERLBREW_PATH = /home/njh/perl5/perlbrew/bin:/home/njh/perl5/perlbrew/perls/perl-5.18.2/bin
    PERLBREW_PERL = perl-5.18.2
    PERLBREW_ROOT = /home/njh/perl5/perlbrew
    PERLBREW_SHELLRC_VERSION = 0.82
    PERLBREW_VERSION = 0.82
    PERL_EXTUTILS_AUTOINSTALL = --defaultdeps
    PERL_LOCAL_LIB_ROOT = 
    PERL_MM_USE_DEFAULT = 1
    SHELL = /bin/sh
    TEMP = /tmp/user/1000
    TMPDIR = /tmp/user/1000

Perl special variables (and OS-specific diagnostics, for MSWin32):

    $^X = /home/njh/perl5/perlbrew/perls/perl-5.18.2/bin/perl
    $UID/$EUID = 1000 / 1000
    $GID = 1000 4 24 25 29 30 44 46 108 112 1000
    $EGID = 1000 4 24 25 29 30 44 46 108 112 1000

Perl module toolchain versions installed:

    Module              Have    
    ------------------- --------
    CPAN                2.16    
    CPAN::Meta          2.150010
    Cwd                 3.75    
    ExtUtils::CBuilder  0.280230
    ExtUtils::Command   7.34    
    ExtUtils::Install   2.14    
    ExtUtils::MakeMaker 7.34    
    ExtUtils::Manifest  1.71    
    ExtUtils::ParseXS   3.35    
    File::Spec          3.75    
    JSON                2.97001 
    JSON::PP            2.97001 
    Module::Build       0.4224  
    Module::Signature   0.73    
    Parse::CPAN::Meta   2.150010
    Test::Harness       3.42    
    Test::More          1.302141
    YAML                1.27    
    YAML::Syck          1.31    
    version             0.9924  


--

Summary of my perl5 (revision 5 version 18 subversion 2) configuration:
   
  Platform:
    osname=linux, osvers=3.10-2-amd64, archname=x86_64-linux-thread-multi
    uname='linux nigelhorne.force9.co.uk 3.10-2-amd64 #1 smp debian 3.10.7-1 (2013-08-17) x86_64 gnulinux '
    config_args='-de -Dprefix=/home/njh/perl5/perlbrew/perls/perl-5.18.2 -Duseithreads -Dusemultiplicity -Accflags=-O2 -W -Wformat=2 -Wswitch -Wshadow -Wwrite-strings -Wuninitialized -Wall -pipe -mtune=native -march=native -fomit-frame-pointer -msse2 -msse -mmmx -mfpmath=sse -pedantic -D_FORTIFY_SOURCE=2 -Wpointer-arith -Wstrict-prototypes -fstack-protector -Wstack-protector -Wextra -Wbad-function-cast -Wcast-align -Wcast-qual -Wdisabled-optimization -Wendif-labels -Wfloat-equal -Wformat-nonliteral -Winline -Wmissing-declarations -Wmissing-prototypes -Wnested-externs -Wpointer-arith -Wundef -Wformat-security -ftree-vectorize -fassociative-math -ftree-vectorizer-verbose=1 -Aeval:scriptdir=/home/njh/perl5/perlbrew/perls/perl-5.18.2/bin'
    hint=recommended, useposix=true, d_sigaction=define
    useithreads=define, usemultiplicity=define
    useperlio=define, d_sfio=undef, uselargefiles=define, usesocks=undef
    use64bitint=define, use64bitall=define, uselongdouble=undef
    usemymalloc=n, bincompat5005=undef
  Compiler:
    cc='cc', ccflags ='-D_REENTRANT -D_GNU_SOURCE -O2 -W -Wformat=2 -Wswitch -Wshadow -Wwrite-strings -Wuninitialized -Wall -pipe -mtune=native -march=native -fomit-frame-pointer -msse2 -msse -mmmx -mfpmath=sse -pedantic -D_FORTIFY_SOURCE=2 -Wpointer-arith -Wstrict-prototypes -fstack-protector -Wstack-protector -Wextra -Wbad-function-cast -Wcast-align -Wcast-qual -Wdisabled-optimization -Wendif-labels -Wfloat-equal -Wformat-nonliteral -Winline -Wmissing-declarations -Wmissing-prototypes -Wnested-externs -Wpointer-arith -Wundef -Wformat-security -ftree-vectorize -fassociative-math -ftree-vectorizer-verbose=1 -fno-strict-aliasing -I/usr/local/include -D_LARGEFILE_SOURCE -D_FILE_OFFSET_BITS=64',
    optimize='-O2',
    cppflags='-D_REENTRANT -D_GNU_SOURCE -O2 -W -Wformat=2 -Wswitch -Wshadow -Wwrite-strings -Wuninitialized -Wall -pipe -mtune=native -march=native -fomit-frame-pointer -msse2 -msse -mmmx -mfpmath=sse -pedantic -D_FORTIFY_SOURCE=2 -Wpointer-arith -Wstrict-prototypes -fstack-protector -Wstack-protector -Wextra -Wbad-function-cast -Wcast-align -Wcast-qual -Wdisabled-optimization -Wendif-labels -Wfloat-equal -Wformat-nonliteral -Winline -Wmissing-declarations -Wmissing-prototypes -Wnested-externs -Wpointer-arith -Wundef -Wformat-security -ftree-vectorize -fassociative-math -ftree-vectorizer-verbose=1 -fno-strict-aliasing -I/usr/local/include'
    ccversion='', gccversion='4.8.2', gccosandvers=''
    intsize=4, longsize=8, ptrsize=8, doublesize=8, byteorder=12345678
    d_longlong=define, longlongsize=8, d_longdbl=define, longdblsize=16
    ivtype='long', ivsize=8, nvtype='double', nvsize=8, Off_t='off_t', lseeksize=8
    alignbytes=8, prototype=define
  Linker and Libraries:
    ld='cc', ldflags =' -fstack-protector -L/usr/local/lib'
    libpth=/usr/local/lib /lib/x86_64-linux-gnu /lib/../lib /usr/lib/x86_64-linux-gnu /usr/lib/../lib /lib /usr/lib
    libs=-lnsl -lgdbm -ldb -ldl -lm -lcrypt -lutil -lpthread -lc -lgdbm_compat
    perllibs=-lnsl -ldl -lm -lcrypt -lutil -lpthread -lc
    libc=, so=so, useshrplib=false, libperl=libperl.a
    gnulibc_version='2.17'
  Dynamic Linking:
    dlsrc=dl_dlopen.xs, dlext=so, d_dlsymun=undef, ccdlflags='-Wl,-E'
    cccdlflags='-fPIC', lddlflags='-shared -O2 -L/usr/local/lib -fstack-protector'


Characteristics of this binary (from libperl): 
  Compile-time options: HAS_TIMES MULTIPLICITY PERLIO_LAYERS
                        PERL_DONT_CREATE_GVSV
                        PERL_HASH_FUNC_ONE_AT_A_TIME_HARD
                        PERL_IMPLICIT_CONTEXT PERL_MALLOC_WRAP
                        PERL_PRESERVE_IVUV PERL_SAWAMPERSAND USE_64_BIT_ALL
                        USE_64_BIT_INT USE_ITHREADS USE_LARGE_FILES
                        USE_LOCALE USE_LOCALE_COLLATE USE_LOCALE_CTYPE
                        USE_LOCALE_NUMERIC USE_PERLIO USE_PERL_ATOF
                        USE_REENTRANT_API
  Built under linux
  Compiled at Jan 13 2014 13:31:17
  %ENV:
    PERL5LIB="/home/njh/.cpan/build/Filter-signatures-0.15-3/blib/arch:/home/njh/.cpan/build/Filter-signatures-0.15-3/blib/lib:/home/njh/.cpan/build/Algorithm-Loops-1.032-3/blib/arch:/home/njh/.cpan/build/Algorithm-Loops-1.032-3/blib/lib"
    PERL5OPT=""
    PERL5_CPANPLUS_IS_RUNNING="3841"
    PERL5_CPAN_IS_RUNNING="3841"
    PERL5_MINISMOKEBOX="0.68"
    PERLBREW_LIB=""
    PERLBREW_MANPATH="/home/njh/perl5/perlbrew/perls/perl-5.18.2/man"
    PERLBREW_PATH="/home/njh/perl5/perlbrew/bin:/home/njh/perl5/perlbrew/perls/perl-5.18.2/bin"
    PERLBREW_PERL="perl-5.18.2"
    PERLBREW_ROOT="/home/njh/perl5/perlbrew"
    PERLBREW_SHELLRC_VERSION="0.82"
    PERLBREW_VERSION="0.82"
    PERL_EXTUTILS_AUTOINSTALL="--defaultdeps"
    PERL_LOCAL_LIB_ROOT=""
    PERL_MM_USE_DEFAULT="1"
  @INC:
    /home/njh/.cpan/build/Filter-signatures-0.15-3/blib/arch
    /home/njh/.cpan/build/Filter-signatures-0.15-3/blib/lib
    /home/njh/.cpan/build/Algorithm-Loops-1.032-3/blib/arch
    /home/njh/.cpan/build/Algorithm-Loops-1.032-3/blib/lib
    /home/njh/perl5/perlbrew/perls/perl-5.18.2/lib/site_perl/5.18.2/x86_64-linux-thread-multi
    /home/njh/perl5/perlbrew/perls/perl-5.18.2/lib/site_perl/5.18.2
    /home/njh/perl5/perlbrew/perls/perl-5.18.2/lib/5.18.2/x86_64-linux-thread-multi
    /home/njh/perl5/perlbrew/perls/perl-5.18.2/lib/5.18.2
    .