Report for Shell-Guess-0.06

Back
From: metabase:user:5bbb2efa-715f-11e3-8cc1-b2993ff2e0c7
Subject: PASS Shell-Guess-0.06 v5.18.2 GNU/Linux
Date: 2015-02-15T14:09:14Z

This distribution has been tested as part of the CPAN Testers
project, supporting the Perl programming language.  See
http://wiki.cpantesters.org/ for more information or email
questions to cpan-testers-discuss@perl.org


--
Dear PLICEASE,

This is a computer-generated report for Shell-Guess-0.06
on perl 5.18.2, created by NX::cpanminus::reporter 0.10 (1.7001).

Thank you for uploading your work to CPAN.  Congratulations!
All tests were successful.

Sections of this report:

    * Tester comments
    * Program output
    * Prerequisites
    * Environment and other context

------------------------------
TESTER COMMENTS
------------------------------

Additional comments from tester:

none provided

------------------------------
PROGRAM OUTPUT
------------------------------

Output from '':

Building and testing Shell-Guess-0.06
Useless use of getppid in void context at inc/My/ModuleBuild.pm line 12.
Building Shell-Guess
Useless use of getppid in void context at inc/My/ModuleBuild.pm line 12.
# 
# 
# 
# HARNESS_ACTIVE=1
# HARNESS_VERSION=3.30
# LANG=en_US.utf8
# LC_COLLATE=C
# MANPATH_WITHOUT_PERLBREW=/home/ollisg/.perlbrew/libs/perl-5.18.2@dev/man:/usr/local/man:/usr/local/share/man:/usr/share/man
# PATH_WITHOUT_PERLBREW=/usr/local/bin:/usr/bin:/bin:/usr/bin/X11:/usr/games
# PERL5LIB=/home/ollisg/.cpanm/work/1424007243.11499/Shell-Guess-0.06/blib/lib:/home/ollisg/.cpanm/work/1424007243.11499/Shell-Guess-0.06/blib/arch:inc:/home/ollisg/.perlbrew/libs/perl-5.18.2@dev/lib/perl5/ppc64-linux:/home/ollisg/.perlbrew/libs/perl-5.18.2@dev/lib/perl5:/home/ollisg/.perlbrew/libs/perl-5.18.2@dev/lib/perl5
# PERLBREW_CSHRC_VERSION=0.67
# PERLBREW_HOME=/home/ollisg/.perlbrew
# PERLBREW_LIB=dev
# PERLBREW_MANPATH=/home/ollisg/.perlbrew/libs/perl-5.18.2@dev/man:/home/ollisg/perl5/perlbrew/perls/perl-5.18.2/man
# PERLBREW_PATH=/home/ollisg/.perlbrew/libs/perl-5.18.2@dev/bin:/home/ollisg/perl5/perlbrew/bin:/home/ollisg/perl5/perlbrew/perls/perl-5.18.2/bin
# PERLBREW_PERL=perl-5.18.2
# PERLBREW_ROOT=/home/ollisg/perl5/perlbrew
# PERLBREW_VERSION=0.67
# PERL_CPANM_OPT=--mirror http://mirror.sydney.wdlabs.com/cpan/ --mirror-only
# PERL_DL_NONLAZY=1
# PERL_LOCAL_LIB_ROOT=/home/ollisg/.perlbrew/libs/perl-5.18.2@dev
# PERL_MB_OPT=--install_base /home/ollisg/.perlbrew/libs/perl-5.18.2@dev
# PERL_MM_OPT=INSTALL_BASE=/home/ollisg/.perlbrew/libs/perl-5.18.2@dev
# PERL_MM_USE_DEFAULT=1
# SHELL=/bin/tcsh
# 
# 
# 
# PERL5LIB path
# /home/ollisg/.cpanm/work/1424007243.11499/Shell-Guess-0.06/blib/lib
# /home/ollisg/.cpanm/work/1424007243.11499/Shell-Guess-0.06/blib/arch
# inc
# /home/ollisg/.perlbrew/libs/perl-5.18.2@dev/lib/perl5/ppc64-linux
# /home/ollisg/.perlbrew/libs/perl-5.18.2@dev/lib/perl5
# /home/ollisg/.perlbrew/libs/perl-5.18.2@dev/lib/perl5
# 
# 
# 
# perl                 v5.18.2
# Module::Build        0.4205
# Test::More           1.001002
# Unix::Process        -
# Win32::Getppid       0.01
# Win32::Process::List -
# 
# 
# 
t/00_diag.t ........ ok
t/guess_login.t .... ok
t/guess_running.t .. ok
t/os_dos.t ......... skipped: DOS only test
t/os_proc.t ........ ok
t/os_vms.t ......... skipped: VMS only test
t/os_win32.t ....... skipped: windows only test
t/shell_bash.t ..... ok
t/shell_bourne.t ... ok
t/shell_c.t ........ ok
t/shell_cmd.t ...... ok
t/shell_command.t .. ok
t/shell_dcl.t ...... ok
t/shell_fish.t ..... ok
t/shell_korn.t ..... ok
t/shell_power.t .... ok
t/shell_tc.t ....... ok
t/shell_z.t ........ ok
t/use.t ............ ok
All tests successful.
Files=19, Tests=185,  2 wallclock secs ( 0.18 usr  0.06 sys +  1.20 cusr  0.26 csys =  1.70 CPU)
Result: PASS

------------------------------
PREREQUISITES
------------------------------

Prerequisite modules loaded:

    No requirements found

------------------------------
ENVIRONMENT AND OTHER CONTEXT
------------------------------

Environment variables:

    LANG = en_US.utf8
    LC_COLLATE = C
    MANPATH_WITHOUT_PERLBREW = /home/ollisg/.perlbrew/libs/perl-5.18.2@dev/man:/usr/local/man:/usr/local/share/man:/usr/share/man
    PATH = /home/ollisg/.perlbrew/libs/perl-5.18.2@dev/bin:/home/ollisg/perl5/perlbrew/bin:/home/ollisg/perl5/perlbrew/perls/perl-5.18.2/bin:/usr/local/bin:/usr/bin:/bin:/usr/bin/X11:/usr/games
    PATH_WITHOUT_PERLBREW = /usr/local/bin:/usr/bin:/bin:/usr/bin/X11:/usr/games
    PERL5LIB = /home/ollisg/.perlbrew/libs/perl-5.18.2@dev/lib/perl5
    PERLBREW_CSHRC_VERSION = 0.67
    PERLBREW_HOME = /home/ollisg/.perlbrew
    PERLBREW_LIB = dev
    PERLBREW_MANPATH = /home/ollisg/.perlbrew/libs/perl-5.18.2@dev/man:/home/ollisg/perl5/perlbrew/perls/perl-5.18.2/man
    PERLBREW_PATH = /home/ollisg/.perlbrew/libs/perl-5.18.2@dev/bin:/home/ollisg/perl5/perlbrew/bin:/home/ollisg/perl5/perlbrew/perls/perl-5.18.2/bin
    PERLBREW_PERL = perl-5.18.2
    PERLBREW_ROOT = /home/ollisg/perl5/perlbrew
    PERLBREW_VERSION = 0.67
    PERL_CPANM_OPT = --mirror http://mirror.sydney.wdlabs.com/cpan/ --mirror-only
    PERL_LOCAL_LIB_ROOT = /home/ollisg/.perlbrew/libs/perl-5.18.2@dev
    PERL_MB_OPT = --install_base /home/ollisg/.perlbrew/libs/perl-5.18.2@dev
    PERL_MM_OPT = INSTALL_BASE=/home/ollisg/.perlbrew/libs/perl-5.18.2@dev
    SHELL = /bin/tcsh
    TERM = xterm

Perl special variables (and OS-specific diagnostics, for MSWin32):

    EGID = 1000 24 25 27 29 30 44 46 104 107 109 1000
    EUID = 1000
    EXECUTABLE_NAME = /home/ollisg/perl5/perlbrew/perls/perl-5.18.2/bin/perl
    GID = 1000 24 25 27 29 30 44 46 104 107 109 1000
    UID = 1000

Perl module toolchain versions installed:

    Module              Have    
    ------------------- --------
    CPAN                2.00    
    CPAN::Meta          2.143240
    Cwd                 3.40    
    ExtUtils::CBuilder  0.280212
    ExtUtils::Command   1.18    
    ExtUtils::Install   1.59    
    ExtUtils::MakeMaker 6.88    
    ExtUtils::Manifest  1.70    
    ExtUtils::ParseXS   3.22    
    File::Spec          3.40    
    JSON                2.90    
    JSON::PP            2.27203 
    Module::Build       0.4205  
    Module::Signature   n/a     
    Parse::CPAN::Meta   1.4414  
    Test::Harness       3.30    
    Test::More          1.001002
    YAML                0.89    
    YAML::Syck          n/a     
    version             0.9908  


--

Summary of my perl5 (revision 5 version 18 subversion 2) configuration:
   
  Platform:
    osname=linux, osvers=3.2.0-4-powerpc64, archname=ppc64-linux
    uname='linux figment 3.2.0-4-powerpc64 #1 smp debian 3.2.46-1 ppc64 gnulinux '
    config_args='-de -Dprefix=/home/ollisg/perl5/perlbrew/perls/perl-5.18.2 -Aeval:scriptdir=/home/ollisg/perl5/perlbrew/perls/perl-5.18.2/bin'
    hint=recommended, useposix=true, d_sigaction=define
    useithreads=undef, usemultiplicity=undef
    useperlio=define, d_sfio=undef, uselargefiles=define, usesocks=undef
    use64bitint=undef, use64bitall=undef, uselongdouble=undef
    usemymalloc=n, bincompat5005=undef
  Compiler:
    cc='cc', ccflags ='-fno-strict-aliasing -pipe -fstack-protector -I/usr/local/include -D_LARGEFILE_SOURCE -D_FILE_OFFSET_BITS=64',
    optimize='-O1',
    cppflags='-fno-strict-aliasing -pipe -fstack-protector -I/usr/local/include'
    ccversion='', gccversion='4.6.3', gccosandvers=''
    intsize=4, longsize=4, ptrsize=4, doublesize=8, byteorder=4321
    d_longlong=define, longlongsize=8, d_longdbl=define, longdblsize=16
    ivtype='long', ivsize=4, nvtype='double', nvsize=8, Off_t='off_t', lseeksize=8
    alignbytes=8, prototype=define
  Linker and Libraries:
    ld='cc', ldflags =' -fstack-protector -L/usr/local/lib'
    libpth=/usr/local/lib /lib/powerpc-linux-gnu /lib/../lib /usr/lib/powerpc-linux-gnu /usr/lib/../lib /lib /usr/lib
    libs=-lnsl -ldl -lm -lcrypt -lutil -lc
    perllibs=-lnsl -ldl -lm -lcrypt -lutil -lc
    libc=, so=so, useshrplib=false, libperl=libperl.a
    gnulibc_version='2.13'
  Dynamic Linking:
    dlsrc=dl_dlopen.xs, dlext=so, d_dlsymun=undef, ccdlflags='-Wl,-E'
    cccdlflags='-fPIC', lddlflags='-shared -O1 -L/usr/local/lib -fstack-protector'


Characteristics of this binary (from libperl): 
  Compile-time options: HAS_TIMES PERLIO_LAYERS PERL_DONT_CREATE_GVSV
                        PERL_HASH_FUNC_ONE_AT_A_TIME_HARD PERL_MALLOC_WRAP
                        PERL_PRESERVE_IVUV PERL_SAWAMPERSAND USE_LARGE_FILES
                        USE_LOCALE USE_LOCALE_COLLATE USE_LOCALE_CTYPE
                        USE_LOCALE_NUMERIC USE_PERLIO USE_PERL_ATOF
  Built under linux
  Compiled at Feb  9 2014 19:14:50
  %ENV:
    PERL5LIB="/home/ollisg/.perlbrew/libs/perl-5.18.2@dev/lib/perl5"
    PERLBREW_CSHRC_VERSION="0.67"
    PERLBREW_HOME="/home/ollisg/.perlbrew"
    PERLBREW_LIB="dev"
    PERLBREW_MANPATH="/home/ollisg/.perlbrew/libs/perl-5.18.2@dev/man:/home/ollisg/perl5/perlbrew/perls/perl-5.18.2/man"
    PERLBREW_PATH="/home/ollisg/.perlbrew/libs/perl-5.18.2@dev/bin:/home/ollisg/perl5/perlbrew/bin:/home/ollisg/perl5/perlbrew/perls/perl-5.18.2/bin"
    PERLBREW_PERL="perl-5.18.2"
    PERLBREW_ROOT="/home/ollisg/perl5/perlbrew"
    PERLBREW_VERSION="0.67"
    PERL_CPANM_OPT="--mirror http://mirror.sydney.wdlabs.com/cpan/ --mirror-only"
    PERL_LOCAL_LIB_ROOT="/home/ollisg/.perlbrew/libs/perl-5.18.2@dev"
    PERL_MB_OPT="--install_base /home/ollisg/.perlbrew/libs/perl-5.18.2@dev"
    PERL_MM_OPT="INSTALL_BASE=/home/ollisg/.perlbrew/libs/perl-5.18.2@dev"
  @INC:
    /home/ollisg/.perlbrew/libs/perl-5.18.2@dev/lib/perl5/ppc64-linux
    /home/ollisg/.perlbrew/libs/perl-5.18.2@dev/lib/perl5
    /home/ollisg/perl5/perlbrew/perls/perl-5.18.2/lib/site_perl/5.18.2/ppc64-linux
    /home/ollisg/perl5/perlbrew/perls/perl-5.18.2/lib/site_perl/5.18.2
    /home/ollisg/perl5/perlbrew/perls/perl-5.18.2/lib/5.18.2/ppc64-linux
    /home/ollisg/perl5/perlbrew/perls/perl-5.18.2/lib/5.18.2
    .