Back
From: metabase:user:320bfe00-2aae-11df-837a-5e0a49663a4f
Subject: PASS POEx-HTTP-Server-0.0902 v5.27.1 GNU/Linux
Date: 2017-06-16T20:20:21Z
This distribution has been tested as part of the CPAN Testers
project, supporting the Perl programming language. See
http://wiki.cpantesters.org/ for more information or email
questions to cpan-testers-discuss@perl.org
--
Dear Philip Gwyn,
This is a computer-generated report for POEx-HTTP-Server-0.0902
on perl 5.27.1, created by CPAN-Reporter-1.2018.
Thank you for uploading your work to CPAN. Congratulations!
All tests were successful.
Sections of this report:
* Tester comments
* Program output
* Prerequisites
* Environment and other context
------------------------------
TESTER COMMENTS
------------------------------
Additional comments from tester:
this report is from an automated smoke testing program
and was not reviewed by a human for accuracy
------------------------------
PROGRAM OUTPUT
------------------------------
Output from '/usr/bin/make test':
PERL_DL_NONLAZY=1 "/tmp/basesmoker-reloperl-_uOO/bin/perl" "-MExtUtils::Command::MM" "-MTest::Harness" "-e" "undef *Test::Harness::Switches; test_harness(0, 'blib/lib', 'blib/arch')" t/*.t
t/00_compile.t ....... ok
t/01_pod.t ........... ok
t/02_pod_coverage.t .. ok
t/10_init.t .......... ok
t/11_request.t ....... ok
t/12_response.t ...... ok
# Sleep 1
t/20_poe.t ........... ok
# Sleep 1
t/25_keepalive.t ..... ok
# Sleep 1
17299: Moving to status=wait at /home/sand/src/perl/repoperls/installed-perls/host/k93msid/v5.27.0-319-g393b66efc9/496c/lib/site_perl/5.27.1/POE/Component/Daemon.pm line 1050.
17299: requestN=0 < max requests=1 at /home/sand/src/perl/repoperls/installed-perls/host/k93msid/v5.27.0-319-g393b66efc9/496c/lib/site_perl/5.27.1/POE/Component/Daemon.pm line 1060.
17298: Spawning 1 spares at /home/sand/src/perl/repoperls/installed-perls/host/k93msid/v5.27.0-319-g393b66efc9/496c/lib/site_perl/5.27.1/POE/Component/Daemon.pm line 972.
17302: Moving to status=wait at /home/sand/src/perl/repoperls/installed-perls/host/k93msid/v5.27.0-319-g393b66efc9/496c/lib/site_perl/5.27.1/POE/Component/Daemon.pm line 1050.
17302: requestN=0 < max requests=1 at /home/sand/src/perl/repoperls/installed-perls/host/k93msid/v5.27.0-319-g393b66efc9/496c/lib/site_perl/5.27.1/POE/Component/Daemon.pm line 1060.
17304: Moving to status=wait at /home/sand/src/perl/repoperls/installed-perls/host/k93msid/v5.27.0-319-g393b66efc9/496c/lib/site_perl/5.27.1/POE/Component/Daemon.pm line 1050.
17304: requestN=0 < max requests=1 at /home/sand/src/perl/repoperls/installed-perls/host/k93msid/v5.27.0-319-g393b66efc9/496c/lib/site_perl/5.27.1/POE/Component/Daemon.pm line 1060.
17299: Moving to status=wait at /home/sand/src/perl/repoperls/installed-perls/host/k93msid/v5.27.0-319-g393b66efc9/496c/lib/site_perl/5.27.1/POE/Component/Daemon.pm line 1050.
17299: Handled 1 requests, shutting down status=done at /home/sand/src/perl/repoperls/installed-perls/host/k93msid/v5.27.0-319-g393b66efc9/496c/lib/site_perl/5.27.1/POE/Component/Daemon.pm line 1054.
17299: shutdown at /home/sand/src/perl/repoperls/installed-perls/host/k93msid/v5.27.0-319-g393b66efc9/496c/lib/site_perl/5.27.1/POE/Component/Daemon.pm line 525.
17302: Moving to status=wait at /home/sand/src/perl/repoperls/installed-perls/host/k93msid/v5.27.0-319-g393b66efc9/496c/lib/site_perl/5.27.1/POE/Component/Daemon.pm line 1050.
17302: Handled 1 requests, shutting down status=done at /home/sand/src/perl/repoperls/installed-perls/host/k93msid/v5.27.0-319-g393b66efc9/496c/lib/site_perl/5.27.1/POE/Component/Daemon.pm line 1054.
17302: shutdown at /home/sand/src/perl/repoperls/installed-perls/host/k93msid/v5.27.0-319-g393b66efc9/496c/lib/site_perl/5.27.1/POE/Component/Daemon.pm line 525.
17304: Moving to status=wait at /home/sand/src/perl/repoperls/installed-perls/host/k93msid/v5.27.0-319-g393b66efc9/496c/lib/site_perl/5.27.1/POE/Component/Daemon.pm line 1050.
17304: Handled 1 requests, shutting down status=done at /home/sand/src/perl/repoperls/installed-perls/host/k93msid/v5.27.0-319-g393b66efc9/496c/lib/site_perl/5.27.1/POE/Component/Daemon.pm line 1054.
17304: shutdown at /home/sand/src/perl/repoperls/installed-perls/host/k93msid/v5.27.0-319-g393b66efc9/496c/lib/site_perl/5.27.1/POE/Component/Daemon.pm line 525.
17298: shutdown at /home/sand/src/perl/repoperls/installed-perls/host/k93msid/v5.27.0-319-g393b66efc9/496c/lib/site_perl/5.27.1/POE/Component/Daemon.pm line 525.
t/26_prefork.t ....... ok
# Sleep 1
t/30_specials.t ...... ok
# Sleep 1
# Sleep 1
t/31_error.t ......... ok
# Sleep 1
t/32_stream.t ........ ok
All tests successful.
Files=12, Tests=202, 10 wallclock secs ( 0.05 usr 0.08 sys + 2.25 cusr 0.56 csys = 2.94 CPU)
Result: PASS
------------------------------
PREREQUISITES
------------------------------
Prerequisite modules loaded:
requires:
Module Need Have
----------------------- ------ ------
Data::Dump 1 1.23
HTTP::Date 1 6.02
HTTP::Request 1 6.11
HTTP::Response 1 6.11
HTTP::Status 1 6.11
POE 1 1.367
POE::Session::Multiplex 0.06 0.0600
POE::Session::PlainCall 0.03 0.0301
POEx::URI 0.0301 0.0301
Scalar::Util 0 1.47
Storable 1 2.63
build_requires:
Module Need Have
----------------------- ------ ------
ExtUtils::MakeMaker 0 7.30
configure_requires:
Module Need Have
----------------------- ------ ------
ExtUtils::MakeMaker 0 7.30
------------------------------
ENVIRONMENT AND OTHER CONTEXT
------------------------------
Environment variables:
AUTOMATED_TESTING = 1
LANG = en_US.UTF-8
PATH = /home/sand/bin:/usr/local/bin:/usr/bin:/bin:/usr/games:/usr/local/perl/bin:/usr/X11/bin:/sbin:/usr/sbin
PERL5LIB = /tmp/loop_over_bdir-4911-p7m5vw/FusionInventory-Agent-2.3.19-0/blib/arch:/tmp/loop_over_bdir-4911-p7m5vw/FusionInventory-Agent-2.3.19-0/blib/lib:/tmp/loop_over_bdir-4911-p7m5vw/Net-DNS-1.10-0/blib/arch:/tmp/loop_over_bdir-4911-p7m5vw/Net-DNS-1.10-0/blib/lib
PERL5OPT =
PERL5_CPANPLUS_IS_RUNNING = 27162
PERL5_CPAN_IS_RUNNING = 27162
PERL_CANARY_STABILITY_NOPROMPT = 1
PERL_MM_USE_DEFAULT = 1
PERL_USE_UNSAFE_INC = 1
SHELL = /usr/bin/zsh
TERM = screen
Perl special variables (and OS-specific diagnostics, for MSWin32):
$^X = /tmp/basesmoker-reloperl-_uOO/bin/perl
$UID/$EUID = 1005 / 1005
$GID = 1005 1005
$EGID = 1005 1005
Perl module toolchain versions installed:
Module Have
------------------- --------
CPAN 2.18
CPAN::Meta 2.150010
Cwd 3.67
ExtUtils::CBuilder 0.280225
ExtUtils::Command 7.30
ExtUtils::Install 2.14
ExtUtils::MakeMaker 7.30
ExtUtils::Manifest 1.70
ExtUtils::ParseXS 3.34
File::Spec 3.67
JSON 2.94
JSON::PP 2.94
Module::Build 0.4224
Module::Signature 0.81
Parse::CPAN::Meta 2.150010
Test::Harness 3.39
Test::More 1.302085
YAML 1.23
YAML::Syck 1.30
version 0.9918
--
Summary of my perl5 (revision 5 version 27 subversion 1) configuration:
Commit id: 393b66efc9e80151892c3fd5d7b72ed22511485d
Platform:
osname=linux
osvers=4.9.0-2-amd64
archname=x86_64-linux-thread-multi-ld
uname='linux k93msid 4.9.0-2-amd64 #1 smp debian 4.9.18-1 (2017-03-30) x86_64 gnulinux '
config_args='-Dprefix=/home/sand/src/perl/repoperls/installed-perls/host/k93msid/v5.27.0-319-g393b66efc9/496c -Dmyhostname=k93msid -Dinstallusrbinperl=n -Uversiononly -Dusedevel -des -Ui_db -Dlibswanted=cl pthread socket inet nsl gdbm dbm malloc dl ld sun m crypt sec util c cposix posix ucb BSD gdbm_compat -Duseithreads -Duselongdouble -DEBUGGING=none'
hint=recommended
useposix=true
d_sigaction=define
useithreads=define
usemultiplicity=define
use64bitint=define
use64bitall=define
uselongdouble=define
usemymalloc=n
default_inc_excludes_dot=define
bincompat5005=undef
Compiler:
cc='cc'
ccflags ='-D_REENTRANT -D_GNU_SOURCE -fwrapv -fno-strict-aliasing -pipe -fstack-protector-strong -I/usr/local/include -D_LARGEFILE_SOURCE -D_FILE_OFFSET_BITS=64'
optimize='-O2'
cppflags='-D_REENTRANT -D_GNU_SOURCE -fwrapv -fno-strict-aliasing -pipe -fstack-protector-strong -I/usr/local/include'
ccversion=''
gccversion='6.3.0 20170406'
gccosandvers=''
intsize=4
longsize=8
ptrsize=8
doublesize=8
byteorder=12345678
doublekind=3
d_longlong=define
longlongsize=8
d_longdbl=define
longdblsize=16
longdblkind=3
ivtype='long'
ivsize=8
nvtype='long double'
nvsize=16
Off_t='off_t'
lseeksize=8
alignbytes=16
prototype=define
Linker and Libraries:
ld='cc'
ldflags =' -fstack-protector-strong -L/usr/local/lib'
libpth=/usr/local/lib /usr/lib/gcc/x86_64-linux-gnu/6/include-fixed /usr/include/x86_64-linux-gnu /usr/lib /lib/x86_64-linux-gnu /lib/../lib /usr/lib/x86_64-linux-gnu /usr/lib/../lib /lib
libs=-lpthread -lnsl -ldl -lm -lcrypt -lutil -lc
perllibs=-lpthread -lnsl -ldl -lm -lcrypt -lutil -lc
libc=libc-2.24.so
so=so
useshrplib=false
libperl=libperl.a
gnulibc_version='2.24'
Dynamic Linking:
dlsrc=dl_dlopen.xs
dlext=so
d_dlsymun=undef
ccdlflags='-Wl,-E'
cccdlflags='-fPIC'
lddlflags='-shared -O2 -L/usr/local/lib -fstack-protector-strong'
Characteristics of this binary (from libperl):
Compile-time options:
HAS_TIMES
MULTIPLICITY
PERLIO_LAYERS
PERL_COPY_ON_WRITE
PERL_DONT_CREATE_GVSV
PERL_IMPLICIT_CONTEXT
PERL_MALLOC_WRAP
PERL_OP_PARENT
PERL_PRESERVE_IVUV
PERL_USE_DEVEL
USE_64_BIT_ALL
USE_64_BIT_INT
USE_ITHREADS
USE_LARGE_FILES
USE_LOCALE
USE_LOCALE_COLLATE
USE_LOCALE_CTYPE
USE_LOCALE_NUMERIC
USE_LOCALE_TIME
USE_LONG_DOUBLE
USE_PERLIO
USE_PERL_ATOF
USE_REENTRANT_API
Built under linux
Compiled at Jun 15 2017 16:01:32
%ENV:
PERL5LIB="/tmp/loop_over_bdir-4911-p7m5vw/FusionInventory-Agent-2.3.19-0/blib/arch:/tmp/loop_over_bdir-4911-p7m5vw/FusionInventory-Agent-2.3.19-0/blib/lib:/tmp/loop_over_bdir-4911-p7m5vw/Net-DNS-1.10-0/blib/arch:/tmp/loop_over_bdir-4911-p7m5vw/Net-DNS-1.10-0/blib/lib"
PERL5OPT=""
PERL5_CPANPLUS_IS_RUNNING="27162"
PERL5_CPAN_IS_RUNNING="27162"
PERL_CANARY_STABILITY_NOPROMPT="1"
PERL_MM_USE_DEFAULT="1"
PERL_USE_UNSAFE_INC="1"
@INC:
/tmp/loop_over_bdir-4911-p7m5vw/FusionInventory-Agent-2.3.19-0/blib/arch
/tmp/loop_over_bdir-4911-p7m5vw/FusionInventory-Agent-2.3.19-0/blib/lib
/tmp/loop_over_bdir-4911-p7m5vw/Net-DNS-1.10-0/blib/arch
/tmp/loop_over_bdir-4911-p7m5vw/Net-DNS-1.10-0/blib/lib
/home/sand/src/perl/repoperls/installed-perls/host/k93msid/v5.27.0-319-g393b66efc9/496c/lib/site_perl/5.27.1/x86_64-linux-thread-multi-ld
/home/sand/src/perl/repoperls/installed-perls/host/k93msid/v5.27.0-319-g393b66efc9/496c/lib/site_perl/5.27.1
/home/sand/src/perl/repoperls/installed-perls/host/k93msid/v5.27.0-319-g393b66efc9/496c/lib/5.27.1/x86_64-linux-thread-multi-ld
/home/sand/src/perl/repoperls/installed-perls/host/k93msid/v5.27.0-319-g393b66efc9/496c/lib/5.27.1
.