TAP-Harness-Archive v0.18 Perl 5 v5.28.1 amd64-freebsd-ld
- Status
- Pass
- From
- Slaven Rezić (SREZIC)
- Dist
-
TAP-Harness-Archive v0.18
- Platform
- Perl 5 v5.28.1 amd64-freebsd-ld
- Date
- 2020-02-17 21:48:24
- ID
- 38e00566-51cf-11ea-a9a0-1d8b1f24ea8f
This distribution has been tested as part of the CPAN Testers
project, supporting the Perl programming language. See
http://wiki.cpantesters.org/ for more information or email
questions to cpan-testers-discuss@perl.org
--
Dear Steffen Schwigon,
This is a computer-generated report for TAP-Harness-Archive-0.18
on perl 5.28.1, created by CPAN-Reporter-1.2018.
Thank you for uploading your work to CPAN. Congratulations!
All tests were successful.
Sections of this report:
* Tester comments
* Program output
* Prerequisites
* Environment and other context
------------------------------
TESTER COMMENTS
------------------------------
Additional comments from tester:
none provided
------------------------------
PROGRAM OUTPUT
------------------------------
Output from './Build test':
t/archive.t ........... ok
t/bar.t ............... ok
t/extra_files.t ....... ok
t/extra_properties.t .. ok
t/foo.t ............... ok
t/pod-coverage.t ...... skipped: We are not running release tests
t/pod.t ............... skipped: We are not running release tests
All tests successful.
Files=7, Tests=85, 4 wallclock secs ( 0.06 usr 0.02 sys + 1.40 cusr 0.83 csys = 2.30 CPU)
Result: PASS
------------------------------
PREREQUISITES
------------------------------
Prerequisite modules loaded:
requires:
Module Need Have
------------------- ---- --------
Archive::Tar 0 2.32
base 2.18 2.27
Cwd 0 3.75
File::Basename 0 2.85
File::Find 0 1.34
File::Path 0 2.15
File::Spec 0 3.75
File::Temp 0.19 0.2309
TAP::Harness 3.05 3.42
Test::More 0 1.302171
YAML::Tiny 0 1.73
configure_requires:
Module Need Have
------------------- ---- --------
ExtUtils::MakeMaker 0 7.42
------------------------------
ENVIRONMENT AND OTHER CONTEXT
------------------------------
Environment variables:
PATH = /usr/local/bin:/usr/bin:/bin:/usr/local/sbin:/usr/sbin:/sbin:/home/cpansand/bin/freebsd12.0:/home/cpansand/bin/sh:/home/cpansand/bin:/usr/games:/home/cpansand/devel:/usr/home/eserte/src/srezic-misc/scripts
PERL5LIB = /home/cpansand/.cpan/build/2020021721/Class-Roles-0.30-0/blib/arch:/home/cpansand/.cpan/build/2020021721/Class-Roles-0.30-0/blib/lib:/home/cpansand/.cpan/build/2020021721/App-BundleDeps-0.00006-0/blib/arch:/home/cpansand/.cpan/build/2020021721/App-BundleDeps-0.00006-0/blib/lib:/home/cpansand/.cpan/build/2020021721/Module-MetaInfo-0.03-0/blib/arch:/home/cpansand/.cpan/build/2020021721/Module-MetaInfo-0.03-0/blib/lib:/home/cpansand/.cpan/build/2020021721/Parse-Debian-Packages-0.03-0/blib/arch:/home/cpansand/.cpan/build/2020021721/Parse-Debian-Packages-0.03-0/blib/lib:/home/cpansand/.cpan/build/2020021721/Module-Release-CSJEWELL-0.101-0/blib/arch:/home/cpansand/.cpan/build/2020021721/Module-Release-CSJEWELL-0.101-0/blib/lib:/home/cpansand/.cpan/build/2020021721/Text-Haml-0.990118-0/blib/arch:/home/cpansand/.cpan/build/2020021721/Text-Haml-0.990118-0/blib/lib
PERL5OPT =
PERL5_CPANPLUS_IS_RUNNING = 57261
PERL5_CPAN_IS_RUNNING = 57261
PERL5_CPAN_IS_RUNNING_IN_RECURSION = 43731,57261
PERLDOC = -MPod::Perldoc::ToTextOverstrike
PERL_BATCH = yes
PERL_CANARY_STABILITY_NOPROMPT = 1
PERL_CPAN_REPORTER_CONFIG = /var/tmp/cpansmoker-1023/2020021508/cpanreporter_000_config.ini
PERL_EXTUTILS_AUTOINSTALL = --defaultdeps
PERL_USE_UNSAFE_INC = 1
SHELL = /usr/local/bin/zsh
TERM = screen
TMPDIR = /var/tmp/cpansmoker-1023/2020021508
Perl special variables (and OS-specific diagnostics, for MSWin32):
$^X = /usr/perl5.28.1Dp/bin/perl5.28.1
$UID/$EUID = 1023 / 1023
$GID = 1023 1023
$EGID = 1023 1023
Perl module toolchain versions installed:
Module Have
------------------- --------
CPAN 2.27
CPAN::Meta 2.150010
Cwd 3.75
ExtUtils::CBuilder 0.280231
ExtUtils::Command 7.42
ExtUtils::Install 2.14
ExtUtils::MakeMaker 7.42
ExtUtils::Manifest 1.70
ExtUtils::ParseXS 3.39
File::Spec 3.75
JSON 4.02
JSON::PP 4.04
Module::Build 0.4231
Module::Signature 0.83
Parse::CPAN::Meta 2.150010
Test::Harness 3.42
Test::More 1.302171
YAML 1.30
YAML::Syck 1.32
version 0.9923
--
Summary of my perl5 (revision 5 version 28 subversion 1) configuration:
Platform:
osname=freebsd
osvers=12.0-stable
archname=amd64-freebsd-ld
uname='freebsd cloud1.bbbike.org 12.0-stable freebsd 12.0-stable 851f4c1257c(stable12) generic amd64 '
config_args='-ds -e -Dprefix=/usr/perl5.28.1Dp -Duselongdouble -Dcf_email=srezic@cpan.org -Doptimize=-O2 -pipe'
hint=recommended
useposix=true
d_sigaction=define
useithreads=undef
usemultiplicity=undef
use64bitint=define
use64bitall=define
uselongdouble=define
usemymalloc=n
default_inc_excludes_dot=define
bincompat5005=undef
Compiler:
cc='cc'
ccflags ='-DHAS_FPSETMASK -DHAS_FLOATINGPOINT_H -fno-strict-aliasing -pipe -fstack-protector-strong -I/usr/local/include -D_FORTIFY_SOURCE=2'
optimize='-O2 -pipe'
cppflags='-DHAS_FPSETMASK -DHAS_FLOATINGPOINT_H -fno-strict-aliasing -pipe -fstack-protector-strong -I/usr/local/include'
ccversion=''
gccversion='4.2.1 Compatible FreeBSD Clang 7.0.1 (tags/RELEASE_701/final 349250)'
gccosandvers=''
intsize=4
longsize=8
ptrsize=8
doublesize=8
byteorder=12345678
doublekind=3
d_longlong=define
longlongsize=8
d_longdbl=define
longdblsize=16
longdblkind=3
ivtype='long'
ivsize=8
nvtype='long double'
nvsize=16
Off_t='off_t'
lseeksize=8
alignbytes=16
prototype=define
Linker and Libraries:
ld='cc'
ldflags ='-pthread -Wl,-E -fstack-protector-strong -L/usr/local/lib'
libpth=/usr/lib /usr/local/lib /usr/lib/clang/7.0.1/lib /usr/lib
libs=-lpthread -lgdbm -ldl -lm -lcrypt -lutil -lc
perllibs=-lpthread -ldl -lm -lcrypt -lutil -lc
libc=
so=so
useshrplib=false
libperl=libperl.a
gnulibc_version=''
Dynamic Linking:
dlsrc=dl_dlopen.xs
dlext=so
d_dlsymun=undef
ccdlflags=' '
cccdlflags='-DPIC -fPIC'
lddlflags='-shared -L/usr/local/lib -fstack-protector-strong'
Characteristics of this binary (from libperl):
Compile-time options:
HAS_TIMES
PERLIO_LAYERS
PERL_COPY_ON_WRITE
PERL_DONT_CREATE_GVSV
PERL_MALLOC_WRAP
PERL_OP_PARENT
PERL_PRESERVE_IVUV
USE_64_BIT_ALL
USE_64_BIT_INT
USE_LARGE_FILES
USE_LOCALE
USE_LOCALE_COLLATE
USE_LOCALE_CTYPE
USE_LOCALE_NUMERIC
USE_LOCALE_TIME
USE_LONG_DOUBLE
USE_PERLIO
USE_PERL_ATOF
Built under freebsd
Compiled at Mar 25 2019 22:00:02
%ENV:
PERL5LIB="/home/cpansand/.cpan/build/2020021721/Class-Roles-0.30-0/blib/arch:/home/cpansand/.cpan/build/2020021721/Class-Roles-0.30-0/blib/lib:/home/cpansand/.cpan/build/2020021721/App-BundleDeps-0.00006-0/blib/arch:/home/cpansand/.cpan/build/2020021721/App-BundleDeps-0.00006-0/blib/lib:/home/cpansand/.cpan/build/2020021721/Module-MetaInfo-0.03-0/blib/arch:/home/cpansand/.cpan/build/2020021721/Module-MetaInfo-0.03-0/blib/lib:/home/cpansand/.cpan/build/2020021721/Parse-Debian-Packages-0.03-0/blib/arch:/home/cpansand/.cpan/build/2020021721/Parse-Debian-Packages-0.03-0/blib/lib:/home/cpansand/.cpan/build/2020021721/Module-Release-CSJEWELL-0.101-0/blib/arch:/home/cpansand/.cpan/build/2020021721/Module-Release-CSJEWELL-0.101-0/blib/lib:/home/cpansand/.cpan/build/2020021721/Text-Haml-0.990118-0/blib/arch:/home/cpansand/.cpan/build/2020021721/Text-Haml-0.990118-0/blib/lib"
PERL5OPT=""
PERL5_CPANPLUS_IS_RUNNING="57261"
PERL5_CPAN_IS_RUNNING="57261"
PERL5_CPAN_IS_RUNNING_IN_RECURSION="43731,57261"
PERLDOC="-MPod::Perldoc::ToTextOverstrike"
PERL_BATCH="yes"
PERL_CANARY_STABILITY_NOPROMPT="1"
PERL_CPAN_REPORTER_CONFIG="/var/tmp/cpansmoker-1023/2020021508/cpanreporter_000_config.ini"
PERL_EXTUTILS_AUTOINSTALL="--defaultdeps"
PERL_USE_UNSAFE_INC="1"
@INC:
/home/cpansand/.cpan/build/2020021721/Class-Roles-0.30-0/blib/arch
/home/cpansand/.cpan/build/2020021721/Class-Roles-0.30-0/blib/lib
/home/cpansand/.cpan/build/2020021721/App-BundleDeps-0.00006-0/blib/arch
/home/cpansand/.cpan/build/2020021721/App-BundleDeps-0.00006-0/blib/lib
/home/cpansand/.cpan/build/2020021721/Module-MetaInfo-0.03-0/blib/arch
/home/cpansand/.cpan/build/2020021721/Module-MetaInfo-0.03-0/blib/lib
/home/cpansand/.cpan/build/2020021721/Parse-Debian-Packages-0.03-0/blib/arch
/home/cpansand/.cpan/build/2020021721/Parse-Debian-Packages-0.03-0/blib/lib
/home/cpansand/.cpan/build/2020021721/Module-Release-CSJEWELL-0.101-0/blib/arch
/home/cpansand/.cpan/build/2020021721/Module-Release-CSJEWELL-0.101-0/blib/lib
/home/cpansand/.cpan/build/2020021721/Text-Haml-0.990118-0/blib/arch
/home/cpansand/.cpan/build/2020021721/Text-Haml-0.990118-0/blib/lib
/usr/perl5.28.1Dp/lib/site_perl/5.28.1/amd64-freebsd-ld
/usr/perl5.28.1Dp/lib/site_perl/5.28.1
/usr/perl5.28.1Dp/lib/5.28.1/amd64-freebsd-ld
/usr/perl5.28.1Dp/lib/5.28.1
.