Back
From: metabase:user:cd035d39-6d5b-1014-ab3a-39c0c09612a1
Subject: PASS Soar-Production-0.03 v5.24.0
Date: 2016-08-17T03:23:18Z
This distribution has been tested as part of the CPAN Testers
project, supporting the Perl programming language. See
http://wiki.cpantesters.org/ for more information or email
questions to cpan-testers-discuss@perl.org
--
Dear Nathan Gary Glenn,
This is a computer-generated report for Soar-Production-0.03
on perl 5.24.0, created by CPAN-Reporter-1.2018.
Thank you for uploading your work to CPAN. Congratulations!
All tests were successful.
Sections of this report:
* Tester comments
* Program output
* Prerequisites
* Environment and other context
------------------------------
TESTER COMMENTS
------------------------------
Additional comments from tester:
this report is from an automated smoke testing program
and was not reviewed by a human for accuracy
------------------------------
PROGRAM OUTPUT
------------------------------
Output from 'C:\Strawberry\perl\bin\perl.exe ./Build test':
t/0-use.t ........................ ok
t/00-compile.t ................... ok
#
#
# Generated by Dist::Zilla::Plugin::ReportVersions::Tiny v1.08
# perl: 5.024000 (wanted 5.010) on MSWin32 from C:\Strawberry\perl\bin\perl.exe
#
# Carp => 1.40 (want any version)
# Data::Diver => 1.0101 (want any version)
# Data::Dumper => 2.161 (want any version)
# Exporter::Easy => 0.18 (want any version)
# File::Find => 1.34 (want any version)
# File::Spec => 3.63 (want any version)
# File::Spec::Functions => 3.63 (want any version)
# File::Temp => 0.2304 (want any version)
# FindBin => 1.51 (want any version)
# Module::Build => 0.4218 (want 0.3601)
# Parse::RecDescent => 1.967013 (want any version)
# Path::Tiny => 0.096 (want any version)
# Pod::Coverage::TrustPod => module not found. (want any version)
# Test::Base => 0.88 (want any version)
# Test::Base::Filter => <undef> (want any version)
# Test::CPAN::Meta => module not found. (want any version)
# Test::Deep => 1.120 (want any version)
# Test::Exception => 0.43 (want any version)
# Test::LongString => 0.17 (want any version)
# Test::More => 1.302052 (want 0.88)
# Test::Pod => 1.51 (want 1.41)
# Test::Pod::Coverage => 1.10 (want 1.08)
# Test::Warn => 0.30 (want any version)
# strict => 1.11 (want any version)
# utf8 => 1.19 (want any version)
# version => 0.9917 (want 0.9901)
# warnings => 1.36 (want any version)
#
# Thanks for using my code. I hope it works for you.
# If not, please try and include this output in the bug report.
# That will help me reproduce the issue and solve your problem.
#
t/000-report-versions-tiny.t ..... ok
t/1-basic.t ...................... ok
t/parser/00-use.t ................ ok
t/parser/01-bad_input.t .......... ok
t/parser/01_5-comments.t ......... ok
t/parser/02-split-productions.t .. ok
t/parser/03-production-names.t ... ok
t/parser/04-documentation.t ...... ok
t/parser/05-Flags.t .............. ok
t/parser/06-State.t .............. ok
t/parser/07-variables.t .......... ok
t/parser/08-attributes.t ......... ok
t/parser/09-int.t ................ ok
t/parser/10-float.t .............. ok
t/parser/11-string.t ............. ok
t/parser/12-quoted.t ............. ok
t/parser/13-disjunct.t ........... ok
t/parser/14-conjunct.t ........... ok
t/parser/15-predicate.t .......... ok
t/parser/16-preference.t ......... ok
t/parser/17-function.t ........... ok
t/parser/18-negative.t ........... ok
t/parser/19-conjunctiveCond.t .... ok
t/parser/20-test_data.t .......... ok
t/printer/0-use.t ................ ok
t/printer/1-test_data.t .......... ok
All tests successful.
Files=28, Tests=1816, 213 wallclock secs ( 0.20 usr + 0.03 sys = 0.23 CPU)
Result: PASS
------------------------------
PREREQUISITES
------------------------------
Prerequisite modules loaded:
requires:
Module Need Have
--------------------- ------ --------
Carp 0 1.40
Data::Dumper 0 2.161
Exporter::Easy 0 0.18
Parse::RecDescent 0 1.967013
perl 5.010 5.024000
strict 0 1.11
warnings 0 1.36
build_requires:
Module Need Have
--------------------- ------ --------
Data::Diver 0 1.0101
File::Find 0 1.34
File::Spec 0 3.63
File::Spec::Functions 0 3.63
File::Temp 0 0.2304
FindBin 0 1.51
Module::Build 0.3601 0.4218
Path::Tiny 0 0.096
Test::Base 0 0.88
Test::Base::Filter 0 0
Test::Deep 0 1.120
Test::Exception 0 0.43
Test::LongString 0 0.17
Test::More 0.88 1.302052
Test::Warn 0 0.30
utf8 0 1.19
configure_requires:
Module Need Have
--------------------- ------ --------
Module::Build 0.3601 0.4218
------------------------------
ENVIRONMENT AND OTHER CONTEXT
------------------------------
Environment variables:
AUTOMATED_TESTING = 1
COMSPEC = C:\WINDOWS.0\system32\cmd.exe
NONINTERACTIVE_TESTING = 1
NUMBER_OF_PROCESSORS = 1
PATH = C:\WINDOWS.0\system32;C:\strawberry\c\bin;C:\strawberry\perl\site\bin;C:\strawberry\perl\bin
PERL5LIB = C:\cpan\build\Test-LongString-0.17-3/blib/arch;C:\cpan\build\Test-LongString-0.17-3/blib/lib;C:\cpan\build\Exporter-Easy-0.18-0/blib/arch;C:\cpan\build\Exporter-Easy-0.18-0/blib/lib;C:\cpan\build\Data-Diver-1.0101-0/blib/arch;C:\cpan\build\Data-Diver-1.0101-0/blib/lib
PERL5OPT =
PERL5_CPANPLUS_IS_RUNNING = 3212
PERL5_CPAN_IS_RUNNING = 3212
PERL5_CPAN_IS_RUNNING_IN_RECURSION = 2772,3212
PERL_CR_SMOKER_CURRENT = Soar-Production-0.03
PERL_EXTUTILS_AUTOINSTALL = --defaultdeps
PERL_MM_USE_DEFAULT = 1
PROCESSOR_IDENTIFIER = x86 Family 6 Model 14 Stepping 8, GenuineIntel
TEMP = C:\DOKUME~1\smoker\LOKALE~1\Temp
TERM = dumb
Perl special variables (and OS-specific diagnostics, for MSWin32):
$^X = C:\Strawberry\perl\bin\perl.exe
$UID/$EUID = 0 / 0
$GID = 0
$EGID = 0
Win32::GetOSName = WinXP/.Net
Win32::GetOSVersion = Service Pack 3, 5, 1, 2600, 2, 3, 0, 256, 1
Win32::FsType = NTFS
Win32::IsAdminUser = 1
Perl module toolchain versions installed:
Module Have
------------------- --------
CPAN 2.14
CPAN::Meta 2.150005
Cwd 3.63
ExtUtils::CBuilder 0.280225
ExtUtils::Command 7.22
ExtUtils::Install 2.04
ExtUtils::MakeMaker 7.22
ExtUtils::Manifest 1.70
ExtUtils::ParseXS 3.31
File::Spec 3.63
JSON 2.90
JSON::PP 2.27400
Module::Build 0.4218
Module::Signature n/a
Parse::CPAN::Meta 1.4422
Test::Harness 3.36
Test::More 1.302052
YAML 1.18
YAML::Syck n/a
version 0.9917
--
Summary of my perl5 (revision 5 version 24 subversion 0) configuration:
Platform:
osname=MSWin32, osvers=6.3, archname=MSWin32-x86-multi-thread-64int
uname='Win32 strawberry-perl 5.24.0.1 #1 Tue May 10 17:10:11 2016 i386'
config_args='undef'
hint=recommended, useposix=true, d_sigaction=undef
useithreads=define, usemultiplicity=define
use64bitint=define, use64bitall=undef, uselongdouble=undef
usemymalloc=n, bincompat5005=undef
Compiler:
cc='gcc', ccflags =' -s -O2 -DWIN32 -DPERL_TEXTMODE_SCRIPTS -DPERL_IMPLICIT_CONTEXT -DPERL_IMPLICIT_SYS -fwrapv -fno-strict-aliasing -mms-bitfields',
optimize='-s -O2',
cppflags='-DWIN32'
ccversion='', gccversion='4.9.2', gccosandvers=''
intsize=4, longsize=4, ptrsize=4, doublesize=8, byteorder=12345678, doublekind=3
d_longlong=define, longlongsize=8, d_longdbl=define, longdblsize=12, longdblkind=3
ivtype='long long', ivsize=8, nvtype='double', nvsize=8, Off_t='long long', lseeksize=8
alignbytes=8, prototype=define
Linker and Libraries:
ld='g++', ldflags ='-s -L"C:\STRAWB~1\perl\lib\CORE" -L"C:\STRAWB~1\c\lib"'
libpth=C:\STRAWB~1\c\lib C:\STRAWB~1\c\i686-w64-mingw32\lib C:\STRAWB~1\c\lib\gcc\i686-w64-mingw32\4.9.2
libs=-lmoldname -lkernel32 -luser32 -lgdi32 -lwinspool -lcomdlg32 -ladvapi32 -lshell32 -lole32 -loleaut32 -lnetapi32 -luuid -lws2_32 -lmpr -lwinmm -lversion -lodbc32 -lodbccp32 -lcomctl32
perllibs=-lmoldname -lkernel32 -luser32 -lgdi32 -lwinspool -lcomdlg32 -ladvapi32 -lshell32 -lole32 -loleaut32 -lnetapi32 -luuid -lws2_32 -lmpr -lwinmm -lversion -lodbc32 -lodbccp32 -lcomctl32
libc=, so=dll, useshrplib=true, libperl=libperl524.a
gnulibc_version=''
Dynamic Linking:
dlsrc=dl_win32.xs, dlext=xs.dll, d_dlsymun=undef, ccdlflags=' '
cccdlflags=' ', lddlflags='-mdll -s -L"C:\STRAWB~1\perl\lib\CORE" -L"C:\STRAWB~1\c\lib"'
Characteristics of this binary (from libperl):
Compile-time options: HAS_TIMES HAVE_INTERP_INTERN MULTIPLICITY
PERLIO_LAYERS PERL_COPY_ON_WRITE
PERL_DONT_CREATE_GVSV
PERL_HASH_FUNC_ONE_AT_A_TIME_HARD
PERL_IMPLICIT_CONTEXT PERL_IMPLICIT_SYS
PERL_MALLOC_WRAP PERL_PRESERVE_IVUV USE_64_BIT_INT
USE_ITHREADS USE_LARGE_FILES USE_LOCALE
USE_LOCALE_COLLATE USE_LOCALE_CTYPE
USE_LOCALE_NUMERIC USE_LOCALE_TIME USE_PERLIO
USE_PERL_ATOF
Built under MSWin32
Compiled at May 10 2016 17:20:50
%ENV:
PERL5LIB="C:\cpan\build\Test-LongString-0.17-3/blib/arch;C:\cpan\build\Test-LongString-0.17-3/blib/lib;C:\cpan\build\Exporter-Easy-0.18-0/blib/arch;C:\cpan\build\Exporter-Easy-0.18-0/blib/lib;C:\cpan\build\Data-Diver-1.0101-0/blib/arch;C:\cpan\build\Data-Diver-1.0101-0/blib/lib"
PERL5_CPANPLUS_IS_RUNNING="3212"
PERL5_CPAN_IS_RUNNING="3212"
PERL5_CPAN_IS_RUNNING_IN_RECURSION="2772,3212"
PERL_CR_SMOKER_CURRENT="Soar-Production-0.03"
PERL_EXTUTILS_AUTOINSTALL="--defaultdeps"
PERL_MM_USE_DEFAULT="1"
@INC:
C:\cpan\build\Test-LongString-0.17-3/blib/arch
C:\cpan\build\Test-LongString-0.17-3/blib/lib
C:\cpan\build\Exporter-Easy-0.18-0/blib/arch
C:\cpan\build\Exporter-Easy-0.18-0/blib/lib
C:\cpan\build\Data-Diver-1.0101-0/blib/arch
C:\cpan\build\Data-Diver-1.0101-0/blib/lib
C:/Strawberry/perl/site/lib/MSWin32-x86-multi-thread-64int
C:/Strawberry/perl/site/lib
C:/Strawberry/perl/vendor/lib
C:/Strawberry/perl/lib
.