Report for File-PathInfo-Ext-1.30

Back
From: metabase:user:322078bc-2aae-11df-837a-5e0a49663a4f
Subject: PASS File-PathInfo-Ext-1.30 v5.13.1 GNU/Linux
Date: 2011-05-14T21:07:48Z

This distribution has been tested as part of the CPAN Testers
project, supporting the Perl programming language.  See
http://wiki.cpantesters.org/ for more information or email
questions to cpan-testers-discuss@perl.org


--

Dear Leo Charre,

This is a computer-generated error report created automatically by
CPANPLUS, version 0.9105. Testers personal comments may appear
at the end of this report.

MAKE TEST passed: PERL_DL_NONLAZY=1 /home/cpan/pit/thr/perl-5.13.1/bin/perl5.13.1 "-MExtUtils::Command::MM" "-e" "test_harness(0, 'blib/lib', 'blib/arch')" t/*.t


===================
PART [1], ./T/PUBLIC_HTML/DEMO

 stat key 'ctime' = '1305407215'
 stat key 'mtime' = '1259076971'
 stat key 'nlink' = '2'
 stat key 'size' = '4096'
 stat key 'blocks' = '8'
 stat key 'atime_pretty' = '2011/05/14 22:06'
 stat key 'mtime_pretty' = '2009/11/24 15:36'
 stat key 'ctime_pretty' = '2011/05/14 22:06'
 stat key 'ino' = '200285'


===================
PART [2], ./T/PUBLIC_HTML/SEVEN.PDF

 stat key 'ctime' = '1305407215'
 stat key 'mtime' = '1179497048'
 stat key 'nlink' = '1'
 stat key 'size' = '769239'
 stat key 'blocks' = '1504'
 stat key 'atime_pretty' = '2011/05/14 22:06'
 stat key 'mtime_pretty' = '2007/05/18 15:04'
 stat key 'ctime_pretty' = '2011/05/14 22:06'
 stat key 'ino' = '200283'


===================
PART [3], DEMO

 stat key 'ctime' = '1305407215'
 stat key 'mtime' = '1259076971'
 stat key 'nlink' = '2'
 stat key 'size' = '4096'
 stat key 'blocks' = '8'
 stat key 'atime_pretty' = '2011/05/14 22:06'
 stat key 'mtime_pretty' = '2009/11/24 15:36'
 stat key 'ctime_pretty' = '2011/05/14 22:06'
 stat key 'ino' = '200285'


===================
PART [4], ./T/PUBLIC_HTML/DEMO/HELLOKITTY.GIF

 stat key 'ctime' = '1305407215'
 stat key 'mtime' = '1174604434'
 stat key 'nlink' = '1'
 stat key 'size' = '4099'
 stat key 'blocks' = '16'
 stat key 'atime_pretty' = '2011/05/14 22:06'
 stat key 'mtime_pretty' = '2007/03/22 23:00'
 stat key 'ctime_pretty' = '2011/05/14 22:06'
 stat key 'ino' = '200286'


===================
PART [5], ./T/PUBLIC_HTML/DEMO/../DEMO/CIVIL.TXT

 stat key 'ctime' = '1305407215'
 stat key 'mtime' = '1174604434'
 stat key 'nlink' = '1'
 stat key 'size' = '51460'
 stat key 'blocks' = '104'
 stat key 'atime_pretty' = '2011/05/14 22:06'
 stat key 'mtime_pretty' = '2007/03/22 23:00'
 stat key 'ctime_pretty' = '2011/05/14 22:06'
 stat key 'ino' = '200287'


===================
PART [6], DEMO/../DEMO/CIVIL.TXT

 stat key 'ctime' = '1305407215'
 stat key 'mtime' = '1174604434'
 stat key 'nlink' = '1'
 stat key 'size' = '51460'
 stat key 'blocks' = '104'
 stat key 'atime_pretty' = '2011/05/14 22:06'
 stat key 'mtime_pretty' = '2007/03/22 23:00'
 stat key 'ctime_pretty' = '2011/05/14 22:06'
 stat key 'ino' = '200287'


===================
PART [7], DEMO/CIVIL.TXT

 stat key 'ctime' = '1305407215'
 stat key 'mtime' = '1174604434'
 stat key 'nlink' = '1'
 stat key 'size' = '51460'
 stat key 'blocks' = '104'
 stat key 'atime_pretty' = '2011/05/14 22:06'
 stat key 'mtime_pretty' = '2007/03/22 23:00'
 stat key 'ctime_pretty' = '2011/05/14 22:06'
 stat key 'ino' = '200287'
t/0.t ................. ok
newname cannot contain slashes at lib/File/PathInfo/Ext.pm line 16
	File::PathInfo::Ext::rename('File::PathInfo::Ext=HASH(0x75ed90)', 'awe/gfaw/egawg/\pou*()^T)(T3wt//n23') called at t/1.t line 21
ls for [/home/cpan/pit/thr/conf/perl-5.13.1/.cpanplus/5.13.1/build/File-PathInfo-Ext-1.30]
ls for [/home/cpan/pit/thr/conf/perl-5.13.1/.cpanplus/5.13.1/build/File-PathInfo-Ext-1.30/tmp2]
ls for [/home/cpan/pit/thr/conf/perl-5.13.1/.cpanplus/5.13.1/build/File-PathInfo-Ext-1.30/tmp2]
t/1.t ................. ok



 SET 2 

 # on move newloc is : /home/cpan/pit/thr/conf/perl-5.13.1/.cpanplus/5.13.1/build/File-PathInfo-Ext-1.30/t/public_html/timp/incoming/movedme.txt

Can't move to '/home/cpan/pit/thr/conf/perl-5.13.1/.cpanplus/5.13.1/build/File-PathInfo-Ext-1.30/t/public_html/timp/movedme.txt', destination already exists at lib/File/PathInfo/Ext.pm line 136
	File::PathInfo::Ext::move('File::PathInfo::Ext=HASH(0xaa7c08)', '/home/cpan/pit/thr/conf/perl-5.13.1/.cpanplus/5.13.1/build/Fi...') called at t/2_move.t line 92
t/2_move.t ............ ok
Can't move '/home/cpan/pit/thr/conf/perl-5.13.1/.cpanplus/5.13.1/build/File-PathInfo-Ext-1.30/t/f1' to '/home/cpan/pit/thr/conf/perl-5.13.1/.cpanplus/5.13.1/build/File-PathInfo-Ext-1.30/t/f2', already exists. at lib/File/PathInfo/Ext.pm line 152
	File::PathInfo::Ext::move('File::PathInfo::Ext=HASH(0x77e088)', '/home/cpan/pit/thr/conf/perl-5.13.1/.cpanplus/5.13.1/build/Fi...') called at lib/File/PathInfo/Ext.pm line 17
	File::PathInfo::Ext::rename('File::PathInfo::Ext=HASH(0x77e088)', 'f2') called at t/3.t line 21
Use of uninitialized value in numeric eq (==) at t/3.t line 21.
t/3.t ................. ok

### $val: undef

### $val: 'this is'

### $val: 'this is a val for errstr'


--------------
----



--------------
----


### $val: '/home/cpan/pit/thr/conf/perl-5.13.1/.cpanplus/5.13.1/build/File-PathInfo-Ext-1.30/t/tmp/dir/file.txt'


--------------others
----

Use of uninitialized value $err in concatenation (.) or string at t/4_resolve_arg_to.t line 74.
 arg './file.txt' = [/home/cpan/pit/thr/conf/perl-5.13.1/.cpanplus/5.13.1/build/File-PathInfo-Ext-1.30/file.txt]
 err? 

 arg './' = [NO RESULT]
 err? Can't set destination to '/home/cpan/pit/thr/conf/perl-5.13.1/.cpanplus/5.13.1/build/File-PathInfo-Ext-1.30', already exists.

 arg '.' = [NO RESULT]
 err? Can't resolve arg ..

Use of uninitialized value $err in concatenation (.) or string at t/4_resolve_arg_to.t line 74.
 arg './../file.txt' = [/home/cpan/pit/thr/conf/perl-5.13.1/.cpanplus/5.13.1/build/file.txt]
 err? 

 arg './../bogus/thing' = [NO RESULT]
 err? Can't resolve arg ../bogus/thing

t/4_resolve_arg_to.t .. ok
 arg './t/tmp/bogusdir/' = [NO RESULT]
 err? Can't resolve arg t/tmp/bogusdir/

 # NOW try to dirs



### $r: '/home/cpan/pit/thr/conf/perl-5.13.1/.cpanplus/5.13.1/build/File-PathInfo-Ext-1.30/t/tmp/dir/filealso.txt'
t/5_copy.t ............ ok
t/99_cleanup.t ........ ok
All tests successful.
Files=7, Tests=204,  0 wallclock secs ( 0.05 usr  0.01 sys +  0.36 cusr  0.06 csys =  0.48 CPU)
Result: PASS

[MSG] [Sat May 14 22:06:55 2011] Sending test report for 'File-PathInfo-Ext-1.30'

This report was machine-generated by CPANPLUS::Dist::YACSmoke 0.62.
Powered by minismokebox version 0.44

------------------------------
ENVIRONMENT AND OTHER CONTEXT
------------------------------

Environment variables:

    AUTOMATED_TESTING = 1
    LANG = en_US
    LC_COLLATE = C
    PATH = /usr/local/bin:/usr/bin:/bin:/usr/games:/usr/lib64/java/bin:/usr/lib64/qt/bin:/usr/share/texmf/bin:.
    PERL5LIB = :/home/cpan/pit/thr/conf/perl-5.13.1/.cpanplus/5.13.1/build/File-MMagic-1.27/blib/lib:/home/cpan/pit/thr/conf/perl-5.13.1/.cpanplus/5.13.1/build/File-MMagic-1.27/blib/arch:/home/cpan/pit/thr/conf/perl-5.13.1/.cpanplus/5.13.1/build/Smart-Comments-1.0.4/blib/lib:/home/cpan/pit/thr/conf/perl-5.13.1/.cpanplus/5.13.1/build/Smart-Comments-1.0.4/blib/arch:/home/cpan/pit/thr/conf/perl-5.13.1/.cpanplus/5.13.1/build/Time-Format-1.11/blib/lib:/home/cpan/pit/thr/conf/perl-5.13.1/.cpanplus/5.13.1/build/Time-Format-1.11/blib/arch:/home/cpan/pit/thr/conf/perl-5.13.1/.cpanplus/5.13.1/build/File-PathInfo-1.27/blib/lib:/home/cpan/pit/thr/conf/perl-5.13.1/.cpanplus/5.13.1/build/File-PathInfo-1.27/blib/arch:/home/cpan/pit/thr/conf/perl-5.13.1/.cpanplus/5.13.1/build/File-Type-0.22/blib/lib:/home/cpan/pit/thr/conf/perl-5.13.1/.cpanplus/5.13.1/build/File-Type-0.22/blib/arch:/home/cpan/pit/thr/conf/perl-5.13.1/.cpanplus/5.13.1/build/YAML-0.73/blib/lib:/home/cpan/pit/thr/conf/perl-5.13.1/.cpanplus/5.13.1/build/YAML-0.73/blib/arch:/home/cpan/pit/thr/conf/perl-5.13.1/.cpanplus/5.13.1/build/File-PathInfo-Ext-1.30/blib/lib:/home/cpan/pit/thr/conf/perl-5.13.1/.cpanplus/5.13.1/build/File-PathInfo-Ext-1.30/blib/arch
    PERL5_CPANPLUS_IS_RUNNING = 5000
    PERL5_CPANPLUS_IS_VERSION = 0.9105
    PERL5_MINISMOKEBOX = 0.44
    PERL5_YACSMOKE_BASE = /home/cpan/pit/thr/conf/perl-5.13.1
    PERL_EXTUTILS_AUTOINSTALL = --defaultdeps
    PERL_MM_USE_DEFAULT = 1
    SHELL = /bin/bash
    TERM = screen

Perl special variables (and OS-specific diagnostics, for MSWin32):

    Perl: $^X = /home/cpan/pit/thr/perl-5.13.1/bin/perl5.13.1
    UID:  $<  = 1001
    EUID: $>  = 1001
    GID:  $(  = 100 100
    EGID: $)  = 100 100


-------------------------------


--

Summary of my perl5 (revision 5 version 13 subversion 1) configuration:
   
  Platform:
    osname=linux, osvers=2.6.33.4, archname=x86_64-linux-thread-multi
    uname='linux slack64 2.6.33.4 #3 smp wed may 12 23:13:09 cdt 2010 x86_64 intel(r) xeon(r) cpu e5520 @ 2.27ghz genuineintel gnulinux '
    config_args='-des -Dprefix=/home/cpan/pit/thr/perl-5.13.1 -Dusethreads -Dusedevel'
    hint=recommended, useposix=true, d_sigaction=define
    useithreads=define, usemultiplicity=define
    useperlio=define, d_sfio=undef, uselargefiles=define, usesocks=undef
    use64bitint=define, use64bitall=define, uselongdouble=undef
    usemymalloc=n, bincompat5005=undef
  Compiler:
    cc='cc', ccflags ='-D_REENTRANT -D_GNU_SOURCE -fno-strict-aliasing -pipe -fstack-protector -I/usr/local/include -D_LARGEFILE_SOURCE -D_FILE_OFFSET_BITS=64',
    optimize='-O2',
    cppflags='-D_REENTRANT -D_GNU_SOURCE -fno-strict-aliasing -pipe -fstack-protector -I/usr/local/include'
    ccversion='', gccversion='4.4.4', gccosandvers=''
    intsize=4, longsize=8, ptrsize=8, doublesize=8, byteorder=12345678
    d_longlong=define, longlongsize=8, d_longdbl=define, longdblsize=16
    ivtype='long', ivsize=8, nvtype='double', nvsize=8, Off_t='off_t', lseeksize=8
    alignbytes=8, prototype=define
  Linker and Libraries:
    ld='cc', ldflags =' -fstack-protector -L/usr/local/lib'
    libpth=/usr/local/lib /lib /usr/lib /lib64 /usr/lib64 /usr/local/lib64
    libs=-lnsl -lgdbm -ldb -ldl -lm -lcrypt -lutil -lpthread -lc
    perllibs=-lnsl -ldl -lm -lcrypt -lutil -lpthread -lc
    libc=, so=so, useshrplib=false, libperl=libperl.a
    gnulibc_version='2.11.1'
  Dynamic Linking:
    dlsrc=dl_dlopen.xs, dlext=so, d_dlsymun=undef, ccdlflags='-Wl,-E'
    cccdlflags='-fPIC', lddlflags='-shared -O2 -L/usr/local/lib -fstack-protector'


Characteristics of this binary (from libperl): 
  Compile-time options: MULTIPLICITY PERL_DONT_CREATE_GVSV
                        PERL_IMPLICIT_CONTEXT PERL_MALLOC_WRAP PERL_USE_DEVEL
                        USE_64_BIT_ALL USE_64_BIT_INT USE_ITHREADS
                        USE_LARGE_FILES USE_PERLIO USE_PERL_ATOF
                        USE_REENTRANT_API
  Built under linux
  Compiled at Feb 18 2011 11:44:57
  %ENV:
    PERL5LIB=":/home/cpan/pit/thr/conf/perl-5.13.1/.cpanplus/5.13.1/build/File-MMagic-1.27/blib/lib:/home/cpan/pit/thr/conf/perl-5.13.1/.cpanplus/5.13.1/build/File-MMagic-1.27/blib/arch:/home/cpan/pit/thr/conf/perl-5.13.1/.cpanplus/5.13.1/build/Smart-Comments-1.0.4/blib/lib:/home/cpan/pit/thr/conf/perl-5.13.1/.cpanplus/5.13.1/build/Smart-Comments-1.0.4/blib/arch:/home/cpan/pit/thr/conf/perl-5.13.1/.cpanplus/5.13.1/build/Time-Format-1.11/blib/lib:/home/cpan/pit/thr/conf/perl-5.13.1/.cpanplus/5.13.1/build/Time-Format-1.11/blib/arch:/home/cpan/pit/thr/conf/perl-5.13.1/.cpanplus/5.13.1/build/File-PathInfo-1.27/blib/lib:/home/cpan/pit/thr/conf/perl-5.13.1/.cpanplus/5.13.1/build/File-PathInfo-1.27/blib/arch:/home/cpan/pit/thr/conf/perl-5.13.1/.cpanplus/5.13.1/build/File-Type-0.22/blib/lib:/home/cpan/pit/thr/conf/perl-5.13.1/.cpanplus/5.13.1/build/File-Type-0.22/blib/arch:/home/cpan/pit/thr/conf/perl-5.13.1/.cpanplus/5.13.1/build/YAML-0.73/blib/lib:/home/cpan/pit/thr/conf/perl-5.13.1/.cpanplus/5.13.1/build/YAML-0.73/blib/arch:/home/cpan/pit/thr/conf/perl-5.13.1/.cpanplus/5.13.1/build/File-PathInfo-Ext-1.30/blib/lib:/home/cpan/pit/thr/conf/perl-5.13.1/.cpanplus/5.13.1/build/File-PathInfo-Ext-1.30/blib/arch"
    PERL5_CPANPLUS_IS_RUNNING="5000"
    PERL5_CPANPLUS_IS_VERSION="0.9105"
    PERL5_MINISMOKEBOX="0.44"
    PERL5_YACSMOKE_BASE="/home/cpan/pit/thr/conf/perl-5.13.1"
    PERL_EXTUTILS_AUTOINSTALL="--defaultdeps"
    PERL_MM_USE_DEFAULT="1"
  @INC:
    /home/cpan/pit/thr/conf/perl-5.13.1/.cpanplus/5.13.1/build/File-MMagic-1.27/blib/lib
    /home/cpan/pit/thr/conf/perl-5.13.1/.cpanplus/5.13.1/build/File-MMagic-1.27/blib/arch
    /home/cpan/pit/thr/conf/perl-5.13.1/.cpanplus/5.13.1/build/Smart-Comments-1.0.4/blib/lib
    /home/cpan/pit/thr/conf/perl-5.13.1/.cpanplus/5.13.1/build/Smart-Comments-1.0.4/blib/arch
    /home/cpan/pit/thr/conf/perl-5.13.1/.cpanplus/5.13.1/build/Time-Format-1.11/blib/lib
    /home/cpan/pit/thr/conf/perl-5.13.1/.cpanplus/5.13.1/build/Time-Format-1.11/blib/arch
    /home/cpan/pit/thr/conf/perl-5.13.1/.cpanplus/5.13.1/build/File-PathInfo-1.27/blib/lib
    /home/cpan/pit/thr/conf/perl-5.13.1/.cpanplus/5.13.1/build/File-PathInfo-1.27/blib/arch
    /home/cpan/pit/thr/conf/perl-5.13.1/.cpanplus/5.13.1/build/File-Type-0.22/blib/lib
    /home/cpan/pit/thr/conf/perl-5.13.1/.cpanplus/5.13.1/build/File-Type-0.22/blib/arch
    /home/cpan/pit/thr/conf/perl-5.13.1/.cpanplus/5.13.1/build/YAML-0.73/blib/lib
    /home/cpan/pit/thr/conf/perl-5.13.1/.cpanplus/5.13.1/build/YAML-0.73/blib/arch
    /home/cpan/pit/thr/conf/perl-5.13.1/.cpanplus/5.13.1/build/File-PathInfo-Ext-1.30/blib/lib
    /home/cpan/pit/thr/conf/perl-5.13.1/.cpanplus/5.13.1/build/File-PathInfo-Ext-1.30/blib/arch
    /home/cpan/pit/thr/perl-5.13.1/lib/site_perl/5.13.1/x86_64-linux-thread-multi
    /home/cpan/pit/thr/perl-5.13.1/lib/site_perl/5.13.1
    /home/cpan/pit/thr/perl-5.13.1/lib/5.13.1/x86_64-linux-thread-multi
    /home/cpan/pit/thr/perl-5.13.1/lib/5.13.1
    .