Lingua-Identify-CLD v0.10 Perl 5 v5.18.4 x86_64-linux

Status
Pass
From
Slaven Rezić (SREZIC)
Dist
Lingua-Identify-CLD v0.10
Platform
Perl 5 v5.18.4 x86_64-linux
Date
2019-05-15 20:58:42
ID
390d9018-7754-11e9-944c-06341f24ea8f
This distribution has been tested as part of the CPAN Testers
project, supporting the Perl programming language.  See
http://wiki.cpantesters.org/ for more information or email
questions to cpan-testers-discuss@perl.org


--
Dear Alberto Manuel Brandao Simoes,

This is a computer-generated report for Lingua-Identify-CLD-0.10
on perl 5.18.4, created by CPAN-Reporter-1.2018.

Thank you for uploading your work to CPAN.  Congratulations!
All tests were successful.

Sections of this report:

    * Tester comments
    * Program output
    * Prerequisites
    * Environment and other context

------------------------------
TESTER COMMENTS
------------------------------

Additional comments from tester:

none provided

------------------------------
PROGRAM OUTPUT
------------------------------

Output from './Build test':

cc -I/opt/perl-5.18.4/lib/5.18.4/x86_64-linux/CORE -fPIC -c -fno-strict-aliasing -pipe -fstack-protector -I/usr/local/include -D_LARGEFILE_SOURCE -D_FILE_OFFSET_BITS=64 -O2 -o /var/tmp/cpansmoker-1023/2019051520/VhEN85CZ90/library.o /var/tmp/cpansmoker-1023/2019051520/VhEN85CZ90/library.c
cc -I/opt/perl-5.18.4/lib/5.18.4/x86_64-linux/CORE -fPIC -c -fno-strict-aliasing -pipe -fstack-protector -I/usr/local/include -D_LARGEFILE_SOURCE -D_FILE_OFFSET_BITS=64 -O2 -o /var/tmp/cpansmoker-1023/2019051520/VhEN85CZ90/test.o /var/tmp/cpansmoker-1023/2019051520/VhEN85CZ90/test.c
cc -shared -O2 -L/usr/local/lib -fstack-protector -o /var/tmp/cpansmoker-1023/2019051520/VhEN85CZ90/libfoo.so /var/tmp/cpansmoker-1023/2019051520/VhEN85CZ90/library.o
cc -fstack-protector -L/usr/local/lib -o /var/tmp/cpansmoker-1023/2019051520/VhEN85CZ90/foo /var/tmp/cpansmoker-1023/2019051520/VhEN85CZ90/test.o -L/var/tmp/cpansmoker-1023/2019051520/VhEN85CZ90 -lfoo

** Preparing XS code
# Testing Lingua::Identify::CLD 0.10, Perl 5.018004, /data/perl/perl-5.18.4/bin/perl
t/00-load.t ....... ok
t/01-identify.t ... ok
t/02-html.t ....... ok
t/manifest.t ...... skipped: Author tests not required for installation
t/pod-coverage.t .. skipped: Set AUTHOR_TESTS to enable author tests
t/pod.t ........... skipped: Set AUTHOR_TESTS to enable author tests
All tests successful.
Files=6, Tests=27,  1 wallclock secs ( 0.03 usr  0.09 sys +  0.22 cusr  0.11 csys =  0.45 CPU)
Result: PASS

------------------------------
PREREQUISITES
------------------------------

Prerequisite modules loaded:

requires:

    Module               Need  Have    
    -------------------- ----- --------
    perl                 5.008 5.018004
    XSLoader             0.10  0.24    

build_requires:

    Module               Need  Have    
    -------------------- ----- --------
    Config::AutoConf     0.17  0.317   
    ExtUtils::CBuilder   0.27  0.280210
    ExtUtils::LibBuilder 0.04  0.08    
    ExtUtils::ParseXS    0     3.35    
    Test::More           0     1.302141

configure_requires:

    Module               Need  Have    
    -------------------- ----- --------
    Config::AutoConf     0.16  0.317   
    ExtUtils::LibBuilder 0.04  0.08    
    Module::Build        0.38  0.4224  


------------------------------
ENVIRONMENT AND OTHER CONTEXT
------------------------------

Environment variables:

    LANG = C
    LC_ALL = de_DE.UTF-8
    PATH = /usr/local/bin:/usr/bin:/bin:/usr/local/sbin:/usr/sbin:/sbin:/home/cpansand/bin/linux-gnu:/home/cpansand/bin/sh:/home/cpansand/bin:/usr/games:/home/cpansand/devel:/home/eserte/src/srezic-misc/scripts
    PERL5LIB = /home/cpansand/.cpan/build/2019051520/Config-AutoConf-0.317-v3saNT/blib/arch:/home/cpansand/.cpan/build/2019051520/Config-AutoConf-0.317-v3saNT/blib/lib:/home/cpansand/.cpan/build/2019051520/ExtUtils-LibBuilder-0.08-3gXtrN/blib/arch:/home/cpansand/.cpan/build/2019051520/ExtUtils-LibBuilder-0.08-3gXtrN/blib/lib:/home/cpansand/.cpan/build/2019051520/File-GetLineMaxLength-1.01-P7ODf5/blib/arch:/home/cpansand/.cpan/build/2019051520/File-GetLineMaxLength-1.01-P7ODf5/blib/lib:/home/cpansand/.cpan/build/2019051520/Lingua-Identify-0.56-LHHtNj/blib/arch:/home/cpansand/.cpan/build/2019051520/Lingua-Identify-0.56-LHHtNj/blib/lib:/home/cpansand/.cpan/build/2019051520/Text-Affixes-0.09-j3Lb_V/blib/arch:/home/cpansand/.cpan/build/2019051520/Text-Affixes-0.09-j3Lb_V/blib/lib:/home/cpansand/.cpan/build/2019051520/Text-Ngram-0.15-VzAMMo/blib/arch:/home/cpansand/.cpan/build/2019051520/Text-Ngram-0.15-VzAMMo/blib/lib:/home/cpansand/.cpan/build/2019051520/Unicode-CaseFold-1.01-Ioy_E3/blib/arch:/home/cpansand/.cpan/build/2019051520/Unicode-CaseFold-1.01-Ioy_E3/blib/lib
    PERL5OPT = 
    PERL5_CPANPLUS_IS_RUNNING = 12844
    PERL5_CPAN_IS_RUNNING = 12844
    PERL5_CPAN_IS_RUNNING_IN_RECURSION = 7890,12844
    PERLDOC = -MPod::Perldoc::ToTextOverstrike
    PERL_BATCH = yes
    PERL_CANARY_STABILITY_NOPROMPT = 1
    PERL_CPAN_REPORTER_CONFIG = /var/tmp/cpansmoker-1023/2019051520/cpanreporter_000_config.ini
    PERL_EXTUTILS_AUTOINSTALL = --defaultdeps
    SHELL = /usr/bin/zsh
    TERM = screen
    TMPDIR = /var/tmp/cpansmoker-1023/2019051520

Perl special variables (and OS-specific diagnostics, for MSWin32):

    $^X = /data/perl/perl-5.18.4/bin/perl
    $UID/$EUID = 1023 / 1023
    $GID = 1023 1023
    $EGID = 1023 1023

Perl module toolchain versions installed:

    Module              Have    
    ------------------- --------
    CPAN                2.00    
    CPAN::Meta          2.150010
    Cwd                 3.40    
    ExtUtils::CBuilder  0.280210
    ExtUtils::Command   7.34    
    ExtUtils::Install   2.06    
    ExtUtils::MakeMaker 7.34    
    ExtUtils::Manifest  1.70    
    ExtUtils::ParseXS   3.35    
    File::Spec          3.40    
    JSON                4.00    
    JSON::PP            4.00    
    Module::Build       0.4224  
    Module::Signature   0.83    
    Parse::CPAN::Meta   2.150010
    Test::Harness       3.42    
    Test::More          1.302141
    YAML                1.27    
    YAML::Syck          1.31    
    version             0.9924  


--

Summary of my perl5 (revision 5 version 18 subversion 4) configuration:
   
  Platform:
    osname=linux, osvers=4.9.0-8-amd64, archname=x86_64-linux
    uname='linux eserte 4.9.0-8-amd64 #1 smp debian 4.9.130-2 (2018-10-27) x86_64 gnulinux '
    config_args='-ds -e -Dprefix=/opt/perl-5.18.4 -Dcf_email=srezic@cpan.org'
    hint=previous, useposix=true, d_sigaction=define
    useithreads=undef, usemultiplicity=undef
    useperlio=define, d_sfio=undef, uselargefiles=define, usesocks=undef
    use64bitint=define, use64bitall=define, uselongdouble=undef
    usemymalloc=n, bincompat5005=undef
  Compiler:
    cc='cc', ccflags ='-fno-strict-aliasing -pipe -fstack-protector -I/usr/local/include -D_LARGEFILE_SOURCE -D_FILE_OFFSET_BITS=64',
    optimize='-O2',
    cppflags='-fno-strict-aliasing -pipe -fstack-protector -I/usr/local/include -fno-strict-aliasing -pipe -fstack-protector -I/usr/local/include -D_LARGEFILE_SOURCE -D_FILE_OFFSET_BITS=64'
    ccversion='', gccversion='6.3.0 20170516', gccosandvers=''
    intsize=4, longsize=8, ptrsize=8, doublesize=8, byteorder=12345678
    d_longlong=define, longlongsize=8, d_longdbl=define, longdblsize=16
    ivtype='long', ivsize=8, nvtype='double', nvsize=8, Off_t='off_t', lseeksize=8
    alignbytes=8, prototype=define
  Linker and Libraries:
    ld='cc', ldflags =' -fstack-protector -L/usr/local/lib'
    libpth=/usr/local/lib /lib/x86_64-linux-gnu /lib/../lib /usr/lib/x86_64-linux-gnu /usr/lib/../lib /lib /usr/lib
    libs=-lnsl -ldb -ldl -lm -lcrypt -lutil -lc
    perllibs=-lnsl -ldl -lm -lcrypt -lutil -lc
    libc=libc-2.24.so, so=so, useshrplib=false, libperl=libperl.a
    gnulibc_version='2.24'
  Dynamic Linking:
    dlsrc=dl_dlopen.xs, dlext=so, d_dlsymun=undef, ccdlflags='-Wl,-E'
    cccdlflags='-fPIC', lddlflags='-shared -O2 -L/usr/local/lib -fstack-protector'


Characteristics of this binary (from libperl): 
  Compile-time options: HAS_TIMES PERLIO_LAYERS PERL_DONT_CREATE_GVSV
                        PERL_HASH_FUNC_ONE_AT_A_TIME_HARD PERL_MALLOC_WRAP
                        PERL_PRESERVE_IVUV PERL_SAWAMPERSAND USE_64_BIT_ALL
                        USE_64_BIT_INT USE_LARGE_FILES USE_LOCALE
                        USE_LOCALE_COLLATE USE_LOCALE_CTYPE
                        USE_LOCALE_NUMERIC USE_PERLIO USE_PERL_ATOF
  Locally applied patches:
	Devel::PatchPerl 1.46
  Built under linux
  Compiled at Jan  5 2019 17:47:21
  %ENV:
    PERL5LIB="/home/cpansand/.cpan/build/2019051520/Config-AutoConf-0.317-v3saNT/blib/arch:/home/cpansand/.cpan/build/2019051520/Config-AutoConf-0.317-v3saNT/blib/lib:/home/cpansand/.cpan/build/2019051520/ExtUtils-LibBuilder-0.08-3gXtrN/blib/arch:/home/cpansand/.cpan/build/2019051520/ExtUtils-LibBuilder-0.08-3gXtrN/blib/lib:/home/cpansand/.cpan/build/2019051520/File-GetLineMaxLength-1.01-P7ODf5/blib/arch:/home/cpansand/.cpan/build/2019051520/File-GetLineMaxLength-1.01-P7ODf5/blib/lib:/home/cpansand/.cpan/build/2019051520/Lingua-Identify-0.56-LHHtNj/blib/arch:/home/cpansand/.cpan/build/2019051520/Lingua-Identify-0.56-LHHtNj/blib/lib:/home/cpansand/.cpan/build/2019051520/Text-Affixes-0.09-j3Lb_V/blib/arch:/home/cpansand/.cpan/build/2019051520/Text-Affixes-0.09-j3Lb_V/blib/lib:/home/cpansand/.cpan/build/2019051520/Text-Ngram-0.15-VzAMMo/blib/arch:/home/cpansand/.cpan/build/2019051520/Text-Ngram-0.15-VzAMMo/blib/lib:/home/cpansand/.cpan/build/2019051520/Unicode-CaseFold-1.01-Ioy_E3/blib/arch:/home/cpansand/.cpan/build/2019051520/Unicode-CaseFold-1.01-Ioy_E3/blib/lib"
    PERL5OPT=""
    PERL5_CPANPLUS_IS_RUNNING="12844"
    PERL5_CPAN_IS_RUNNING="12844"
    PERL5_CPAN_IS_RUNNING_IN_RECURSION="7890,12844"
    PERLDOC="-MPod::Perldoc::ToTextOverstrike"
    PERL_BATCH="yes"
    PERL_CANARY_STABILITY_NOPROMPT="1"
    PERL_CPAN_REPORTER_CONFIG="/var/tmp/cpansmoker-1023/2019051520/cpanreporter_000_config.ini"
    PERL_EXTUTILS_AUTOINSTALL="--defaultdeps"
  @INC:
    /home/cpansand/.cpan/build/2019051520/Config-AutoConf-0.317-v3saNT/blib/arch
    /home/cpansand/.cpan/build/2019051520/Config-AutoConf-0.317-v3saNT/blib/lib
    /home/cpansand/.cpan/build/2019051520/ExtUtils-LibBuilder-0.08-3gXtrN/blib/arch
    /home/cpansand/.cpan/build/2019051520/ExtUtils-LibBuilder-0.08-3gXtrN/blib/lib
    /home/cpansand/.cpan/build/2019051520/File-GetLineMaxLength-1.01-P7ODf5/blib/arch
    /home/cpansand/.cpan/build/2019051520/File-GetLineMaxLength-1.01-P7ODf5/blib/lib
    /home/cpansand/.cpan/build/2019051520/Lingua-Identify-0.56-LHHtNj/blib/arch
    /home/cpansand/.cpan/build/2019051520/Lingua-Identify-0.56-LHHtNj/blib/lib
    /home/cpansand/.cpan/build/2019051520/Text-Affixes-0.09-j3Lb_V/blib/arch
    /home/cpansand/.cpan/build/2019051520/Text-Affixes-0.09-j3Lb_V/blib/lib
    /home/cpansand/.cpan/build/2019051520/Text-Ngram-0.15-VzAMMo/blib/arch
    /home/cpansand/.cpan/build/2019051520/Text-Ngram-0.15-VzAMMo/blib/lib
    /home/cpansand/.cpan/build/2019051520/Unicode-CaseFold-1.01-Ioy_E3/blib/arch
    /home/cpansand/.cpan/build/2019051520/Unicode-CaseFold-1.01-Ioy_E3/blib/lib
    /opt/perl-5.18.4/lib/site_perl/5.18.4/x86_64-linux
    /opt/perl-5.18.4/lib/site_perl/5.18.4
    /opt/perl-5.18.4/lib/5.18.4/x86_64-linux
    /opt/perl-5.18.4/lib/5.18.4
    .