Report for Test-DependentModules-0.22

Back
From: metabase:user:30f4dfbe-2aae-11df-837a-5e0a49663a4f
Subject: PASS Test-DependentModules-0.22 v5.16.2 Mac OS X
Date: 2015-08-22T03:16:47Z

This distribution has been tested as part of the CPAN Testers
project, supporting the Perl programming language.  See
http://wiki.cpantesters.org/ for more information or email
questions to cpan-testers-discuss@perl.org


--
Dear Dave Rolsky,

This is a computer-generated report for Test-DependentModules-0.22
on perl 5.16.2, created by CPAN-Reporter-1.2014.

Thank you for uploading your work to CPAN.  Congratulations!
All tests were successful.

Sections of this report:

    * Tester comments
    * Program output
    * Prerequisites
    * Environment and other context

------------------------------
TESTER COMMENTS
------------------------------

Additional comments from tester:

this report is from an automated smoke testing program
and was not reviewed by a human for accuracy

------------------------------
PROGRAM OUTPUT
------------------------------

Output from '/sw/bin/make test':

PERL_DL_NONLAZY=1 "/Users/hornenj/perl5/perlbrew/perls/perl-5.16.2/bin/perl" "-MExtUtils::Command::MM" "-MTest::Harness" "-e" "undef *Test::Harness::Switches; test_harness(0, 'blib/lib', 'blib/arch')" t/*.t
# 
# Versions for all modules listed in MYMETA.json (including optional ones):
# 
# === Configure Requires ===
# 
#     Module              Want Have
#     ------------------- ---- ----
#     ExtUtils::MakeMaker  any 7.04
# 
# === Build Requires ===
# 
#     Module              Want Have
#     ------------------- ---- ----
#     ExtUtils::MakeMaker  any 7.04
# 
# === Test Requires ===
# 
#     Module                Want     Have
#     --------------------- ---- --------
#     ExtUtils::MakeMaker    any     7.04
#     File::Copy::Recursive  any     0.38
#     File::Spec             any     3.47
#     Module::Build          any   0.4214
#     Module::Build::Tiny    any    0.039
#     Test::More            0.96 1.001014
# 
# === Test Recommends ===
# 
#     Module         Want     Have
#     ---------- -------- --------
#     CPAN::Meta 2.120900 2.150005
# 
# === Runtime Requires ===
# 
#     Module           Want     Have
#     ---------------- ---- --------
#     CPAN              any     2.10
#     CPAN::Shell       any   5.5005
#     Capture::Tiny     any     0.30
#     Cwd               any     3.47
#     Exporter          any     5.72
#     File::Path        any     2.11
#     File::Spec        any     3.47
#     File::Temp        any   0.2304
#     File::chdir       any   0.1010
#     IO::Handle::Util  any     0.01
#     IPC::Run3         any    0.048
#     Log::Dispatch     any     2.45
#     MetaCPAN::Client  any 1.013000
#     Test::Builder     any 1.001014
#     Try::Tiny         any     0.22
#     autodie           any     2.29
#     strict            any     1.07
#     warnings          any     1.13
# 
# === Runtime Recommends ===
# 
#     Module                  Want    Have
#     --------------------- ------ -------
#     Parallel::ForkManager v0.7.6 missing
# 
t/00-report-prereqs.t .......... ok
t/author-00-compile.t .......... skipped: these tests are for testing by the author
t/author-all-my-deps.t ......... skipped: these tests are for testing by the author
t/author-configure-requires.t .. skipped: these tests are for testing by the author
t/author-eol.t ................. skipped: these tests are for testing by the author
t/author-mojibake.t ............ skipped: these tests are for testing by the author
t/author-no-tabs.t ............. skipped: these tests are for testing by the author
t/author-pod-spell.t ........... skipped: these tests are for testing by the author
t/author-single-distros.t ...... skipped: these tests are for testing by the author
t/author-test-version.t ........ skipped: these tests are for testing by the author
t/author-two-distros.t ......... skipped: these tests are for testing by the author
t/basic.t ...................... ok
t/release-cpan-changes.t ....... skipped: these tests are for release candidate testing
t/release-pod-coverage.t ....... skipped: these tests are for release candidate testing
t/release-pod-linkcheck.t ...... skipped: these tests are for release candidate testing
t/release-pod-no404s.t ......... skipped: these tests are for release candidate testing
t/release-pod-syntax.t ......... skipped: these tests are for release candidate testing
t/release-portability.t ........ skipped: these tests are for release candidate testing
t/release-tidyall.t ............ skipped: these tests are for release candidate testing
All tests successful.
Files=19, Tests=8,  4 wallclock secs ( 0.05 usr  0.02 sys +  3.09 cusr  0.82 csys =  3.98 CPU)
Result: PASS

------------------------------
PREREQUISITES
------------------------------

Prerequisite modules loaded:

requires:

    Module                Need Have    
    --------------------- ---- --------
    autodie               0    2.29    
    Capture::Tiny         0    0.30    
    CPAN                  0    2.10    
    CPAN::Shell           0    5.5005  
    Cwd                   0    3.47    
    Exporter              0    5.72    
    File::chdir           0    0.1010  
    File::Path            0    2.11    
    File::Spec            0    3.47    
    File::Temp            0    0.2304  
    IO::Handle::Util      0    0.01    
    IPC::Run3             0    0.048   
    Log::Dispatch         0    2.45    
    MetaCPAN::Client      0    1.013000
    strict                0    1.07    
    Test::Builder         0    1.001014
    Try::Tiny             0    0.22    
    warnings              0    1.13    

build_requires:

    Module                Need Have    
    --------------------- ---- --------
    ExtUtils::MakeMaker   0    7.04    
    File::Copy::Recursive 0    0.38    
    File::Spec            0    3.47    
    Module::Build         0    0.4214  
    Module::Build::Tiny   0    0.039   
    Test::More            0.96 1.001014

configure_requires:

    Module                Need Have    
    --------------------- ---- --------
    ExtUtils::MakeMaker   0    7.04    


------------------------------
ENVIRONMENT AND OTHER CONTEXT
------------------------------

Environment variables:

    AUTOMATED_TESTING = 1
    LANG = en_US.UTF-8
    LC_ALL = POSIX
    LD_LIBRARY_PATH = :/net/traces01.be-md.ncbi.nlm.nih.gov/trace_software/vdb/mac/release/x86_64/lib
    NO_NETWORK_TESTING = 1
    PATH = /Users/hornenj/perl5/perlbrew/bin:/Users/hornenj/perl5/perlbrew/perls/perl-5.16.2/bin:/Users/hornenj/bin:/Users/hornenj/perl5/perlbrew/bin:/sw/lib/perl5/ExtUtils:/sw/bin:/am/ncbiapdata/bin:/usr/bin:/bin:/usr/X11R6/bin:/netopt/ncbi_tools/bin:/usr/local/ncbi/blast/bin:/net/traces01.be-md.ncbi.nlm.nih.gov/trace_software/vdb/mac/release/x86_64/bin
    PERL5LIB = /Users/hornenj/.cpan/build/IO-Handle-Util-0.01-htX2_W/blib/arch:/Users/hornenj/.cpan/build/IO-Handle-Util-0.01-htX2_W/blib/lib:/Users/hornenj/.cpan/build/asa-1.03-GYFK61/blib/arch:/Users/hornenj/.cpan/build/asa-1.03-GYFK61/blib/lib:/Users/hornenj/.cpan/build/MetaCPAN-Client-1.013000-AFQdvQ/blib/arch:/Users/hornenj/.cpan/build/MetaCPAN-Client-1.013000-AFQdvQ/blib/lib:/Users/hornenj/.cpan/build/Safe-Isa-1.000005-Hvergi/blib/arch:/Users/hornenj/.cpan/build/Safe-Isa-1.000005-Hvergi/blib/lib:/Users/hornenj/.cpan/build/Search-Elasticsearch-1.20-pOFMp1/blib/arch:/Users/hornenj/.cpan/build/Search-Elasticsearch-1.20-pOFMp1/blib/lib:/Users/hornenj/.cpan/build/Any-URI-Escape-0.01-bGrnCw/blib/arch:/Users/hornenj/.cpan/build/Any-URI-Escape-0.01-bGrnCw/blib/lib:/Users/hornenj/.cpan/build/Hijk-0.24-aPQn8W/blib/arch:/Users/hornenj/.cpan/build/Hijk-0.24-aPQn8W/blib/lib:/Users/hornenj/.cpan/build/Log-Any-Adapter-Callback-0.09-oWLnO4/blib/arch:/Users/hornenj/.cpan/build/Log-Any-Adapter-Callback-0.09-oWLnO4/blib/lib
    PERL5OPT = 
    PERL5_CPANPLUS_IS_RUNNING = 45181
    PERL5_CPAN_IS_RUNNING = 45181
    PERL5_MINISMOKEBOX = 0.58
    PERLBREW_BASHRC_VERSION = 0.73
    PERLBREW_HOME = /Users/hornenj/.perlbrew
    PERLBREW_LIB = 
    PERLBREW_MANPATH = /Users/hornenj/perl5/perlbrew/perls/perl-5.16.2/man
    PERLBREW_PATH = /Users/hornenj/perl5/perlbrew/bin:/Users/hornenj/perl5/perlbrew/perls/perl-5.16.2/bin
    PERLBREW_PERL = perl-5.16.2
    PERLBREW_ROOT = /Users/hornenj/perl5/perlbrew
    PERLBREW_VERSION = 0.73
    PERL_EXTUTILS_AUTOINSTALL = --defaultdeps
    PERL_LOCAL_LIB_ROOT = 
    PERL_MM_USE_DEFAULT = 1
    SHELL = /bin/bash
    TERM = xterm-256color
    TMPDIR = /var/folders/pz/pd7y1qjs6s3cbk170cw50fjc000c61/T/
    VERSIONER_PERL_PREFER_32_BIT = no
    VERSIONER_PERL_VERSION = 5.18
    ac_cv_path_INTLTOOL_PERL = /usr/bin/perl

Perl special variables (and OS-specific diagnostics, for MSWin32):

    $^X = /Users/hornenj/perl5/perlbrew/perls/perl-5.16.2/bin/perl
    $UID/$EUID = 12481 / 12481
    $GID = 14 14 5344 37103 527 241
    $EGID = 14 14 5344 37103 527 241

Perl module toolchain versions installed:

    Module              Have    
    ------------------- --------
    CPAN                2.10    
    CPAN::Meta          2.150005
    Cwd                 3.47    
    ExtUtils::CBuilder  0.280223
    ExtUtils::Command   1.20    
    ExtUtils::Install   2.04    
    ExtUtils::MakeMaker 7.04    
    ExtUtils::Manifest  1.70    
    ExtUtils::ParseXS   3.24    
    File::Spec          3.47    
    JSON                2.90    
    JSON::PP            2.27300 
    Module::Build       0.4214  
    Module::Signature   n/a     
    Parse::CPAN::Meta   1.4417  
    Test::Harness       3.35    
    Test::More          1.001014
    YAML                1.15    
    YAML::Syck          1.29    
    version             0.9912  


--

Summary of my perl5 (revision 5 version 16 subversion 2) configuration:
   
  Platform:
    osname=darwin, osvers=12.2.1, archname=darwin-2level
    uname='darwin ncbimac2008.ncbi.nlm.nih.gov 12.2.1 darwin kernel version 12.2.1: thu oct 18 12:13:47 pdt 2012; root:xnu-2050.20.9~1release_x86_64 x86_64 '
    config_args='-de -Dprefix=/Users/hornenj/perl5/perlbrew/perls/perl-5.16.2'
    hint=previous, useposix=true, d_sigaction=define
    useithreads=undef, usemultiplicity=undef
    useperlio=define, d_sfio=undef, uselargefiles=define, usesocks=undef
    use64bitint=define, use64bitall=define, uselongdouble=undef
    usemymalloc=n, bincompat5005=undef
  Compiler:
    cc='cc', ccflags ='-fno-common -DPERL_DARWIN -fno-strict-aliasing -pipe -fstack-protector',
    optimize='-O3',
    cppflags='-fno-common -DPERL_DARWIN -fno-strict-aliasing -pipe -fstack-protector -fno-common -DPERL_DARWIN -fno-strict-aliasing -pipe -fstack-protector'
    ccversion='', gccversion='4.2.1 Compatible Apple LLVM 4.2 (clang-425.0.24)', gccosandvers=''
    intsize=4, longsize=8, ptrsize=8, doublesize=8, byteorder=12345678
    d_longlong=define, longlongsize=8, d_longdbl=define, longdblsize=16
    ivtype='long', ivsize=8, nvtype='double', nvsize=8, Off_t='off_t', lseeksize=8
    alignbytes=8, prototype=define
  Linker and Libraries:
    ld='env MACOSX_DEPLOYMENT_TARGET=10.3 cc', ldflags =' -fstack-protector'
    libpth=/usr/lib
    libs=-ldbm -ldl -lm -lutil -lc
    perllibs=-ldl -lm -lutil -lc
    libc=, so=dylib, useshrplib=false, libperl=libperl.a
    gnulibc_version=''
  Dynamic Linking:
    dlsrc=dl_dlopen.xs, dlext=bundle, d_dlsymun=undef, ccdlflags=' '
    cccdlflags=' ', lddlflags=' -bundle -undefined dynamic_lookup -fstack-protector'


Characteristics of this binary (from libperl): 
  Compile-time options: HAS_TIMES PERLIO_LAYERS PERL_DONT_CREATE_GVSV
                        PERL_MALLOC_WRAP PERL_PRESERVE_IVUV USE_64_BIT_ALL
                        USE_64_BIT_INT USE_LARGE_FILES USE_LOCALE
                        USE_LOCALE_COLLATE USE_LOCALE_CTYPE
                        USE_LOCALE_NUMERIC USE_PERLIO USE_PERL_ATOF
  Built under darwin
  Compiled at Mar  4 2013 16:03:07
  %ENV:
    PERL5LIB="/Users/hornenj/.cpan/build/IO-Handle-Util-0.01-htX2_W/blib/arch:/Users/hornenj/.cpan/build/IO-Handle-Util-0.01-htX2_W/blib/lib:/Users/hornenj/.cpan/build/asa-1.03-GYFK61/blib/arch:/Users/hornenj/.cpan/build/asa-1.03-GYFK61/blib/lib:/Users/hornenj/.cpan/build/MetaCPAN-Client-1.013000-AFQdvQ/blib/arch:/Users/hornenj/.cpan/build/MetaCPAN-Client-1.013000-AFQdvQ/blib/lib:/Users/hornenj/.cpan/build/Safe-Isa-1.000005-Hvergi/blib/arch:/Users/hornenj/.cpan/build/Safe-Isa-1.000005-Hvergi/blib/lib:/Users/hornenj/.cpan/build/Search-Elasticsearch-1.20-pOFMp1/blib/arch:/Users/hornenj/.cpan/build/Search-Elasticsearch-1.20-pOFMp1/blib/lib:/Users/hornenj/.cpan/build/Any-URI-Escape-0.01-bGrnCw/blib/arch:/Users/hornenj/.cpan/build/Any-URI-Escape-0.01-bGrnCw/blib/lib:/Users/hornenj/.cpan/build/Hijk-0.24-aPQn8W/blib/arch:/Users/hornenj/.cpan/build/Hijk-0.24-aPQn8W/blib/lib:/Users/hornenj/.cpan/build/Log-Any-Adapter-Callback-0.09-oWLnO4/blib/arch:/Users/hornenj/.cpan/build/Log-Any-Adapter-Callback-0.09-oWLnO4/blib/lib"
    PERL5OPT=""
    PERL5_CPANPLUS_IS_RUNNING="45181"
    PERL5_CPAN_IS_RUNNING="45181"
    PERL5_MINISMOKEBOX="0.58"
    PERLBREW_BASHRC_VERSION="0.73"
    PERLBREW_HOME="/Users/hornenj/.perlbrew"
    PERLBREW_LIB=""
    PERLBREW_MANPATH="/Users/hornenj/perl5/perlbrew/perls/perl-5.16.2/man"
    PERLBREW_PATH="/Users/hornenj/perl5/perlbrew/bin:/Users/hornenj/perl5/perlbrew/perls/perl-5.16.2/bin"
    PERLBREW_PERL="perl-5.16.2"
    PERLBREW_ROOT="/Users/hornenj/perl5/perlbrew"
    PERLBREW_VERSION="0.73"
    PERL_EXTUTILS_AUTOINSTALL="--defaultdeps"
    PERL_LOCAL_LIB_ROOT=""
    PERL_MM_USE_DEFAULT="1"
  @INC:
    /Users/hornenj/.cpan/build/IO-Handle-Util-0.01-htX2_W/blib/arch
    /Users/hornenj/.cpan/build/IO-Handle-Util-0.01-htX2_W/blib/lib
    /Users/hornenj/.cpan/build/asa-1.03-GYFK61/blib/arch
    /Users/hornenj/.cpan/build/asa-1.03-GYFK61/blib/lib
    /Users/hornenj/.cpan/build/MetaCPAN-Client-1.013000-AFQdvQ/blib/arch
    /Users/hornenj/.cpan/build/MetaCPAN-Client-1.013000-AFQdvQ/blib/lib
    /Users/hornenj/.cpan/build/Safe-Isa-1.000005-Hvergi/blib/arch
    /Users/hornenj/.cpan/build/Safe-Isa-1.000005-Hvergi/blib/lib
    /Users/hornenj/.cpan/build/Search-Elasticsearch-1.20-pOFMp1/blib/arch
    /Users/hornenj/.cpan/build/Search-Elasticsearch-1.20-pOFMp1/blib/lib
    /Users/hornenj/.cpan/build/Any-URI-Escape-0.01-bGrnCw/blib/arch
    /Users/hornenj/.cpan/build/Any-URI-Escape-0.01-bGrnCw/blib/lib
    /Users/hornenj/.cpan/build/Hijk-0.24-aPQn8W/blib/arch
    /Users/hornenj/.cpan/build/Hijk-0.24-aPQn8W/blib/lib
    /Users/hornenj/.cpan/build/Log-Any-Adapter-Callback-0.09-oWLnO4/blib/arch
    /Users/hornenj/.cpan/build/Log-Any-Adapter-Callback-0.09-oWLnO4/blib/lib
    /Users/hornenj/perl5/perlbrew/perls/perl-5.16.2/lib/site_perl/5.16.2/darwin-2level
    /Users/hornenj/perl5/perlbrew/perls/perl-5.16.2/lib/site_perl/5.16.2
    /Users/hornenj/perl5/perlbrew/perls/perl-5.16.2/lib/5.16.2/darwin-2level
    /Users/hornenj/perl5/perlbrew/perls/perl-5.16.2/lib/5.16.2
    .