Report for Text-Balanced-2.03

Back
From: metabase:user:44baa983-6bf6-1014-9a1d-e6daa5296772
Subject: PASS Text-Balanced-2.03 v5.16.3 Mac OS X
Date: 2016-02-25T04:35:40Z

This distribution has been tested as part of the CPAN Testers
project, supporting the Perl programming language.  See
http://wiki.cpantesters.org/ for more information or email
questions to cpan-testers-discuss@perl.org


--
Dear Steve Hay,

This is a computer-generated report for Text-Balanced-2.03
on perl 5.16.3, created by CPAN-Reporter-1.2015.

Thank you for uploading your work to CPAN.  Congratulations!
All tests were successful.

Sections of this report:

    * Tester comments
    * Program output
    * Prerequisites
    * Environment and other context

------------------------------
TESTER COMMENTS
------------------------------

Additional comments from tester:

none provided

------------------------------
PROGRAM OUTPUT
------------------------------

Output from '/usr/bin/make test':

PERL_DL_NONLAZY=1 "/opt/local/bin/perl5.16" "-MExtUtils::Command::MM" "-MTest::Harness" "-e" "undef *Test::Harness::Switches; test_harness(0, 'blib/lib', 'blib/arch')" t/*.t
t/01_compile.t .. ok
t/02_extbrk.t ... ok
t/03_extcbk.t ... ok
t/04_extdel.t ... ok
t/05_extmul.t ... ok
t/06_extqlk.t ... ok
t/07_exttag.t ... ok
t/08_extvar.t ... ok
t/09_gentag.t ... ok
t/97_meta.t ..... skipped: Author tests not required for installation
t/98_pod.t ...... skipped: Author tests not required for installation
t/99_pmv.t ...... skipped: Author tests not required for installation
All tests successful.
Files=12, Tests=560,  1 wallclock secs ( 0.07 usr  0.02 sys +  0.26 cusr  0.03 csys =  0.38 CPU)
Result: PASS

------------------------------
PREREQUISITES
------------------------------

Prerequisite modules loaded:

requires:

    Module              Need Have    
    ------------------- ---- --------
    Test::More          0.47 1.001014

build_requires:

    Module              Need Have    
    ------------------- ---- --------
    ExtUtils::MakeMaker 0    7.10    

configure_requires:

    Module              Need Have    
    ------------------- ---- --------
    ExtUtils::MakeMaker 0    7.10    


------------------------------
ENVIRONMENT AND OTHER CONTEXT
------------------------------

Environment variables:

    LC_CTYPE = UTF-8
    PATH = /opt/local/bin:/opt/local/sbin:/opt/local/bin:/opt/local/sbin:/Users/burak/.plenv/shims:/Users/burak/.plenv/bin:/opt/local/bin:/opt/local/sbin:/Users/burak/.rakudobrew/bin:/usr/local/bin:/usr/bin:/bin:/usr/sbin:/sbin:/opt/local/bin:/opt/local/sbin
    PERL5LIB = 
    PERL5OPT = 
    PERL5_CPANPLUS_IS_RUNNING = 40393
    PERL5_CPAN_IS_RUNNING = 40393
    SHELL = /bin/bash
    TERM = xterm-256color

Perl special variables (and OS-specific diagnostics, for MSWin32):

    $^X = /opt/local/bin/perl5.16
    $UID/$EUID = 0 / 0
    $GID = 0 0 1 2 3 4 5 8 9 12 20 29 61 80
    $EGID = 0 0 1 2 3 4 5 8 9 12 20 29 61 80

Perl module toolchain versions installed:

    Module              Have    
    ------------------- --------
    CPAN                2.10    
    CPAN::Meta          2.150005
    Cwd                 3.62    
    ExtUtils::CBuilder  0.280224
    ExtUtils::Command   7.10    
    ExtUtils::Install   2.04    
    ExtUtils::MakeMaker 7.10    
    ExtUtils::Manifest  1.70    
    ExtUtils::ParseXS   3.30    
    File::Spec          3.62    
    JSON                2.90    
    JSON::PP            2.27300 
    Module::Build       0.4216  
    Module::Signature   n/a     
    Parse::CPAN::Meta   1.4417  
    Test::Harness       3.36    
    Test::More          1.001014
    YAML                n/a     
    YAML::Syck          n/a     
    version             0.99    


--

Summary of my perl5 (revision 5 version 16 subversion 3) configuration:
   
  Platform:
    osname=darwin, osvers=15.0.0, archname=darwin-thread-multi-2level
    uname='darwin tonyukuk.local 15.0.0 darwin kernel version 15.0.0: sat sep 19 15:53:46 pdt 2015; root:xnu-3247.10.11~1release_x86_64 x86_64 '
    config_args='-Dinc_version_list=5.16.1/darwin-thread-multi-2level 5.16.1 5.16.0/darwin-thread-multi-2level 5.16.0 -des -Dprefix=/opt/local -Dscriptdir=/opt/local/bin -Dcppflags=-I/opt/local/include -Dccflags=-pipe -Os  -Dldflags=-L/opt/local/lib -Wl,-headerpad_max_install_names  -Dvendorprefix=/opt/local -Dusemultiplicity=y -Dusethreads -Duseshrplib -Dcc=/usr/bin/clang -Dld=env MACOSX_DEPLOYMENT_TARGET=10.11 /usr/bin/clang -Dman1ext=1pm -Dman3ext=3pm -Dman1dir=/opt/local/share/man/man1p -Dman3dir=/opt/local/share/man/man3p -Dsitebin=/opt/local/libexec/perl5.16/sitebin -Dsiteman1dir=/opt/local/share/perl5.16/siteman/man1 -Dsiteman3dir=/opt/local/share/perl5.16/siteman/man3 -Dvendorbin=/opt/local/libexec/perl5.16 -Dvendorman1dir=/opt/local/share/perl5.16/man/man1 -Dvendorman3dir=/opt/local/share/perl5.16/man/man3 -Dpager=/usr/bin/less -sR -Dperlpath=/opt/local/bin/perl5.16 -Dstartperl=#!/opt/local/bin/perl5.16'
    hint=recommended, useposix=true, d_sigaction=define
    useithreads=define, usemultiplicity=define
    useperlio=define, d_sfio=undef, uselargefiles=define, usesocks=undef
    use64bitint=define, use64bitall=define, uselongdouble=undef
    usemymalloc=n, bincompat5005=undef
  Compiler:
    cc='/usr/bin/clang', ccflags ='-pipe -Os  -fno-common -DPERL_DARWIN -I/opt/local/include -fno-strict-aliasing -fstack-protector -I/opt/local/include',
    optimize='-O3',
    cppflags='-I/opt/local/include -pipe -Os  -fno-common -DPERL_DARWIN -I/opt/local/include -fno-strict-aliasing -fstack-protector -I/opt/local/include'
    ccversion='', gccversion='4.2.1 Compatible Apple LLVM 7.0.0 (clang-700.1.76)', gccosandvers=''
    intsize=4, longsize=8, ptrsize=8, doublesize=8, byteorder=12345678
    d_longlong=define, longlongsize=8, d_longdbl=define, longdblsize=16
    ivtype='long', ivsize=8, nvtype='double', nvsize=8, Off_t='off_t', lseeksize=8
    alignbytes=8, prototype=define
  Linker and Libraries:
    ld='env MACOSX_DEPLOYMENT_TARGET=10.11 /usr/bin/clang', ldflags ='-L/opt/local/lib -Wl,-headerpad_max_install_names  -fstack-protector'
    libpth=/opt/local/lib /usr/lib
    libs=-lgdbm -ldbm -ldl -lm -lutil -lc
    perllibs=-ldl -lm -lutil -lc
    libc=, so=dylib, useshrplib=true, libperl=libperl.dylib
    gnulibc_version=''
  Dynamic Linking:
    dlsrc=dl_dlopen.xs, dlext=bundle, d_dlsymun=undef, ccdlflags=' '
    cccdlflags=' ', lddlflags='-L/opt/local/lib -Wl,-headerpad_max_install_names  -bundle -undefined dynamic_lookup -fstack-protector'


Characteristics of this binary (from libperl): 
  Compile-time options: HAS_TIMES MULTIPLICITY PERLIO_LAYERS
                        PERL_DONT_CREATE_GVSV PERL_IMPLICIT_CONTEXT
                        PERL_MALLOC_WRAP PERL_PRESERVE_IVUV USE_64_BIT_ALL
                        USE_64_BIT_INT USE_ITHREADS USE_LARGE_FILES
                        USE_LOCALE USE_LOCALE_COLLATE USE_LOCALE_CTYPE
                        USE_LOCALE_NUMERIC USE_PERLIO USE_PERL_ATOF
                        USE_REENTRANT_API
  Built under darwin
  Compiled at Nov 16 2015 03:58:36
  %ENV:
    PERL5LIB=""
    PERL5OPT=""
    PERL5_CPANPLUS_IS_RUNNING="40393"
    PERL5_CPAN_IS_RUNNING="40393"
  @INC:
    /opt/local/lib/perl5/site_perl/5.16.3/darwin-thread-multi-2level
    /opt/local/lib/perl5/site_perl/5.16.3
    /opt/local/lib/perl5/vendor_perl/5.16.3/darwin-thread-multi-2level
    /opt/local/lib/perl5/vendor_perl/5.16.3
    /opt/local/lib/perl5/5.16.3/darwin-thread-multi-2level
    /opt/local/lib/perl5/5.16.3
    /opt/local/lib/perl5/site_perl
    /opt/local/lib/perl5/vendor_perl/5.16.1/darwin-thread-multi-2level
    /opt/local/lib/perl5/vendor_perl/5.16.1
    /opt/local/lib/perl5/vendor_perl
    .