Math-PlanePath v129 Perl 5 v5.32.1 i386-openbsd

Status
Pass
From
Alceu Rodrigues de Freitas Junior
Dist
Math-PlanePath v129
Platform
Perl 5 v5.32.1 i386-openbsd
Date
2022-06-16 23:44:13
ID
39d75ecc-edce-11ec-b737-db65ffa5fe2c
This distribution has been tested as part of the CPAN Testers
project, supporting the Perl programming language.  See
http://wiki.cpantesters.org/ for more information or email
questions to cpan-testers-discuss@perl.org


--
Dear Kevin Ryde,

This is a computer-generated report for Math-PlanePath-129
on perl 5.32.1, created by CPAN-Reporter-1.2018.

Thank you for uploading your work to CPAN.  Congratulations!
All tests were successful.

Sections of this report:

    * Tester comments
    * Program output
    * Prerequisites
    * Environment and other context

------------------------------
TESTER COMMENTS
------------------------------

Additional comments from tester:

this report is from an automated smoke testing program
and was not reviewed by a human for accuracy

------------------------------
PROGRAM OUTPUT
------------------------------

Output from '/usr/bin/make test':

PERL_DL_NONLAZY=1 "/usr/bin/perl" "-MExtUtils::Command::MM" "-MTest::Harness" "-e" "undef *Test::Harness::Switches; test_harness(0, 'blib/lib', 'blib/arch')" t/*.t
t/AlternatePaper.t .............. ok
t/AlternatePaperMidpoint.t ...... ok
t/AlternateTerdragon.t .......... ok
t/AnvilSpiral.t ................. ok
t/ArchimedeanChords.t ........... ok
t/AztecDiamondRings.t ........... ok
# modulo operator dodginess ((~0)%2) != ((~0)&1): no (good)
# round_down_pow(3) tests stop for round-off at i=33
# round_up_pow(3) tests stop for round-off at i=32
t/Base-Digits.t ................. ok
# nan is NaN
t/Base-Generic.t ................ ok
t/BetaOmeta.t ................... ok
# Math::BigFloat version 1.999835
# Math::BigInt version 1.999835
# +inf is inf
# -inf is -inf
# nan is NaN
t/bigfloat.t .................... ok
# skip due to Math::BigInt::Lite not available -- Can't locate Math/BigInt/Lite.pm in @INC (you may need to install the Math::BigInt::Lite module) (@INC contains: t /mnt/cpan_build_dir/goku/Math-PlanePath-129-0/blib/lib /mnt/cpan_build_dir/goku/Math-PlanePath-129-0/blib/arch /home/goku/perl5/lib/perl5/i386-openbsd /home/goku/perl5/lib/perl5 /usr/local/libdata/perl5/site_perl/i386-openbsd /usr/local/libdata/perl5/site_perl /usr/libdata/perl5/i386-openbsd /usr/libdata/perl5 .) at t/bigint-lite.t line 31.
# 
t/bigint-lite.t ................. ok
# Math::BigInt version 1.999835
# Math::BigInt version 1.999835
t/bigint.t ...................... ok
t/CCurve.t ...................... ok
# bitwise check rule=2
# bitwise check rule=4
# bitwise check rule=6
# bitwise check rule=10
# bitwise check rule=12
# bitwise check rule=14
# bitwise check rule=16
# bitwise check rule=18
# bitwise check rule=20
# bitwise check rule=24
# bitwise check rule=26
# bitwise check rule=34
# bitwise check rule=36
# bitwise check rule=38
# bitwise check rule=42
# bitwise check rule=44
# bitwise check rule=46
# bitwise check rule=48
# bitwise check rule=50
# bitwise check rule=52
# bitwise check rule=54
# bitwise check rule=56
# bitwise check rule=57
# bitwise check rule=58
# bitwise check rule=60
# bitwise check rule=66
# bitwise check rule=68
# bitwise check rule=74
# bitwise check rule=76
# bitwise check rule=80
# bitwise check rule=82
# bitwise check rule=84
# bitwise check rule=88
# bitwise check rule=90
# bitwise check rule=98
# bitwise check rule=99
# bitwise check rule=100
# bitwise check rule=102
# bitwise check rule=106
# bitwise check rule=108
# bitwise check rule=112
# bitwise check rule=114
# bitwise check rule=116
# bitwise check rule=120
# bitwise check rule=122
# bitwise check rule=130
# bitwise check rule=132
# bitwise check rule=134
# bitwise check rule=138
# bitwise check rule=140
# bitwise check rule=142
# bitwise check rule=144
# bitwise check rule=146
# bitwise check rule=148
# bitwise check rule=151
# bitwise check rule=152
# bitwise check rule=154
# bitwise check rule=159
# bitwise check rule=162
# bitwise check rule=164
# bitwise check rule=166
# bitwise check rule=170
# bitwise check rule=172
# bitwise check rule=174
# bitwise check rule=176
# bitwise check rule=178
# bitwise check rule=179
# bitwise check rule=180
# bitwise check rule=183
# bitwise check rule=184
# bitwise check rule=186
# bitwise check rule=190
# bitwise check rule=191
# bitwise check rule=194
# bitwise check rule=196
# bitwise check rule=202
# bitwise check rule=204
# bitwise check rule=206
# bitwise check rule=208
# bitwise check rule=210
# bitwise check rule=212
# bitwise check rule=215
# bitwise check rule=216
# bitwise check rule=218
# bitwise check rule=220
# bitwise check rule=222
# bitwise check rule=223
# bitwise check rule=226
# bitwise check rule=228
# bitwise check rule=234
# bitwise check rule=236
# bitwise check rule=238
# bitwise check rule=240
# bitwise check rule=242
# bitwise check rule=244
# bitwise check rule=246
# bitwise check rule=247
# bitwise check rule=248
# bitwise check rule=250
# bitwise check rule=252
# bitwise check rule=254
# bitwise check rule=255
# bitwise checks 102
t/CellularRule.t ................ ok
t/CellularRule190.t ............. ok
t/CfracDigits.t ................. ok
t/ChanTree.t .................... ok
t/CincoCurve.t .................. ok
t/Columns-load.t ................ ok
t/Columns.t ..................... ok
t/ComplexMinus.t ................ ok
t/ComplexPlus.t ................. ok
t/CoprimeColumns.t .............. ok
t/Corner.t ...................... ok
t/CornerAlternating.t ........... ok
t/CornerReplicate.t ............. ok
t/CubicBase.t ................... ok
t/DekkingCurve.t ................ ok
t/DiagonalRationals.t ........... ok
t/Diagonals.t ................... ok
t/DiamondArms.t ................. ok
t/DiamondSpiral.t ............... ok
t/DigitGroups.t ................. ok
t/DivisibleColumns.t ............ ok
t/DragonCurve.t ................. ok
t/DragonMidpoint.t .............. ok
t/DragonRounded.t ............... ok
t/FactorRationals.t ............. ok
t/FibonacciWordFractal.t ........ ok
t/File.t ........................ ok
t/FilledRings.t ................. ok
t/Flowsnake.t ................... ok
t/FlowsnakeCentres.t ............ ok
t/GcdRationals.t ................ ok
t/GosperIslands.t ............... ok
t/GosperReplicate.t ............. ok
t/GosperSide.t .................. ok
t/GrayCode.t .................... ok
t/GreekKeySpiral.t .............. ok
t/HexArms.t ..................... ok
t/HexSpiral-load.t .............. ok
t/HexSpiral.t ................... ok
t/HexSpiralSkewed-unskew.t ...... ok
t/HexSpiralSkewed.t ............. ok
t/HilbertCurve-load.t ........... ok
t/HilbertCurve.t ................ ok
t/HilbertSpiral.t ............... ok
t/HIndexing.t ................... ok
t/Hypot.t ....................... ok
t/HypotOctant.t ................. ok
t/ImaginaryBase.t ............... ok
t/ImaginaryHalf.t ............... ok
t/KnightSpiral.t ................ ok
t/KochCurve.t ................... ok
t/KochelCurve.t ................. ok
t/KochPeaks.t ................... ok
t/KochSnowflakes.t .............. ok
t/KochSquareflakes.t ............ ok
t/LTiling.t ..................... ok
t/MultipleRings.t ............... ok
# Number::Fraction version 3.0.4
# Number::Fraction plain == nf: no, bad
t/number-fraction.t ............. ok
perl:/home/goku/perl5/lib/perl5/i386-openbsd/auto/Locale/gettext_xs/gettext_xs.so: undefined symbol 'libintl_gettext'
perl:/home/goku/perl5/lib/perl5/i386-openbsd/auto/Locale/gettext_xs/gettext_xs.so: undefined symbol 'libintl_dgettext'
perl:/home/goku/perl5/lib/perl5/i386-openbsd/auto/Locale/gettext_xs/gettext_xs.so: undefined symbol 'libintl_dcgettext'
perl:/home/goku/perl5/lib/perl5/i386-openbsd/auto/Locale/gettext_xs/gettext_xs.so: undefined symbol 'libintl_ngettext'
perl:/home/goku/perl5/lib/perl5/i386-openbsd/auto/Locale/gettext_xs/gettext_xs.so: undefined symbol 'libintl_dngettext'
perl:/home/goku/perl5/lib/perl5/i386-openbsd/auto/Locale/gettext_xs/gettext_xs.so: undefined symbol 'libintl_dcngettext'
perl:/home/goku/perl5/lib/perl5/i386-openbsd/auto/Locale/gettext_xs/gettext_xs.so: undefined symbol 'libintl_textdomain'
perl:/home/goku/perl5/lib/perl5/i386-openbsd/auto/Locale/gettext_xs/gettext_xs.so: undefined symbol 'libintl_bindtextdomain'
perl:/home/goku/perl5/lib/perl5/i386-openbsd/auto/Locale/gettext_xs/gettext_xs.so: undefined symbol 'libintl_bind_textdomain_codeset'
t/NumSeq-PlanePathCoord.t ....... ok
perl:/home/goku/perl5/lib/perl5/i386-openbsd/auto/Locale/gettext_xs/gettext_xs.so: undefined symbol 'libintl_gettext'
perl:/home/goku/perl5/lib/perl5/i386-openbsd/auto/Locale/gettext_xs/gettext_xs.so: undefined symbol 'libintl_dgettext'
perl:/home/goku/perl5/lib/perl5/i386-openbsd/auto/Locale/gettext_xs/gettext_xs.so: undefined symbol 'libintl_dcgettext'
perl:/home/goku/perl5/lib/perl5/i386-openbsd/auto/Locale/gettext_xs/gettext_xs.so: undefined symbol 'libintl_ngettext'
perl:/home/goku/perl5/lib/perl5/i386-openbsd/auto/Locale/gettext_xs/gettext_xs.so: undefined symbol 'libintl_dngettext'
perl:/home/goku/perl5/lib/perl5/i386-openbsd/auto/Locale/gettext_xs/gettext_xs.so: undefined symbol 'libintl_dcngettext'
perl:/home/goku/perl5/lib/perl5/i386-openbsd/auto/Locale/gettext_xs/gettext_xs.so: undefined symbol 'libintl_textdomain'
perl:/home/goku/perl5/lib/perl5/i386-openbsd/auto/Locale/gettext_xs/gettext_xs.so: undefined symbol 'libintl_bindtextdomain'
perl:/home/goku/perl5/lib/perl5/i386-openbsd/auto/Locale/gettext_xs/gettext_xs.so: undefined symbol 'libintl_bind_textdomain_codeset'
t/NumSeq-PlanePathDelta.t ....... ok
perl:/home/goku/perl5/lib/perl5/i386-openbsd/auto/Locale/gettext_xs/gettext_xs.so: undefined symbol 'libintl_gettext'
perl:/home/goku/perl5/lib/perl5/i386-openbsd/auto/Locale/gettext_xs/gettext_xs.so: undefined symbol 'libintl_dgettext'
perl:/home/goku/perl5/lib/perl5/i386-openbsd/auto/Locale/gettext_xs/gettext_xs.so: undefined symbol 'libintl_dcgettext'
perl:/home/goku/perl5/lib/perl5/i386-openbsd/auto/Locale/gettext_xs/gettext_xs.so: undefined symbol 'libintl_ngettext'
perl:/home/goku/perl5/lib/perl5/i386-openbsd/auto/Locale/gettext_xs/gettext_xs.so: undefined symbol 'libintl_dngettext'
perl:/home/goku/perl5/lib/perl5/i386-openbsd/auto/Locale/gettext_xs/gettext_xs.so: undefined symbol 'libintl_dcngettext'
perl:/home/goku/perl5/lib/perl5/i386-openbsd/auto/Locale/gettext_xs/gettext_xs.so: undefined symbol 'libintl_textdomain'
perl:/home/goku/perl5/lib/perl5/i386-openbsd/auto/Locale/gettext_xs/gettext_xs.so: undefined symbol 'libintl_bindtextdomain'
perl:/home/goku/perl5/lib/perl5/i386-openbsd/auto/Locale/gettext_xs/gettext_xs.so: undefined symbol 'libintl_bind_textdomain_codeset'
t/NumSeq-PlanePathN.t ........... ok
perl:/home/goku/perl5/lib/perl5/i386-openbsd/auto/Locale/gettext_xs/gettext_xs.so: undefined symbol 'libintl_gettext'
perl:/home/goku/perl5/lib/perl5/i386-openbsd/auto/Locale/gettext_xs/gettext_xs.so: undefined symbol 'libintl_dgettext'
perl:/home/goku/perl5/lib/perl5/i386-openbsd/auto/Locale/gettext_xs/gettext_xs.so: undefined symbol 'libintl_dcgettext'
perl:/home/goku/perl5/lib/perl5/i386-openbsd/auto/Locale/gettext_xs/gettext_xs.so: undefined symbol 'libintl_ngettext'
perl:/home/goku/perl5/lib/perl5/i386-openbsd/auto/Locale/gettext_xs/gettext_xs.so: undefined symbol 'libintl_dngettext'
perl:/home/goku/perl5/lib/perl5/i386-openbsd/auto/Locale/gettext_xs/gettext_xs.so: undefined symbol 'libintl_dcngettext'
perl:/home/goku/perl5/lib/perl5/i386-openbsd/auto/Locale/gettext_xs/gettext_xs.so: undefined symbol 'libintl_textdomain'
perl:/home/goku/perl5/lib/perl5/i386-openbsd/auto/Locale/gettext_xs/gettext_xs.so: undefined symbol 'libintl_bindtextdomain'
perl:/home/goku/perl5/lib/perl5/i386-openbsd/auto/Locale/gettext_xs/gettext_xs.so: undefined symbol 'libintl_bind_textdomain_codeset'
t/NumSeq-PlanePathTurn.t ........ ok
t/PeanoCurve-load.t ............. ok
t/PeanoCurve.t .................. ok
t/PeanoDiagonals.t .............. ok
t/PixelRings.t .................. ok
t/PlanePath.t ................... ok
t/PyramidRows.t ................. ok
# have_53bits: 0
t/PythagoreanTree.t ............. ok
t/QuadricCurve.t ................ ok
t/QuadricIslands.t .............. ok
t/QuintetCentres.t .............. ok
t/QuintetCurve.t ................ ok
t/QuintetReplicate.t ............ ok
t/RationalsTree.t ............... ok
t/Rows-load.t ................... ok
t/Rows.t ........................ ok
t/SacksSpiral.t ................. ok
t/SierpinskiArrowhead.t ......... ok
t/SierpinskiArrowheadCentres.t .. ok
t/SierpinskiCurve.t ............. ok
t/SierpinskiCurveStair.t ........ ok
t/SierpinskiTriangle.t .......... ok
t/SquareReplicate.t ............. ok
t/SquareSpiral.t ................ ok
t/Staircase.t ................... ok
t/StaircaseAlternating.t ........ ok
t/TerdragonCurve.t .............. ok
t/TerdragonMidpoint.t ........... ok
t/TheodorusSpiral.t ............. ok
t/TriangularHypot.t ............. ok
t/TrianguleSpiral.t ............. ok
t/UlamWarburton.t ............... ok
t/UlamWarburtonQuarter.t ........ ok
t/VogelFloret.t ................. ok
t/WythoffArray.t ................ ok
t/ZOrderCurve.t ................. ok
All tests successful.
Files=110, Tests=38499, 32 wallclock secs ( 2.25 usr  1.72 sys + 23.60 cusr  4.85 csys = 32.42 CPU)
Result: PASS

------------------------------
PREREQUISITES
------------------------------

Prerequisite modules loaded:

requires:

    Module              Need  Have    
    ------------------- ----- --------
    constant            1.02  1.33    
    constant::defer     5     6       
    List::Util          0     1.62    
    Math::Libm          0     1.00    
    perl                5.004 5.032001

build_requires:

    Module              Need  Have    
    ------------------- ----- --------
    ExtUtils::MakeMaker 0     7.65_01 
    Test                0     1.31    

configure_requires:

    Module              Need  Have    
    ------------------- ----- --------
    ExtUtils::MakeMaker 0     7.65_01 


------------------------------
ENVIRONMENT AND OTHER CONTEXT
------------------------------

Environment variables:

    AUTOMATED_TESTING = 1
    PATH = /home/goku/perl5/bin:/usr/bin:/bin:/usr/sbin:/sbin:/usr/X11R6/bin:/usr/local/bin:/usr/local/sbin
    PERL5LIB = /home/goku/perl5/lib/perl5
    PERL5OPT = 
    PERL5_CPANPLUS_IS_RUNNING = 43552
    PERL5_CPAN_IS_RUNNING = 43552
    PERL5_CPAN_IS_RUNNING_IN_RECURSION = 6441,43552
    PERL_CR_SMOKER_CURRENT = Math-PlanePath-129
    PERL_EXTUTILS_AUTOINSTALL = --defaultdeps
    PERL_LOCAL_LIB_ROOT = /home/goku/perl5
    PERL_MB_OPT = --install_base "/home/goku/perl5"
    PERL_MM_OPT = INSTALL_BASE=/home/goku/perl5
    PERL_MM_USE_DEFAULT = 1
    PERL_USE_UNSAFE_INC = 1
    SHELL = /bin/ksh
    TERM = xterm-256color

Perl special variables (and OS-specific diagnostics, for MSWin32):

    $^X = /usr/bin/perl
    $UID/$EUID = 1001 / 1001
    $GID = 1002 1002 1001
    $EGID = 1002 1002 1001

Perl module toolchain versions installed:

    Module              Have    
    ------------------- --------
    CPAN                2.34    
    CPAN::Meta          2.150010
    Cwd                 3.78    
    ExtUtils::CBuilder  0.280236
    ExtUtils::Command   7.65_01 
    ExtUtils::Install   2.20    
    ExtUtils::MakeMaker 7.65_01 
    ExtUtils::Manifest  1.72    
    ExtUtils::ParseXS   3.44    
    File::Spec          3.78    
    JSON                4.06    
    JSON::PP            4.09    
    Module::Build       0.4231  
    Module::Signature   n/a     
    Parse::CPAN::Meta   2.150010
    Test::Harness       3.44    
    Test::More          1.302190
    YAML                1.30    
    YAML::Syck          1.34    
    version             0.9929  


--

Summary of my perl5 (revision 5 version 32 subversion 1) configuration:
   
  Platform:
    osname=openbsd
    osvers=7.1
    archname=i386-openbsd
    uname='openbsd'
    config_args='-dse -Dopenbsd_distribution=defined -Dmksymlinks'
    hint=recommended
    useposix=true
    d_sigaction=define
    useithreads=undef
    usemultiplicity=undef
    use64bitint=undef
    use64bitall=undef
    uselongdouble=undef
    usemymalloc=n
    default_inc_excludes_dot=define
    bincompat5005=undef
  Compiler:
    cc='cc'
    ccflags ='-DNO_LOCALE_NUMERIC -DNO_LOCALE_COLLATE -fno-strict-aliasing -fno-delete-null-pointer-checks -pipe -fstack-protector-strong -I/usr/local/include'
    optimize='-O2'
    cppflags='-DBIG_TIME -DNO_LOCALE_NUMERIC -DNO_LOCALE_COLLATE -fno-strict-aliasing -fno-delete-null-pointer-checks -pipe -fstack-protector-strong -I/usr/local/include'
    ccversion=''
    gccversion='OpenBSD Clang 13.0.0'
    gccosandvers=''
    intsize=4
    longsize=4
    ptrsize=4
    doublesize=8
    byteorder=1234
    doublekind=3
    d_longlong=define
    longlongsize=8
    d_longdbl=define
    longdblsize=12
    longdblkind=3
    ivtype='long'
    ivsize=4
    nvtype='double'
    nvsize=8
    Off_t='off_t'
    lseeksize=8
    alignbytes=4
    prototype=define
  Linker and Libraries:
    ld='cc'
    ldflags ='-Wl,-E  -fstack-protector-strong -L/usr/local/lib'
    libpth=/usr/lib /usr/lib/clang/13.0.0/lib /usr/lib
    libs=-lm -lc
    perllibs=-lm -lc
    libc=/usr/lib/libc.so.96.1
    so=so
    useshrplib=true
    libperl=libperl.so.22.0
    gnulibc_version=''
  Dynamic Linking:
    dlsrc=dl_dlopen.xs
    dlext=so
    d_dlsymun=undef
    ccdlflags='-Wl,-R/usr/libdata/perl5/i386-openbsd/CORE'
    cccdlflags='-DPIC -fpic '
    lddlflags='-shared -fpic  -fstack-protector-strong -L/usr/local/lib'


Characteristics of this binary (from libperl): 
  Compile-time options:
    HAS_TIMES
    PERLIO_LAYERS
    PERL_COPY_ON_WRITE
    PERL_DONT_CREATE_GVSV
    PERL_MALLOC_WRAP
    PERL_OP_PARENT
    PERL_PRESERVE_IVUV
    USE_LARGE_FILES
    USE_LOCALE
    USE_LOCALE_CTYPE
    USE_LOCALE_TIME
    USE_PERLIO
    USE_PERL_ATOF
  Built under openbsd
  %ENV:
    PERL5LIB="/home/goku/perl5/lib/perl5"
    PERL5OPT=""
    PERL5_CPANPLUS_IS_RUNNING="43552"
    PERL5_CPAN_IS_RUNNING="43552"
    PERL5_CPAN_IS_RUNNING_IN_RECURSION="6441,43552"
    PERL_CR_SMOKER_CURRENT="Math-PlanePath-129"
    PERL_EXTUTILS_AUTOINSTALL="--defaultdeps"
    PERL_LOCAL_LIB_ROOT="/home/goku/perl5"
    PERL_MB_OPT="--install_base "/home/goku/perl5""
    PERL_MM_OPT="INSTALL_BASE=/home/goku/perl5"
    PERL_MM_USE_DEFAULT="1"
    PERL_USE_UNSAFE_INC="1"
  @INC:
    /home/goku/perl5/lib/perl5/i386-openbsd
    /home/goku/perl5/lib/perl5
    /usr/local/libdata/perl5/site_perl/i386-openbsd
    /usr/local/libdata/perl5/site_perl
    /usr/libdata/perl5/i386-openbsd
    /usr/libdata/perl5
    .