Report for Test-Output-1.02

Back
From: metabase:user:f1e7c708-5357-11e1-bfbb-e0305faeeaee
Subject: PASS Test-Output-1.02 v5.16.3 GNU/Linux
Date: 2013-12-09T21:45:31Z

This distribution has been tested as part of the CPAN Testers
project, supporting the Perl programming language.  See
http://wiki.cpantesters.org/ for more information or email
questions to cpan-testers-discuss@perl.org


--
Dear brian d foy,

This is a computer-generated report for Test-Output-1.02
on perl 5.16.3, created by CPAN-Reporter-1.2009.

Thank you for uploading your work to CPAN.  Congratulations!
All tests were successful.

Sections of this report:

    * Tester comments
    * Program output
    * Prerequisites
    * Environment and other context

------------------------------
TESTER COMMENTS
------------------------------

Additional comments from tester:

none provided

------------------------------
PROGRAM OUTPUT
------------------------------

Output from '/usr/bin/make test':

PERL_DL_NONLAZY=1 /home/berov/opt/ActivePerl-5.16.3/bin/perl-static "-MExtUtils::Command::MM" "-e" "test_harness(0, 'blib/lib', 'blib/arch')" t/*.t
t/carp-5.6.t ......... ok
# Testing Test::Output 1.02
t/00.load.t .......... ok
t/binmode.t .......... ok
t/combined_is.t ...... ok
t/combined_like.t .... ok
t/combined_isnt.t .... ok
t/combined_unlike.t .. ok
t/output_is.t ........ ok
t/output_isnt.t ...... ok
t/pod-coverage.t ..... ok
t/pod.t .............. ok
t/output_unlike.t .... ok
t/output_like.t ...... ok
t/stderr_is.t ........ ok
t/stderr_isnt.t ...... ok
t/stderr_like.t ...... ok
t/stderr_unlike.t .... ok
t/stdout_isnt.t ...... ok
t/stdout_is.t ........ ok
t/stdout_like.t ...... ok
t/stdout_unlike.t .... ok
All tests successful.
Files=21, Tests=1218,  2 wallclock secs ( 0.36 usr  0.06 sys +  3.86 cusr  0.36 csys =  4.64 CPU)
Result: PASS

------------------------------
PREREQUISITES
------------------------------

Prerequisite modules loaded:

requires:

    Module              Need  Have    
    ------------------- ----- --------
    Capture::Tiny       0.17  0.22    
    File::Temp          0.17  0.2304  
    perl                5.006 5.016003
    Sub::Exporter       0     0.985   
    Test::More          0     0.98    
    Test::Tester        0.107 0.109   

build_requires:

    Module              Need  Have    
    ------------------- ----- --------
    ExtUtils::MakeMaker 0     6.63_02 

configure_requires:

    Module              Need  Have    
    ------------------- ----- --------
    ExtUtils::MakeMaker 0     6.63_02 


------------------------------
ENVIRONMENT AND OTHER CONTEXT
------------------------------

Environment variables:

    LANG = bg_BG.UTF-8
    LANGUAGE = bg_BG:en_US:en
    LC_ADDRESS = bg_BG.UTF-8
    LC_IDENTIFICATION = bg_BG.UTF-8
    LC_MEASUREMENT = bg_BG.UTF-8
    LC_MONETARY = bg_BG.UTF-8
    LC_NAME = bg_BG.UTF-8
    LC_NUMERIC = bg_BG.UTF-8
    LC_PAPER = bg_BG.UTF-8
    LC_TELEPHONE = bg_BG.UTF-8
    LC_TIME = bg_BG.UTF-8
    PATH = /home/berov/opt/Sencha/Cmd/4.0.0.203:/home/berov/opt/apache-maven-3.0.4/bin:/home/berov/bin:/home/berov/opt/ActivePerl-5.16.3/site/bin:/home/berov/opt/ActivePerl-5.16.3/bin:/home/berov/opt/node/bin:/home/berov/opt/groovy-2.1.3/bin:/home/berov/opt/phantomjs/bin:/home/berov/opt/go/bin:/home/berov/opt/Sencha/Cmd/4.0.0.203:/home/berov/bin:/usr/lib/lightdm/lightdm:/usr/local/sbin:/usr/local/bin:/usr/sbin:/usr/bin:/sbin:/bin:/usr/games:/usr/local/games
    PERL5LIB = 
    PERL5OPT = 
    PERL5_CPANPLUS_IS_RUNNING = 2820
    PERL5_CPAN_IS_RUNNING = 2820
    SHELL = /bin/bash
    TERM = xterm
    TMPDIR = /home/berov/tmp

Perl special variables (and OS-specific diagnostics, for MSWin32):

    $^X = /home/berov/opt/ActivePerl-5.16.3/bin/perl-static
    $UID/$EUID = 1000 / 1000
    $GID = 1000 4 24 27 30 46 108 124 126 1000
    $EGID = 1000 4 24 27 30 46 108 124 126 1000

Perl module toolchain versions installed:

    Module              Have    
    ------------------- --------
    CPAN                1.9800  
    CPAN::Meta          2.120921
    Cwd                 3.40    
    ExtUtils::CBuilder  0.280206
    ExtUtils::Command   1.17    
    ExtUtils::Install   1.54    
    ExtUtils::MakeMaker 6.63_02 
    ExtUtils::Manifest  1.61    
    ExtUtils::ParseXS   3.18    
    File::Spec          3.40    
    JSON                2.53    
    JSON::PP            2.27200 
    Module::Build       0.4003  
    Module::Signature   n/a     
    Parse::CPAN::Meta   1.4404  
    Test::Harness       3.30    
    Test::More          0.98    
    YAML                n/a     
    YAML::Syck          n/a     
    version             0.9902  


--

Summary of my perl5 (revision 5 version 16 subversion 3) configuration:
   
  Platform:
    osname=linux, osvers=2.6.11-1.1369_fc4, archname=x86_64-linux-thread-multi
    uname='linux perl-linux64-vm 2.6.11-1.1369_fc4 #1 thu jun 2 22:56:33 edt 2005 x86_64 x86_64 x86_64 gnulinux '
    config_args='-ders -Dcc=gcc -Dusethreads -Duseithreads -Uinstallusrbinperl -Ulocincpth= -Uloclibpth= -Duse64bitall -Dlibpth=/lib64 /usr/lib64 /usr/local/lib64 -Accflags=-DUSE_SITECUSTOMIZE -Duselargefiles -Accflags=-DPERL_RELOCATABLE_INCPUSH -Accflags=-fno-merge-constants -Dprefix=/home/berov/opt/ActivePerl-5.16.3 -Dprivlib=/home/berov/opt/ActivePerl-5.16.3/lib -Darchlib=/home/berov/opt/ActivePerl-5.16.3/lib -Dsiteprefix=/home/berov/opt/ActivePerl-5.16.3/site -Dsitelib=/home/berov/opt/ActivePerl-5.16.3/site/lib -Dsitearch=/home/berov/opt/ActivePerl-5.16.3/site/lib -Dsed=/bin/sed -Duseshrplib -Dcf_by=ActiveState -Dcf_email=support@ActiveState.com'
    hint=recommended, useposix=true, d_sigaction=define
    useithreads=define, usemultiplicity=define
    useperlio=define, d_sfio=undef, uselargefiles=define, usesocks=undef
    use64bitint=define, use64bitall=define, uselongdouble=undef
    usemymalloc=n, bincompat5005=undef
  Compiler:
    cc='gcc', ccflags ='-D_REENTRANT -D_GNU_SOURCE -DUSE_SITECUSTOMIZE -DPERL_RELOCATABLE_INCPUSH -fno-merge-constants -fno-strict-aliasing -pipe -D_LARGEFILE_SOURCE -D_FILE_OFFSET_BITS=64',
    optimize='-O2',
    cppflags='-D_REENTRANT -D_GNU_SOURCE -DUSE_SITECUSTOMIZE -DPERL_RELOCATABLE_INCPUSH -fno-merge-constants -fno-strict-aliasing -pipe'
    ccversion='', gccversion='4.0.0 20050519 (Red Hat 4.0.0-8)', gccosandvers=''
    intsize=4, longsize=8, ptrsize=8, doublesize=8, byteorder=12345678
    d_longlong=define, longlongsize=8, d_longdbl=define, longdblsize=16
    ivtype='long', ivsize=8, nvtype='double', nvsize=8, Off_t='off_t', lseeksize=8
    alignbytes=8, prototype=define
  Linker and Libraries:
    ld='gcc', ldflags =''
    libpth=/lib64 /usr/lib64 /usr/local/lib64
    libs=-lnsl -lgdbm -ldb -ldl -lm -lcrypt -lutil -lpthread -lc
    perllibs=-lnsl -ldl -lm -lcrypt -lutil -lpthread -lc
    libc=/lib/libc-2.3.5.so, so=so, useshrplib=true, libperl=libperl.so
    gnulibc_version='2.3.5'
  Dynamic Linking:
    dlsrc=dl_dlopen.xs, dlext=so, d_dlsymun=undef, ccdlflags='-Wl,-E -Wl,-rpath,/home/berov/opt/ActivePerl-5.16.3/lib/CORE'
    cccdlflags='-fPIC', lddlflags='-shared -O2'


Characteristics of this binary (from libperl): 
  Compile-time options: HAS_TIMES MULTIPLICITY PERLIO_LAYERS
                        PERL_DONT_CREATE_GVSV PERL_IMPLICIT_CONTEXT
                        PERL_MALLOC_WRAP PERL_PRESERVE_IVUV
                        PERL_RELOCATABLE_INCPUSH USE_64_BIT_ALL
                        USE_64_BIT_INT USE_ITHREADS USE_LARGE_FILES
                        USE_LOCALE USE_LOCALE_COLLATE USE_LOCALE_CTYPE
                        USE_LOCALE_NUMERIC USE_PERLIO USE_PERL_ATOF
                        USE_REENTRANT_API USE_SITECUSTOMIZE
  Locally applied patches:
	ActivePerl Build 1603 [296746]
  Built under linux
  Compiled at Mar 13 2013 11:02:49
  %ENV:
    PERL5LIB=""
    PERL5OPT=""
    PERL5_CPANPLUS_IS_RUNNING="2820"
    PERL5_CPAN_IS_RUNNING="2820"
  @INC:
    /home/berov/opt/ActivePerl-5.16.3/site/lib
    /home/berov/opt/ActivePerl-5.16.3/lib
    .