Dist-Zilla-Plugin-ReportPhase v0.03 Perl 5 v5.38.2 darwin-2level
- Status
- Unknown
- From
- Dist
-
Dist-Zilla-Plugin-ReportPhase v0.03
- Platform
- Perl 5 v5.38.2 darwin-2level
- Date
- 2023-11-30 02:21:53
- ID
- 3a0147d6-8f27-11ee-871b-7badac7b0178
This distribution has been tested as part of the CPAN Testers
project, supporting the Perl programming language. See
http://wiki.cpantesters.org/ for more information or email
questions to cpan-testers-discuss@perl.org
--
Dear SWESTRUP,
This is a computer-generated report for Dist-Zilla-Plugin-ReportPhase-0.03
on perl 5.38.2, created by App::cpanminus::reporter 0.21 (1.7047).
Thank you for uploading your work to CPAN. However, attempting to
test your distribution gave an inconclusive result.
This could be because your distribution had an error during the make/build
stage, did not define tests, tests could not be found, because your tests were
interrupted before they finished, or because the results of the tests could not
be parsed. You may wish to consult the CPAN Testers Wiki:
http://wiki.cpantesters.org/wiki/CPANAuthorNotes
Sections of this report:
* Tester comments
* Program output
* Prerequisites
* Environment and other context
------------------------------
TESTER COMMENTS
------------------------------
Additional comments from tester:
none provided
------------------------------
PROGRAM OUTPUT
------------------------------
Output from '':
Building and testing Dist-Zilla-Plugin-ReportPhase-0.03
PERL_DL_NONLAZY=1 "/Volumes/chambord/Users/ether/perl5/perlbrew/perls/38.2/bin/perl" "-MExtUtils::Command::MM" "-MTest::Harness" "-e" "undef *Test::Harness::Switches; test_harness(0, 'blib/lib', 'blib/arch')" t/*.t
t/release-dist-manifest.t .... skipped: these tests are for release candidate testing
t/release-portability.t ...... skipped: these tests are for release candidate testing
t/release-pod-syntax.t ....... skipped: these tests are for release candidate testing
t/release-minimum-version.t .. skipped: these tests are for release candidate testing
Files=4, Tests=0, 0 wallclock secs ( 0.01 usr 0.00 sys + 0.08 cusr 0.02 csys = 0.11 CPU)
Result: NOTESTS
------------------------------
PREREQUISITES
------------------------------
Prerequisite modules loaded:
runtime:
Module Need Have
---------------------------------- ---- ------
Data::Dumper 0 2.188
Dist::Zilla::Role::AfterBuild 0 6.031
Dist::Zilla::Role::AfterMint 0 6.031
Dist::Zilla::Role::AfterRelease 0 6.031
Dist::Zilla::Role::BeforeArchive 0 6.031
Dist::Zilla::Role::BeforeBuild 0 6.031
Dist::Zilla::Role::BeforeMint 0 6.031
Dist::Zilla::Role::BeforeRelease 0 6.031
Dist::Zilla::Role::BuildRunner 0 6.031
Dist::Zilla::Role::ConfigDumper 0 6.031
Dist::Zilla::Role::FileFinder 0 6.031
Dist::Zilla::Role::FileGatherer 0 6.031
Dist::Zilla::Role::FileMunger 0 6.031
Dist::Zilla::Role::FilePruner 0 6.031
Dist::Zilla::Role::InstallTool 0 6.031
Dist::Zilla::Role::MetaProvider 0 6.031
Dist::Zilla::Role::MintingProfile 0 6.031
Dist::Zilla::Role::ModuleMaker 0 6.031
Dist::Zilla::Role::PrereqSource 0 6.031
Dist::Zilla::Role::Releaser 0 6.031
Dist::Zilla::Role::ShareDir 0 6.031
Dist::Zilla::Role::TestRunner 0 6.031
Dist::Zilla::Role::VersionProvider 0 6.031
Moose 0 2.2206
Moose::Autobox 0 0.16
configure:
Module Need Have
---------------------------------- ---- ------
ExtUtils::MakeMaker 6.30 7.70
------------------------------
ENVIRONMENT AND OTHER CONTEXT
------------------------------
Environment variables:
HARNESS_OPTIONS = j6:c
LANG = en_CA.UTF-8
LC_ALL = en_CA.UTF-8
LC_CTYPE = en_CA.UTF-8
NO_NETWORK_TESTING = 1
PATH = /Volumes/chambord/Users/ether/.perlbrew/libs/38.2@std/bin:/Volumes/chambord/Users/ether/perl5/perlbrew/bin:/Volumes/chambord/Users/ether/perl5/perlbrew/perls/38.2/bin:/Volumes/chambord/Users/ether/bin:/Volumes/chambord/Users/ether/git/misc/install/advocaat/bin:/Volumes/chambord/Users/ether/git/misc/install/generic/bin:/opt/local/bin:/opt/local/sbin:/Volumes/chambord/Users/ether/git/git-hub/lib:/usr/local/bin:/System/Cryptexes/App/usr/bin:/usr/bin:/bin:/usr/sbin:/sbin:/Library/Apple/usr/bin:/var/run/com.apple.security.cryptexd/codex.system/bootstrap/usr/local/bin:/var/run/com.apple.security.cryptexd/codex.system/bootstrap/usr/bin:/var/run/com.apple.security.cryptexd/codex.system/bootstrap/usr/appleinternal/bin:/opt/local/share/git-core/contrib/workdir
PERL5LIB = /Volumes/chambord/Users/ether/.perlbrew/libs/38.2@std/lib/perl5
PERLBREW_HOME = /Volumes/chambord/Users/ether/.perlbrew
PERLBREW_LIB = std
PERLBREW_MANPATH = /Volumes/chambord/Users/ether/.perlbrew/libs/38.2@std/man:/Volumes/chambord/Users/ether/perl5/perlbrew/perls/38.2/man
PERLBREW_PATH = /Volumes/chambord/Users/ether/.perlbrew/libs/38.2@std/bin:/Volumes/chambord/Users/ether/perl5/perlbrew/bin:/Volumes/chambord/Users/ether/perl5/perlbrew/perls/38.2/bin
PERLBREW_PERL = 38.2
PERLBREW_ROOT = /Volumes/chambord/Users/ether/perl5/perlbrew
PERLBREW_SHELLRC_VERSION = 0.98
PERLBREW_VERSION = 0.98
PERLDOC = -oman
PERLDOC_PAGER = less -sicMr
PERL_AUTOINSTALL_PREFER_CPAN = 1
PERL_INSTALL_QUIET = 1
PERL_LOCAL_LIB_ROOT = /Volumes/chambord/Users/ether/.perlbrew/libs/38.2@std
PERL_MB_OPT = --install_base /Volumes/chambord/Users/ether/.perlbrew/libs/38.2@std
PERL_MM_OPT = INSTALL_BASE=/Volumes/chambord/Users/ether/.perlbrew/libs/38.2@std
PERL_TEST_HARNESS_ASAP = 1
PERL_USE_UNSAFE_INC = 0
SHELL = /bin/bash
TERM = xterm-color
Perl special variables (and OS-specific diagnostics, for MSWin32):
EGID = 20 20 12 61 79 80 81 98 701 704 703 702 33 100 204 250 395
EUID = 502
EXECUTABLE_NAME = /Volumes/chambord/Users/ether/perl5/perlbrew/perls/38.2/bin/perl
GID = 20 20 12 61 79 80 81 98 701 704 703 702 33 100 204 250 395
UID = 502
Perl module toolchain versions installed:
Module Have
------------------- --------
CPAN 2.36
CPAN::Meta 2.150010
Cwd 3.89
ExtUtils::CBuilder 0.280238
ExtUtils::Command 7.70
ExtUtils::Install 2.22
ExtUtils::MakeMaker 7.70
ExtUtils::Manifest 1.73
ExtUtils::ParseXS 3.51
File::Spec 3.88
JSON 4.10
JSON::PP 4.17_01
Module::Build 0.4234
Module::Signature n/a
Parse::CPAN::Meta 2.150010
Test::Harness 3.44
Test::More 1.302194
YAML 1.30
YAML::Syck 1.34
version 0.9929
--
Summary of my perl5 (revision 5 version 38 subversion 2) configuration:
Platform:
osname=darwin
osvers=22.6.0
archname=darwin-2level
uname='darwin advocaat 22.6.0 darwin kernel version 22.6.0: wed jul 5 22:17:35 pdt 2023; root:xnu-8796.141.3~6release_arm64_t8112 arm64 '
config_args='-de -Dprefix=/Volumes/chambord/Users/ether/perl5/perlbrew/perls/38.2 -Dman1dir=none -Dman3dir=none -Aeval:scriptdir=/Volumes/chambord/Users/ether/perl5/perlbrew/perls/38.2/bin'
hint=recommended
useposix=true
d_sigaction=define
useithreads=undef
usemultiplicity=undef
use64bitint=define
use64bitall=define
uselongdouble=undef
usemymalloc=n
default_inc_excludes_dot=define
Compiler:
cc='cc'
ccflags ='-fno-common -DPERL_DARWIN -mmacosx-version-min=13.5 -DNO_POSIX_2008_LOCALE -fno-strict-aliasing -pipe -fstack-protector-strong -I/opt/local/include'
optimize='-O3'
cppflags='-fno-common -DPERL_DARWIN -mmacosx-version-min=13.5 -DNO_POSIX_2008_LOCALE -fno-strict-aliasing -pipe -fstack-protector-strong -I/opt/local/include'
ccversion=''
gccversion='Apple LLVM 15.0.0 (clang-1500.0.40.1)'
gccosandvers=''
intsize=4
longsize=8
ptrsize=8
doublesize=8
byteorder=12345678
doublekind=3
d_longlong=define
longlongsize=8
d_longdbl=define
longdblsize=8
longdblkind=0
ivtype='long'
ivsize=8
nvtype='double'
nvsize=8
Off_t='off_t'
lseeksize=8
alignbytes=8
prototype=define
Linker and Libraries:
ld='cc'
ldflags =' -mmacosx-version-min=13.5 -fstack-protector-strong -L/opt/local/lib'
libpth=/Applications/Xcode.app/Contents/Developer/Toolchains/XcodeDefault.xctoolchain/usr/lib/clang/15.0.0/lib /Applications/Xcode.app/Contents/Developer/Platforms/MacOSX.platform/Developer/SDKs/MacOSX.sdk/usr/lib /Applications/Xcode.app/Contents/Developer/Toolchains/XcodeDefault.xctoolchain/usr/lib /opt/local/lib /usr/lib
libs=-lgdbm
perllibs=
libc=
so=dylib
useshrplib=false
libperl=libperl.a
gnulibc_version=''
Dynamic Linking:
dlsrc=dl_dlopen.xs
dlext=bundle
d_dlsymun=undef
ccdlflags=' '
cccdlflags=' '
lddlflags=' -mmacosx-version-min=13.5 -bundle -undefined dynamic_lookup -L/opt/local/lib -fstack-protector-strong'
Characteristics of this binary (from libperl):
Compile-time options:
HAS_LONG_DOUBLE
HAS_STRTOLD
HAS_TIMES
PERLIO_LAYERS
PERL_COPY_ON_WRITE
PERL_DONT_CREATE_GVSV
PERL_HASH_FUNC_SIPHASH13
PERL_HASH_USE_SBOX32
PERL_MALLOC_WRAP
PERL_OP_PARENT
PERL_PRESERVE_IVUV
PERL_USE_SAFE_PUTENV
USE_64_BIT_ALL
USE_64_BIT_INT
USE_LARGE_FILES
USE_LOCALE
USE_LOCALE_COLLATE
USE_LOCALE_CTYPE
USE_LOCALE_NUMERIC
USE_LOCALE_TIME
USE_PERLIO
USE_PERL_ATOF
Built under darwin
Compiled at Nov 29 2023 17:24:45
%ENV:
PERL5LIB="/Volumes/chambord/Users/ether/.perlbrew/libs/38.2@std/lib/perl5"
PERLBREW_HOME="/Volumes/chambord/Users/ether/.perlbrew"
PERLBREW_LIB="std"
PERLBREW_MANPATH="/Volumes/chambord/Users/ether/.perlbrew/libs/38.2@std/man:/Volumes/chambord/Users/ether/perl5/perlbrew/perls/38.2/man"
PERLBREW_PATH="/Volumes/chambord/Users/ether/.perlbrew/libs/38.2@std/bin:/Volumes/chambord/Users/ether/perl5/perlbrew/bin:/Volumes/chambord/Users/ether/perl5/perlbrew/perls/38.2/bin"
PERLBREW_PERL="38.2"
PERLBREW_ROOT="/Volumes/chambord/Users/ether/perl5/perlbrew"
PERLBREW_SHELLRC_VERSION="0.98"
PERLBREW_VERSION="0.98"
PERLDOC="-oman"
PERLDOC_PAGER="less -sicMr"
PERL_AUTOINSTALL_PREFER_CPAN="1"
PERL_INSTALL_QUIET="1"
PERL_LOCAL_LIB_ROOT="/Volumes/chambord/Users/ether/.perlbrew/libs/38.2@std"
PERL_MB_OPT="--install_base /Volumes/chambord/Users/ether/.perlbrew/libs/38.2@std"
PERL_MM_OPT="INSTALL_BASE=/Volumes/chambord/Users/ether/.perlbrew/libs/38.2@std"
PERL_TEST_HARNESS_ASAP="1"
PERL_USE_UNSAFE_INC="0"
@INC:
/Volumes/chambord/Users/ether/.perlbrew/libs/38.2@std/lib/perl5/darwin-2level
/Volumes/chambord/Users/ether/.perlbrew/libs/38.2@std/lib/perl5
/Volumes/chambord/Users/ether/perl5/perlbrew/perls/38.2/lib/site_perl/5.38.2/darwin-2level
/Volumes/chambord/Users/ether/perl5/perlbrew/perls/38.2/lib/site_perl/5.38.2
/Volumes/chambord/Users/ether/perl5/perlbrew/perls/38.2/lib/5.38.2/darwin-2level
/Volumes/chambord/Users/ether/perl5/perlbrew/perls/38.2/lib/5.38.2