Report for WWW-Curl-4.14

Back
From: metabase:user:028584ae-b090-11df-8042-ef202a5da7af
Subject: PASS WWW-Curl-4.14 v5.13.5 NetBSD
Date: 2010-10-25T08:16:54Z

This distribution has been tested as part of the CPAN Testers
project, supporting the Perl programming language.  See
http://wiki.cpantesters.org/ for more information or email
questions to cpan-testers-discuss@perl.org


--
Dear Balint Szilakszi,

This is a computer-generated report for WWW-Curl-4.14
on perl 5.13.5, created by CPAN-Reporter-1.1801.

Thank you for uploading your work to CPAN.  Congratulations!
All tests were successful.

Sections of this report:

    * Tester comments
    * Program output
    * Prerequisites
    * Environment and other context

------------------------------
TESTER COMMENTS
------------------------------

Additional comments from tester:

this report is from an automated smoke testing program
and was not reviewed by a human for accuracy

------------------------------
PROGRAM OUTPUT
------------------------------

Output from '/usr/bin/make test':

PERL_DL_NONLAZY=1 /usr/bin/perl "-MExtUtils::Command::MM" "-e" "test_harness(0, 'inc', 'blib/lib', 'blib/arch')" t/*.t
t/00constants.t ........... ok
t/01basic.t ............... ok
t/02callbacks.t ........... ok
t/04abort-test.t .......... ok
t/05progress.t ............ ok
t/06http-post.t ........... skipped: Not performing http POST/upload tests
t/07ftp-upload.t .......... skipped: Not performing ftp upload tests
t/08ssl.t ................. ok
t/09times.t ............... ok
t/10errbuf.t .............. ok
t/13slowleak.t ............ skipped: Not performing slow leakage regression test
t/14duphandle.t ........... ok
t/15duphandle-callback.t .. ok
t/16formpost.t ............ skipped: Not performing POST
t/17slist.t ............... skipped: Not performing printenv cgi tests
t/18twinhandles.t ......... ok
t/19multi.t ............... ok
t/20undefined_subs.t ...... ok
t/21write-to-scalar.t ..... ok
t/meta.t .................. skipped: Test::CPAN::Meta required for testing META.yml
t/pod-coverage.t .......... ok
t/pod.t ................... ok
All tests successful.
Files=22, Tests=195, 15 wallclock secs ( 0.07 usr  0.44 sys +  1.36 cusr  4.63 csys =  6.50 CPU)
Result: PASS

------------------------------
PREREQUISITES
------------------------------

Prerequisite modules loaded:

requires:

    Module              Need Have   
    ------------------- ---- -------
    ExtUtils::MakeMaker 6.42 6.57_05

build_requires:

    Module              Need Have   
    ------------------- ---- -------
    ExtUtils::MakeMaker 0    6.57_05

configure_requires:

    Module              Need Have   
    ------------------- ---- -------
    ExtUtils::MakeMaker 6.42 6.57_05


------------------------------
ENVIRONMENT AND OTHER CONTEXT
------------------------------

Environment variables:

    AUTOMATED_TESTING = 1
    PATH = /usr/bin:/bin:/usr/pkg/bin:/usr/local/bin:/usr/gnu/bin:/home/cpansmoke/bin
    PERL5LIB = /var/spool/cpan/build/HTTP-Session-0.40-N8sQjw/blib/arch:/var/spool/cpan/build/HTTP-Session-0.40-N8sQjw/blib/lib:/var/spool/cpan/build/Test-TCP-1.06-mDUyE2/blib/arch:/var/spool/cpan/build/Test-TCP-1.06-mDUyE2/blib/lib:/var/spool/cpan/build/Test-SharedFork-0.15-pp_Th_/blib/arch:/var/spool/cpan/build/Test-SharedFork-0.15-pp_Th_/blib/lib:/var/spool/cpan/build/CGI-Simple-1.112-gn4RQl/blib/arch:/var/spool/cpan/build/CGI-Simple-1.112-gn4RQl/blib/lib:/var/spool/cpan/build/IO-stringy-2.110-UXZs_o/blib/arch:/var/spool/cpan/build/IO-stringy-2.110-UXZs_o/blib/lib:/var/spool/cpan/build/Class-Accessor-0.34-BNgQQg/blib/arch:/var/spool/cpan/build/Class-Accessor-0.34-BNgQQg/blib/lib:/var/spool/cpan/build/UNIVERSAL-require-0.13-L7EtgU/blib/arch:/var/spool/cpan/build/UNIVERSAL-require-0.13-L7EtgU/blib/lib
    PERL5OPT = 
    PERL5_CPANPLUS_IS_RUNNING = 26195
    PERL5_CPAN_IS_RUNNING = 26195
    PERL5_CPAN_IS_RUNNING_IN_RECURSION = 10785,26195
    PERL_CR_SMOKER_CURRENT = HTTP-Session-Store-KyotoTycoon-0.01
    PERL_EXTUTILS_AUTOINSTALL = --defaultdeps
    PERL_MM_USE_DEFAULT = 1
    SHELL = /bin/bash
    TERM = screen

Perl special variables (and OS-specific diagnostics, for MSWin32):

    $^X = /usr/bin/perl
    $UID/$EUID = 519 / 519
    $GID = 519 519
    $EGID = 519 519

Perl module toolchain versions installed:

    Module              Have   
    ------------------- -------
    CPAN                1.94_57
    Cwd                 3.31   
    ExtUtils::CBuilder  0.2703 
    ExtUtils::Command   1.16   
    ExtUtils::Install   1.55   
    ExtUtils::MakeMaker 6.57_05
    ExtUtils::Manifest  1.58   
    ExtUtils::ParseXS   2.2207 
    File::Spec          3.31_01
    Module::Build       0.3607 
    Module::Signature   n/a    
    Test::Harness       3.22   
    Test::More          0.97_01
    YAML                0.72   
    YAML::Syck          n/a    
    version             0.82   


--

Summary of my perl5 (revision 5 version 13 subversion 5) configuration:
   
  Platform:
    osname=netbsd, osvers=5.0.2, archname=i386-netbsd
    uname='netbsd dhcp-207.acw.pimpworks.org 5.0.2 netbsd 5.0.2 (generic) #0: sat feb 6 17:53:27 utc 2010 builds@b7.netbsd.org:homebuildsabnetbsd-5-0-2-releasei386201002061851z-objhomebuildsabnetbsd-5-0-2-releasesrcsysarchi386compilegeneric i386 '
    config_args='-d -Dusedevel'
    hint=recommended, useposix=true, d_sigaction=define
    useithreads=undef, usemultiplicity=undef
    useperlio=define, d_sfio=undef, uselargefiles=define, usesocks=undef
    use64bitint=undef, use64bitall=undef, uselongdouble=undef
    usemymalloc=y, bincompat5005=undef
  Compiler:
    cc='cc', ccflags ='-fno-strict-aliasing -pipe -fstack-protector -I/usr/pkg/include -I/usr/local/include',
    optimize='-O',
    cppflags='-fno-strict-aliasing -pipe -fstack-protector -I/usr/pkg/include -I/usr/local/include'
    ccversion='', gccversion='4.1.3 20080704 prerelease (NetBSD nb2 20081120)', gccosandvers=''
    intsize=4, longsize=4, ptrsize=4, doublesize=8, byteorder=1234
    d_longlong=define, longlongsize=8, d_longdbl=define, longdblsize=12
    ivtype='long', ivsize=4, nvtype='double', nvsize=8, Off_t='off_t', lseeksize=8
    alignbytes=4, prototype=define
  Linker and Libraries:
    ld='cc', ldflags =' -Wl,-rpath,/usr/pkg/lib -Wl,-rpath,/usr/local/lib -fstack-protector -L/usr/pkg/lib -L/usr/local/lib'
    libpth=/usr/pkg/lib /usr/local/lib /lib /usr/lib
    libs=-lgdbm -lm -lcrypt -lutil -lc -lposix
    perllibs=-lm -lcrypt -lutil -lc -lposix
    libc=/lib/libc.so, so=so, useshrplib=false, libperl=libperl.a
    gnulibc_version=''
  Dynamic Linking:
    dlsrc=dl_dlopen.xs, dlext=so, d_dlsymun=undef, ccdlflags='-Wl,-E '
    cccdlflags='-DPIC -fPIC ', lddlflags='--whole-archive -shared  -L/usr/pkg/lib -L/usr/local/lib -fstack-protector'


Characteristics of this binary (from libperl): 
  Compile-time options: MYMALLOC PERL_DONT_CREATE_GVSV PERL_MALLOC_WRAP
                        PERL_USE_DEVEL USE_LARGE_FILES USE_PERLIO
                        USE_PERL_ATOF
  Built under netbsd
  Compiled at Sep 23 2010 01:19:17
  %ENV:
    PERL5LIB="/var/spool/cpan/build/HTTP-Session-0.40-N8sQjw/blib/arch:/var/spool/cpan/build/HTTP-Session-0.40-N8sQjw/blib/lib:/var/spool/cpan/build/Test-TCP-1.06-mDUyE2/blib/arch:/var/spool/cpan/build/Test-TCP-1.06-mDUyE2/blib/lib:/var/spool/cpan/build/Test-SharedFork-0.15-pp_Th_/blib/arch:/var/spool/cpan/build/Test-SharedFork-0.15-pp_Th_/blib/lib:/var/spool/cpan/build/CGI-Simple-1.112-gn4RQl/blib/arch:/var/spool/cpan/build/CGI-Simple-1.112-gn4RQl/blib/lib:/var/spool/cpan/build/IO-stringy-2.110-UXZs_o/blib/arch:/var/spool/cpan/build/IO-stringy-2.110-UXZs_o/blib/lib:/var/spool/cpan/build/Class-Accessor-0.34-BNgQQg/blib/arch:/var/spool/cpan/build/Class-Accessor-0.34-BNgQQg/blib/lib:/var/spool/cpan/build/UNIVERSAL-require-0.13-L7EtgU/blib/arch:/var/spool/cpan/build/UNIVERSAL-require-0.13-L7EtgU/blib/lib"
    PERL5OPT=""
    PERL5_CPANPLUS_IS_RUNNING="26195"
    PERL5_CPAN_IS_RUNNING="26195"
    PERL5_CPAN_IS_RUNNING_IN_RECURSION="10785,26195"
    PERL_CR_SMOKER_CURRENT="HTTP-Session-Store-KyotoTycoon-0.01"
    PERL_EXTUTILS_AUTOINSTALL="--defaultdeps"
    PERL_MM_USE_DEFAULT="1"
  @INC:
    /var/spool/cpan/build/HTTP-Session-0.40-N8sQjw/blib/arch
    /var/spool/cpan/build/HTTP-Session-0.40-N8sQjw/blib/lib
    /var/spool/cpan/build/Test-TCP-1.06-mDUyE2/blib/arch
    /var/spool/cpan/build/Test-TCP-1.06-mDUyE2/blib/lib
    /var/spool/cpan/build/Test-SharedFork-0.15-pp_Th_/blib/arch
    /var/spool/cpan/build/Test-SharedFork-0.15-pp_Th_/blib/lib
    /var/spool/cpan/build/CGI-Simple-1.112-gn4RQl/blib/arch
    /var/spool/cpan/build/CGI-Simple-1.112-gn4RQl/blib/lib
    /var/spool/cpan/build/IO-stringy-2.110-UXZs_o/blib/arch
    /var/spool/cpan/build/IO-stringy-2.110-UXZs_o/blib/lib
    /var/spool/cpan/build/Class-Accessor-0.34-BNgQQg/blib/arch
    /var/spool/cpan/build/Class-Accessor-0.34-BNgQQg/blib/lib
    /var/spool/cpan/build/UNIVERSAL-require-0.13-L7EtgU/blib/arch
    /var/spool/cpan/build/UNIVERSAL-require-0.13-L7EtgU/blib/lib
    /usr/local/lib/perl5/site_perl/5.13.5/i386-netbsd
    /usr/local/lib/perl5/site_perl/5.13.5
    /usr/local/lib/perl5/5.13.5/i386-netbsd
    /usr/local/lib/perl5/5.13.5
    /usr/local/lib/perl5/site_perl
    .