Text-VisualPrintf v3.10 Perl 5 v5.16.3 x86_64-linux-thread-multi

Status
Pass
From
David Cantrell (DCANTRELL)
Dist
Text-VisualPrintf v3.10
Platform
Perl 5 v5.16.3 x86_64-linux-thread-multi
Date
2020-10-30 17:27:47
ID
3a30fc8e-1ad5-11eb-92d5-a09ea1724e2f
This distribution has been tested as part of the CPAN Testers
project, supporting the Perl programming language.  See
http://wiki.cpantesters.org/ for more information or email
questions to cpan-testers-discuss@perl.org


--
Dear Kaz Utashiro,

This is a computer-generated report for Text-VisualPrintf-3.10
on perl 5.16.3, created by CPAN-Reporter-1.2018.

Thank you for uploading your work to CPAN.  Congratulations!
All tests were successful.

Sections of this report:

    * Tester comments
    * Program output
    * Prerequisites
    * Environment and other context

------------------------------
TESTER COMMENTS
------------------------------

Additional comments from tester:

this report is from an automated smoke testing program
and was not reviewed by a human for accuracy

------------------------------
PROGRAM OUTPUT
------------------------------

Output from './Build test':

t/00_compile.t ..... ok
t/01_simple.t ...... ok
t/02_multi.t ....... ok
t/03_special.t ..... ok
Unknown charname 'KATAKANA LETTER SMALL KI' at (eval 20) line 1.
Unknown charname 'KATAKANA LETTER SMALL KO' at (eval 26) line 1.
Unknown charname 'KATAKANA LETTER SMALL SA' at (eval 28) line 1.
Unknown charname 'KATAKANA LETTER SMALL SE' at (eval 34) line 1.
Unknown charname 'KATAKANA LETTER SMALL SO' at (eval 36) line 1.
Unknown charname 'KATAKANA LETTER SMALL TA' at (eval 38) line 1.
Unknown charname 'KATAKANA LETTER SMALL TI' at (eval 40) line 1.
Unknown charname 'KATAKANA LETTER SMALL TE' at (eval 44) line 1.
Unknown charname 'KATAKANA LETTER SMALL NA' at (eval 48) line 1.
Unknown charname 'KATAKANA LETTER SMALL NI' at (eval 50) line 1.
Unknown charname 'KATAKANA LETTER SMALL NE' at (eval 54) line 1.
Unknown charname 'KATAKANA LETTER SMALL NO' at (eval 56) line 1.
Unknown charname 'KATAKANA LETTER SMALL MA' at (eval 68) line 1.
Unknown charname 'KATAKANA LETTER SMALL MI' at (eval 70) line 1.
Unknown charname 'KATAKANA LETTER SMALL ME' at (eval 74) line 1.
Unknown charname 'KATAKANA LETTER SMALL MO' at (eval 76) line 1.
Unknown charname 'KATAKANA LETTER YI' at (eval 79) line 1.
Unknown charname 'KATAKANA LETTER SMALL YI' at (eval 80) line 1.
Unknown charname 'KATAKANA LETTER YE' at (eval 83) line 1.
Unknown charname 'KATAKANA LETTER SMALL YE' at (eval 84) line 1.
Unknown charname 'KATAKANA LETTER SMALL WI' at (eval 100) line 1.
Unknown charname 'KATAKANA LETTER WU' at (eval 101) line 1.
Unknown charname 'KATAKANA LETTER SMALL WU' at (eval 102) line 1.
Unknown charname 'KATAKANA LETTER SMALL WE' at (eval 104) line 1.
Unknown charname 'KATAKANA LETTER SMALL WO' at (eval 106) line 1.
Unknown charname 'KATAKANA LETTER SMALL GA' at (eval 108) line 1.
Unknown charname 'KATAKANA LETTER SMALL GI' at (eval 110) line 1.
Unknown charname 'KATAKANA LETTER SMALL GU' at (eval 112) line 1.
Unknown charname 'KATAKANA LETTER SMALL GE' at (eval 114) line 1.
Unknown charname 'KATAKANA LETTER SMALL GO' at (eval 116) line 1.
Unknown charname 'KATAKANA LETTER SMALL ZA' at (eval 118) line 1.
Unknown charname 'KATAKANA LETTER SMALL ZI' at (eval 120) line 1.
Unknown charname 'KATAKANA LETTER SMALL ZU' at (eval 122) line 1.
Unknown charname 'KATAKANA LETTER SMALL ZE' at (eval 124) line 1.
Unknown charname 'KATAKANA LETTER SMALL ZO' at (eval 126) line 1.
Unknown charname 'KATAKANA LETTER SMALL DA' at (eval 128) line 1.
Unknown charname 'KATAKANA LETTER SMALL DI' at (eval 130) line 1.
Unknown charname 'KATAKANA LETTER SMALL DU' at (eval 132) line 1.
Unknown charname 'KATAKANA LETTER SMALL DE' at (eval 134) line 1.
Unknown charname 'KATAKANA LETTER SMALL DO' at (eval 136) line 1.
Unknown charname 'KATAKANA LETTER SMALL BA' at (eval 138) line 1.
Unknown charname 'KATAKANA LETTER SMALL BI' at (eval 140) line 1.
Unknown charname 'KATAKANA LETTER SMALL BU' at (eval 142) line 1.
Unknown charname 'KATAKANA LETTER SMALL BE' at (eval 144) line 1.
Unknown charname 'KATAKANA LETTER SMALL BO' at (eval 146) line 1.
Unknown charname 'KATAKANA LETTER SMALL PA' at (eval 148) line 1.
Unknown charname 'KATAKANA LETTER SMALL PI' at (eval 150) line 1.
Unknown charname 'KATAKANA LETTER SMALL PU' at (eval 152) line 1.
Unknown charname 'KATAKANA LETTER SMALL PE' at (eval 154) line 1.
Unknown charname 'KATAKANA LETTER SMALL PO' at (eval 156) line 1.
Unknown charname 'HIRAGANA LETTER SMALL KI' at (eval 170) line 1.
Unknown charname 'HIRAGANA LETTER SMALL KU' at (eval 172) line 1.
Unknown charname 'HIRAGANA LETTER SMALL KO' at (eval 176) line 1.
Unknown charname 'HIRAGANA LETTER SMALL SA' at (eval 178) line 1.
Unknown charname 'HIRAGANA LETTER SMALL SI' at (eval 180) line 1.
Unknown charname 'HIRAGANA LETTER SMALL SU' at (eval 182) line 1.
Unknown charname 'HIRAGANA LETTER SMALL SE' at (eval 184) line 1.
Unknown charname 'HIRAGANA LETTER SMALL SO' at (eval 186) line 1.
Unknown charname 'HIRAGANA LETTER SMALL TA' at (eval 188) line 1.
Unknown charname 'HIRAGANA LETTER SMALL TI' at (eval 190) line 1.
Unknown charname 'HIRAGANA LETTER SMALL TE' at (eval 194) line 1.
Unknown charname 'HIRAGANA LETTER SMALL TO' at (eval 196) line 1.
Unknown charname 'HIRAGANA LETTER SMALL NA' at (eval 198) line 1.
Unknown charname 'HIRAGANA LETTER SMALL NI' at (eval 200) line 1.
Unknown charname 'HIRAGANA LETTER SMALL NU' at (eval 202) line 1.
Unknown charname 'HIRAGANA LETTER SMALL NE' at (eval 204) line 1.
Unknown charname 'HIRAGANA LETTER SMALL NO' at (eval 206) line 1.
Unknown charname 'HIRAGANA LETTER SMALL HA' at (eval 208) line 1.
Unknown charname 'HIRAGANA LETTER SMALL HI' at (eval 210) line 1.
Unknown charname 'HIRAGANA LETTER SMALL HU' at (eval 212) line 1.
Unknown charname 'HIRAGANA LETTER SMALL HE' at (eval 214) line 1.
Unknown charname 'HIRAGANA LETTER SMALL HO' at (eval 216) line 1.
Unknown charname 'HIRAGANA LETTER SMALL MA' at (eval 218) line 1.
Unknown charname 'HIRAGANA LETTER SMALL MI' at (eval 220) line 1.
Unknown charname 'HIRAGANA LETTER SMALL MU' at (eval 222) line 1.
Unknown charname 'HIRAGANA LETTER SMALL ME' at (eval 224) line 1.
Unknown charname 'HIRAGANA LETTER SMALL MO' at (eval 226) line 1.
Unknown charname 'HIRAGANA LETTER YI' at (eval 229) line 1.
Unknown charname 'HIRAGANA LETTER SMALL YI' at (eval 230) line 1.
Unknown charname 'HIRAGANA LETTER YE' at (eval 233) line 1.
Unknown charname 'HIRAGANA LETTER SMALL YE' at (eval 234) line 1.
Unknown charname 'HIRAGANA LETTER SMALL RA' at (eval 238) line 1.
Unknown charname 'HIRAGANA LETTER SMALL RI' at (eval 240) line 1.
Unknown charname 'HIRAGANA LETTER SMALL RU' at (eval 242) line 1.
Unknown charname 'HIRAGANA LETTER SMALL RE' at (eval 244) line 1.
Unknown charname 'HIRAGANA LETTER SMALL RO' at (eval 246) line 1.
Unknown charname 'HIRAGANA LETTER SMALL WI' at (eval 250) line 1.
Unknown charname 'HIRAGANA LETTER WU' at (eval 251) line 1.
Unknown charname 'HIRAGANA LETTER SMALL WU' at (eval 252) line 1.
Unknown charname 'HIRAGANA LETTER SMALL WE' at (eval 254) line 1.
Unknown charname 'HIRAGANA LETTER SMALL WO' at (eval 256) line 1.
Unknown charname 'HIRAGANA LETTER SMALL GA' at (eval 258) line 1.
Unknown charname 'HIRAGANA LETTER SMALL GI' at (eval 260) line 1.
Unknown charname 'HIRAGANA LETTER SMALL GU' at (eval 262) line 1.
Unknown charname 'HIRAGANA LETTER SMALL GE' at (eval 264) line 1.
Unknown charname 'HIRAGANA LETTER SMALL GO' at (eval 266) line 1.
Unknown charname 'HIRAGANA LETTER SMALL ZA' at (eval 268) line 1.
Unknown charname 'HIRAGANA LETTER SMALL ZI' at (eval 270) line 1.
Unknown charname 'HIRAGANA LETTER SMALL ZU' at (eval 272) line 1.
Unknown charname 'HIRAGANA LETTER SMALL ZE' at (eval 274) line 1.
Unknown charname 'HIRAGANA LETTER SMALL ZO' at (eval 276) line 1.
Unknown charname 'HIRAGANA LETTER SMALL DA' at (eval 278) line 1.
Unknown charname 'HIRAGANA LETTER SMALL DI' at (eval 280) line 1.
Unknown charname 'HIRAGANA LETTER SMALL DU' at (eval 282) line 1.
Unknown charname 'HIRAGANA LETTER SMALL DE' at (eval 284) line 1.
Unknown charname 'HIRAGANA LETTER SMALL DO' at (eval 286) line 1.
Unknown charname 'HIRAGANA LETTER SMALL BA' at (eval 288) line 1.
Unknown charname 'HIRAGANA LETTER SMALL BI' at (eval 290) line 1.
Unknown charname 'HIRAGANA LETTER SMALL BU' at (eval 292) line 1.
Unknown charname 'HIRAGANA LETTER SMALL BE' at (eval 294) line 1.
Unknown charname 'HIRAGANA LETTER SMALL BO' at (eval 296) line 1.
Unknown charname 'HIRAGANA LETTER SMALL PA' at (eval 298) line 1.
Unknown charname 'HIRAGANA LETTER SMALL PI' at (eval 300) line 1.
Unknown charname 'HIRAGANA LETTER SMALL PU' at (eval 302) line 1.
Unknown charname 'HIRAGANA LETTER SMALL PE' at (eval 304) line 1.
Unknown charname 'HIRAGANA LETTER SMALL PO' at (eval 306) line 1.
t/04_combined.t .... ok
t/05_filehandle.t .. ok
t/06_io.t .......... ok
All tests successful.
Files=7, Tests=567,  8 wallclock secs ( 0.14 usr  0.01 sys +  1.02 cusr  0.10 csys =  1.27 CPU)
Result: PASS

------------------------------
PREREQUISITES
------------------------------

Prerequisite modules loaded:

requires:

    Module                Need  Have    
    --------------------- ----- --------
    perl                  5.014 5.016003
    Text::ANSI::Fold      1.10  2.01    
    Text::VisualWidth::PP 0.05  0.05    

build_requires:

    Module                Need  Have    
    --------------------- ----- --------
    Test::More            0.98  1.302183

configure_requires:

    Module                Need  Have    
    --------------------- ----- --------
    Module::Build::Tiny   0.035 0.039   


------------------------------
ENVIRONMENT AND OTHER CONTEXT
------------------------------

Environment variables:

    AUTOMATED_TESTING = 1
    LANG = en_US.UTF-8
    NONINTERACTIVE_TESTING = 1
    PATH = /usr/local/bin:/usr/bin:/bin:/usr/local/games:/usr/games
    PERL = 5.16.3
    PERL5LIB = 
    PERL5OPT = 
    PERL5_CPANPLUS_IS_RUNNING = 14524
    PERL5_CPAN_IS_RUNNING = 14524
    PERLVER = 5.16.3
    PERL_INLINE_DIRECTORY = /home/david/.Inline-5.16.3
    PERL_MM_USE_DEFAULT = 1
    PERL_USE_UNSAFE_INC = 0
    SHELL = /bin/bash
    TERM = screen

Perl special variables (and OS-specific diagnostics, for MSWin32):

    $^X = /home/david/cpantesting/perl-5.16.3/bin/perl
    $UID/$EUID = 1000 / 1000
    $GID = 1000 27 1000
    $EGID = 1000 27 1000

Perl module toolchain versions installed:

    Module              Have    
    ------------------- --------
    CPAN                1.9800  
    CPAN::Meta          2.143240
    Cwd                 3.39_02 
    ExtUtils::CBuilder  0.280206
    ExtUtils::Command   7.34    
    ExtUtils::Install   2.06    
    ExtUtils::MakeMaker 7.34    
    ExtUtils::Manifest  1.70    
    ExtUtils::ParseXS   3.35    
    File::Spec          3.39_02 
    JSON                4.02    
    JSON::PP            4.02    
    Module::Build       0.4231  
    Module::Signature   n/a     
    Parse::CPAN::Meta   1.4414  
    Test::Harness       3.42    
    Test::More          1.302183
    YAML                1.30    
    YAML::Syck          n/a     
    version             0.9928  


--

Summary of my perl5 (revision 5 version 16 subversion 3) configuration:
   
  Platform:
    osname=linux, osvers=4.9.0-8-amd64, archname=x86_64-linux-thread-multi
    uname='linux pigsty 4.9.0-8-amd64 #1 smp debian 4.9.144-3 (2019-02-02) x86_64 gnulinux '
    config_args='-de -Duse64bitall -Dusethreads -Dprefix=/home/david/cpantesting/perl-5.16.3 -A ccflags=-fwrapv'
    hint=previous, useposix=true, d_sigaction=define
    useithreads=define, usemultiplicity=define
    useperlio=define, d_sfio=undef, uselargefiles=define, usesocks=undef
    use64bitint=define, use64bitall=define, uselongdouble=undef
    usemymalloc=n, bincompat5005=undef
  Compiler:
    cc='cc', ccflags ='-D_REENTRANT -D_GNU_SOURCE -fwrapv -fno-strict-aliasing -pipe -fstack-protector -I/usr/local/include -D_LARGEFILE_SOURCE -D_FILE_OFFSET_BITS=64 -fwrapv -fwrapv',
    optimize='-O2',
    cppflags='-D_REENTRANT -D_GNU_SOURCE -fwrapv -fno-strict-aliasing -pipe -fstack-protector -I/usr/local/include -D_REENTRANT -D_GNU_SOURCE -fwrapv -fno-strict-aliasing -pipe -fstack-protector -I/usr/local/include -D_LARGEFILE_SOURCE -D_FILE_OFFSET_BITS=64 -fwrapv -D_REENTRANT -D_GNU_SOURCE -fwrapv -fno-strict-aliasing -pipe -fstack-protector -I/usr/local/include -D_LARGEFILE_SOURCE -D_FILE_OFFSET_BITS=64 -fwrapv -fwrapv'
    ccversion='', gccversion='6.3.0 20170516', gccosandvers=''
    intsize=4, longsize=8, ptrsize=8, doublesize=8, byteorder=12345678
    d_longlong=define, longlongsize=8, d_longdbl=define, longdblsize=16
    ivtype='long', ivsize=8, nvtype='double', nvsize=8, Off_t='off_t', lseeksize=8
    alignbytes=8, prototype=define
  Linker and Libraries:
    ld='cc', ldflags =' -fstack-protector -L/usr/local/lib'
    libpth=/usr/local/lib /lib/x86_64-linux-gnu /lib/../lib /usr/lib/x86_64-linux-gnu /usr/lib/../lib /lib /usr/lib
    libs=-lnsl -ldb -ldl -lm -lcrypt -lutil -lpthread -lc
    perllibs=-lnsl -ldl -lm -lcrypt -lutil -lpthread -lc
    libc=libc-2.24.so, so=so, useshrplib=false, libperl=libperl.a
    gnulibc_version='2.24'
  Dynamic Linking:
    dlsrc=dl_dlopen.xs, dlext=so, d_dlsymun=undef, ccdlflags='-Wl,-E'
    cccdlflags='-fPIC', lddlflags='-shared -O2 -L/usr/local/lib -fstack-protector'


Characteristics of this binary (from libperl): 
  Compile-time options: HAS_TIMES MULTIPLICITY PERLIO_LAYERS
                        PERL_DONT_CREATE_GVSV PERL_IMPLICIT_CONTEXT
                        PERL_MALLOC_WRAP PERL_PRESERVE_IVUV USE_64_BIT_ALL
                        USE_64_BIT_INT USE_ITHREADS USE_LARGE_FILES
                        USE_LOCALE USE_LOCALE_COLLATE USE_LOCALE_CTYPE
                        USE_LOCALE_NUMERIC USE_PERLIO USE_PERL_ATOF
                        USE_REENTRANT_API
  Locally applied patches:
	Devel::PatchPerl 1.56
  Built under linux
  Compiled at Apr 25 2019 22:17:10
  %ENV:
    PERL="5.16.3"
    PERL5LIB=""
    PERL5OPT=""
    PERL5_CPANPLUS_IS_RUNNING="14524"
    PERL5_CPAN_IS_RUNNING="14524"
    PERLVER="5.16.3"
    PERL_INLINE_DIRECTORY="/home/david/.Inline-5.16.3"
    PERL_MM_USE_DEFAULT="1"
    PERL_USE_UNSAFE_INC="0"
  @INC:
    /home/david/cpantesting/perl-5.16.3/lib/site_perl/5.16.3/x86_64-linux-thread-multi
    /home/david/cpantesting/perl-5.16.3/lib/site_perl/5.16.3
    /home/david/cpantesting/perl-5.16.3/lib/5.16.3/x86_64-linux-thread-multi
    /home/david/cpantesting/perl-5.16.3/lib/5.16.3
    .