Report for Module-New-0.15

Back
From: metabase:user:314402c4-2aae-11df-837a-5e0a49663a4f
Subject: PASS Module-New-0.15 v5.14.4 FreeBSD
Date: 2015-04-19T15:32:02Z

This distribution has been tested as part of the CPAN Testers
project, supporting the Perl programming language.  See
http://wiki.cpantesters.org/ for more information or email
questions to cpan-testers-discuss@perl.org


--
Dear Kenichi Ishigaki,

This is a computer-generated report for Module-New-0.15
on perl 5.14.4, created by CPAN-Reporter-1.2014.

Thank you for uploading your work to CPAN.  Congratulations!
All tests were successful.

Sections of this report:

    * Tester comments
    * Program output
    * Prerequisites
    * Environment and other context

------------------------------
TESTER COMMENTS
------------------------------

Additional comments from tester:

none provided

------------------------------
PROGRAM OUTPUT
------------------------------

Output from '/usr/bin/make test':

PERL_DL_NONLAZY=1 "/usr/perl5.14.4/bin/perl" "-MExtUtils::Command::MM" "-MTest::Harness" "-e" "undef *Test::Harness::Switches; test_harness(0, 'blib/lib', 'blib/arch')" t/*.t
t/00_load.t ......... ok
t/10_config.t ....... ok
t/10_loader.t ....... ok
[debug] set root to /usr/home/eserte/.cpan/build/Module-New-0.15-7xE9Qb
[debug] set root to /usr/home/eserte/.cpan/build/Module-New-0.15-7xE9Qb/t/TestApp/lib/foo/../..
[debug] set root to /usr/home/eserte/.cpan/build/Module-New-0.15-7xE9Qb/t/TestApp/lib/foo/../..
[debug] set root to /usr/home/eserte/.cpan/build/Module-New-0.15-7xE9Qb/t/TestApp
t/10_path.t ......... ok
t/10_queue.t ........ ok
t/10_template.t ..... ok
t/20_license.t ...... ok
t/30_file.t ......... ok
t/40_command.t ...... ok
t/50_recipe.t ....... ok
t/99_pod.t .......... skipped: set TEST_POD to enable this test
t/99_podcoverage.t .. skipped: set TEST_POD to enable this test
All tests successful.
Files=12, Tests=81,  3 wallclock secs ( 0.12 usr  0.02 sys +  1.66 cusr  0.92 csys =  2.72 CPU)
Result: PASS

------------------------------
PREREQUISITES
------------------------------

Prerequisite modules loaded:

requires:

    Module                        Need  Have    
    ----------------------------- ----- --------
    File::HomeDir                 0.66  1.00    
    Getopt::Long                  0     2.45    
    Log::Dump                     0.03  0.14    
    Module::Find                  0     0.13    
    Parse::LocalDistribution      0.13  0.14    
    Path::Tiny                    0.044 0.068   
    Pod::Text                     0     3.15    
    Software::License             0     0.103010
    String::CamelCase             0     0.02    
    Sub::Install                  0     0.928   
    Text::MicroTemplate           0.06  0.20    
    Time::Piece                   0     1.29    
    version                       0.77  0.9912  
    Version::Next                 0     0.004   
    YAML::Tiny                    1.51  1.66    

build_requires:

    Module                        Need  Have    
    ----------------------------- ----- --------
    ExtUtils::MakeMaker::CPANfile 0.04  0.06    
    Test::More                    0.96  1.001014
    Test::UseAllModules           0.09  0.17    

configure_requires:

    Module                        Need  Have    
    ----------------------------- ----- --------
    ExtUtils::MakeMaker::CPANfile 0.06  0.06    


------------------------------
ENVIRONMENT AND OTHER CONTEXT
------------------------------

Environment variables:

    DBIC_NO_WARN_BAD_PERL = 1
    LC_ALL = de_DE.ISO8859-1
    PATH = /usr/local/bin:/usr/bin:/bin:/usr/local/sbin:/usr/sbin:/sbin:/home/cpansand/bin/freebsd9.1:/home/cpansand/bin/sh:/home/cpansand/bin:/usr/games:/home/cpansand/devel:/usr/home/eserte/src/srezic-misc/scripts
    PERL5LIB = /home/eserte/.cpan/build/Mojolicious-Plugin-Notifications-0.9-D7yIHU/blib/arch:/home/eserte/.cpan/build/Mojolicious-Plugin-Notifications-0.9-D7yIHU/blib/lib:/home/eserte/.cpan/build/Test-Mojo-Session-1.04-ZVSC4N/blib/arch:/home/eserte/.cpan/build/Test-Mojo-Session-1.04-ZVSC4N/blib/lib:/home/eserte/.cpan/build/ExtUtils-HasCompiler-0.001-o58e5W/blib/arch:/home/eserte/.cpan/build/ExtUtils-HasCompiler-0.001-o58e5W/blib/lib:/home/eserte/.cpan/build/Dist-Zilla-PluginBundle-Author-HAYOBAAN-0.008-Zaqtp7/blib/arch:/home/eserte/.cpan/build/Dist-Zilla-PluginBundle-Author-HAYOBAAN-0.008-Zaqtp7/blib/lib:/home/eserte/.cpan/build/Carmel-v0.1.5-uNhZ7g/blib/arch:/home/eserte/.cpan/build/Carmel-v0.1.5-uNhZ7g/blib/lib:/home/eserte/.cpan/build/App-cpanminus-1.7030-zigzbu/blib/arch:/home/eserte/.cpan/build/App-cpanminus-1.7030-zigzbu/blib/lib:/home/eserte/.cpan/build/Acme-WeirdPod-0.002-VEagYn/blib/arch:/home/eserte/.cpan/build/Acme-WeirdPod-0.002-VEagYn/blib/lib:/home/eserte/.cpan/build/Wcpancover-0.03-k0KT1L/blib/arch:/home/eserte/.cpan/build/Wcpancover-0.03-k0KT1L/blib/lib
    PERL5OPT = 
    PERL5_CPANPLUS_IS_RUNNING = 51581
    PERL5_CPAN_IS_RUNNING = 51581
    PERL5_CPAN_IS_RUNNING_IN_RECURSION = 51523,51581
    PERLDOC = -MPod::Perldoc::ToTextOverstrike
    PERL_BATCH = yes
    PERL_CPAN_REPORTER_CONFIG = /var/tmp/cpansmoker-1023/cpanreporter_000_config.ini
    PERL_EXTUTILS_AUTOINSTALL = --defaultdeps
    PERL_HTML_DISPLAY_CLASS = HTML::Display::Mozilla
    SHELL = /usr/local/bin/zsh
    TERM = screen
    TMPDIR = /var/tmp/cpansmoker-1023

Perl special variables (and OS-specific diagnostics, for MSWin32):

    $^X = /usr/perl5.14.4/bin/perl
    $UID/$EUID = 1023 / 1023
    $GID = 1023 1023
    $EGID = 1023 1023

Perl module toolchain versions installed:

    Module              Have    
    ------------------- --------
    CPAN                2.10    
    CPAN::Meta          2.150001
    Cwd                 3.47    
    ExtUtils::CBuilder  0.280220
    ExtUtils::Command   1.20    
    ExtUtils::Install   2.04    
    ExtUtils::MakeMaker 7.04    
    ExtUtils::Manifest  1.69    
    ExtUtils::ParseXS   3.24    
    File::Spec          3.47    
    JSON                2.90    
    JSON::PP            2.27300 
    Module::Build       0.4211  
    Module::Signature   0.78    
    Parse::CPAN::Meta   1.4414  
    Test::Harness       3.35    
    Test::More          1.001014
    YAML                1.15    
    YAML::Syck          1.29    
    version             0.9912  


--

Summary of my perl5 (revision 5 version 14 subversion 4) configuration:
   
  Platform:
    osname=freebsd, osvers=9.2-release-p4, archname=amd64-freebsd
    uname='freebsd cvrsnica-freebsd-92 9.2-release-p4 freebsd 9.2-release-p4 #0: tue apr 8 18:08:22 utc 2014 root@amd64-builder.daemonology.net:usrobjusrsrcsysgeneric amd64 '
    config_args='-ds -e -Dprefix=/usr/perl5.14.4'
    hint=recommended, useposix=true, d_sigaction=define
    useithreads=undef, usemultiplicity=undef
    useperlio=define, d_sfio=undef, uselargefiles=define, usesocks=undef
    use64bitint=define, use64bitall=define, uselongdouble=undef
    usemymalloc=n, bincompat5005=undef
  Compiler:
    cc='cc', ccflags ='-DHAS_FPSETMASK -DHAS_FLOATINGPOINT_H -fno-strict-aliasing -pipe -fstack-protector -I/usr/local/include',
    optimize='-O',
    cppflags='-DHAS_FPSETMASK -DHAS_FLOATINGPOINT_H -fno-strict-aliasing -pipe -fstack-protector -I/usr/local/include'
    ccversion='', gccversion='4.2.1 20070831 patched [FreeBSD]', gccosandvers=''
    intsize=4, longsize=8, ptrsize=8, doublesize=8, byteorder=12345678
    d_longlong=define, longlongsize=8, d_longdbl=define, longdblsize=16
    ivtype='long', ivsize=8, nvtype='double', nvsize=8, Off_t='off_t', lseeksize=8
    alignbytes=8, prototype=define
  Linker and Libraries:
    ld='cc', ldflags ='-Wl,-E  -fstack-protector -L/usr/local/lib'
    libpth=/usr/lib /usr/local/lib
    libs=-lgdbm -lm -lcrypt -lutil -lc
    perllibs=-lm -lcrypt -lutil -lc
    libc=, so=so, useshrplib=false, libperl=libperl.a
    gnulibc_version=''
  Dynamic Linking:
    dlsrc=dl_dlopen.xs, dlext=so, d_dlsymun=undef, ccdlflags=' '
    cccdlflags='-DPIC -fPIC', lddlflags='-shared  -L/usr/local/lib -fstack-protector'


Characteristics of this binary (from libperl): 
  Compile-time options: PERL_DONT_CREATE_GVSV PERL_MALLOC_WRAP
                        PERL_PRESERVE_IVUV USE_64_BIT_ALL USE_64_BIT_INT
                        USE_LARGE_FILES USE_PERLIO USE_PERL_ATOF
  Built under freebsd
  Compiled at May 16 2014 00:20:44
  %ENV:
    PERL5LIB="/home/eserte/.cpan/build/Mojolicious-Plugin-Notifications-0.9-D7yIHU/blib/arch:/home/eserte/.cpan/build/Mojolicious-Plugin-Notifications-0.9-D7yIHU/blib/lib:/home/eserte/.cpan/build/Test-Mojo-Session-1.04-ZVSC4N/blib/arch:/home/eserte/.cpan/build/Test-Mojo-Session-1.04-ZVSC4N/blib/lib:/home/eserte/.cpan/build/ExtUtils-HasCompiler-0.001-o58e5W/blib/arch:/home/eserte/.cpan/build/ExtUtils-HasCompiler-0.001-o58e5W/blib/lib:/home/eserte/.cpan/build/Dist-Zilla-PluginBundle-Author-HAYOBAAN-0.008-Zaqtp7/blib/arch:/home/eserte/.cpan/build/Dist-Zilla-PluginBundle-Author-HAYOBAAN-0.008-Zaqtp7/blib/lib:/home/eserte/.cpan/build/Carmel-v0.1.5-uNhZ7g/blib/arch:/home/eserte/.cpan/build/Carmel-v0.1.5-uNhZ7g/blib/lib:/home/eserte/.cpan/build/App-cpanminus-1.7030-zigzbu/blib/arch:/home/eserte/.cpan/build/App-cpanminus-1.7030-zigzbu/blib/lib:/home/eserte/.cpan/build/Acme-WeirdPod-0.002-VEagYn/blib/arch:/home/eserte/.cpan/build/Acme-WeirdPod-0.002-VEagYn/blib/lib:/home/eserte/.cpan/build/Wcpancover-0.03-k0KT1L/blib/arch:/home/eserte/.cpan/build/Wcpancover-0.03-k0KT1L/blib/lib"
    PERL5OPT=""
    PERL5_CPANPLUS_IS_RUNNING="51581"
    PERL5_CPAN_IS_RUNNING="51581"
    PERL5_CPAN_IS_RUNNING_IN_RECURSION="51523,51581"
    PERLDOC="-MPod::Perldoc::ToTextOverstrike"
    PERL_BATCH="yes"
    PERL_CPAN_REPORTER_CONFIG="/var/tmp/cpansmoker-1023/cpanreporter_000_config.ini"
    PERL_EXTUTILS_AUTOINSTALL="--defaultdeps"
    PERL_HTML_DISPLAY_CLASS="HTML::Display::Mozilla"
  @INC:
    /home/eserte/.cpan/build/Mojolicious-Plugin-Notifications-0.9-D7yIHU/blib/arch
    /home/eserte/.cpan/build/Mojolicious-Plugin-Notifications-0.9-D7yIHU/blib/lib
    /home/eserte/.cpan/build/Test-Mojo-Session-1.04-ZVSC4N/blib/arch
    /home/eserte/.cpan/build/Test-Mojo-Session-1.04-ZVSC4N/blib/lib
    /home/eserte/.cpan/build/ExtUtils-HasCompiler-0.001-o58e5W/blib/arch
    /home/eserte/.cpan/build/ExtUtils-HasCompiler-0.001-o58e5W/blib/lib
    /home/eserte/.cpan/build/Dist-Zilla-PluginBundle-Author-HAYOBAAN-0.008-Zaqtp7/blib/arch
    /home/eserte/.cpan/build/Dist-Zilla-PluginBundle-Author-HAYOBAAN-0.008-Zaqtp7/blib/lib
    /home/eserte/.cpan/build/Carmel-v0.1.5-uNhZ7g/blib/arch
    /home/eserte/.cpan/build/Carmel-v0.1.5-uNhZ7g/blib/lib
    /home/eserte/.cpan/build/App-cpanminus-1.7030-zigzbu/blib/arch
    /home/eserte/.cpan/build/App-cpanminus-1.7030-zigzbu/blib/lib
    /home/eserte/.cpan/build/Acme-WeirdPod-0.002-VEagYn/blib/arch
    /home/eserte/.cpan/build/Acme-WeirdPod-0.002-VEagYn/blib/lib
    /home/eserte/.cpan/build/Wcpancover-0.03-k0KT1L/blib/arch
    /home/eserte/.cpan/build/Wcpancover-0.03-k0KT1L/blib/lib
    /usr/perl5.14.4/lib/site_perl/5.14.4/amd64-freebsd
    /usr/perl5.14.4/lib/site_perl/5.14.4
    /usr/perl5.14.4/lib/5.14.4/amd64-freebsd
    /usr/perl5.14.4/lib/5.14.4
    .