Back
From: metabase:user:1eed3a18-483e-11e2-a87b-a3931c712682
Subject: PASS Catalyst-View-Email-0.33 v5.19.11 Mac OS X
Date: 2014-04-22T09:55:25Z
This distribution has been tested as part of the CPAN Testers
project, supporting the Perl programming language. See
http://wiki.cpantesters.org/ for more information or email
questions to cpan-testers-discuss@perl.org
--
Dear Devin Austin,
This is a computer-generated report for Catalyst-View-Email-0.33
on perl 5.19.11, created by CPAN-Reporter-1.2011.
Thank you for uploading your work to CPAN. Congratulations!
All tests were successful.
Sections of this report:
* Tester comments
* Program output
* Prerequisites
* Environment and other context
------------------------------
TESTER COMMENTS
------------------------------
Additional comments from tester:
none provided
------------------------------
PROGRAM OUTPUT
------------------------------
Output from '/usr/bin/make test':
PERL_DL_NONLAZY=1 /Users/stas/perl5/perlbrew/perls/perl-5.19.11/bin/perl5.19.11 "-MExtUtils::Command::MM" "-MTest::Harness" "-e" "undef *Test::Harness::Switches; test_harness(0, 'inc', 'blib/lib', 'blib/arch')" t/01use.t t/02pod.t t/04basic.t t/05template.t t/06config.t t/07mason.t
t/01use.t ....... ok
t/02pod.t ....... skipped: set TEST_POD to enable this test
require TestApp::View::TT was successful but the package is not defined. at /Users/stas/perl5/perlbrew/perls/perl-5.19.11/lib/site_perl/5.19.11/Catalyst/Utils.pm line 314.
require TestApp::View::Mason was successful but the package is not defined. at /Users/stas/perl5/perlbrew/perls/perl-5.19.11/lib/site_perl/5.19.11/Catalyst/Utils.pm line 314.
Class::MOP::load_class is deprecated at /Users/stas/perl5/perlbrew/perls/perl-5.19.11/lib/site_perl/5.19.11/darwin-2level/Class/MOP.pm line 73.
Class::MOP::load_class("Email::Sender::Transport::Test") called at /Users/stas/.cpan/build/Catalyst-View-Email-0.33-Tj4Nst/blib/lib/Catalyst/View/Email.pm line 226
Catalyst::View::Email::_build_mailer_obj(TestApp::View::Email=HASH(0x7f8ef58279d0)) called at accessor Catalyst::View::Email::_mailer_obj (defined at /Users/stas/.cpan/build/Catalyst-View-Email-0.33-Tj4Nst/blib/lib/Catalyst/View/Email.pm line 21) line 11
Catalyst::View::Email::_mailer_obj(TestApp::View::Email=HASH(0x7f8ef58279d0)) called at /Users/stas/.cpan/build/Catalyst-View-Email-0.33-Tj4Nst/blib/lib/Catalyst/View/Email.pm line 299
Catalyst::View::Email::process(TestApp::View::Email=HASH(0x7f8ef58279d0), TestApp=HASH(0x7f8ef58b6ff8)) called at /Users/stas/perl5/perlbrew/perls/perl-5.19.11/lib/site_perl/5.19.11/Catalyst/Action.pm line 65
Catalyst::Action::execute(Catalyst::Action=HASH(0x7f8ef58ff110), TestApp::View::Email=HASH(0x7f8ef58279d0), TestApp=HASH(0x7f8ef58b6ff8)) called at /Users/stas/perl5/perlbrew/perls/perl-5.19.11/lib/site_perl/5.19.11/Catalyst.pm line 1734
eval {...} called at /Users/stas/perl5/perlbrew/perls/perl-5.19.11/lib/site_perl/5.19.11/Catalyst.pm line 1734
Catalyst::execute(TestApp=HASH(0x7f8ef58b6ff8), "TestApp::View::Email", Catalyst::Action=HASH(0x7f8ef58ff110)) called at /Users/stas/perl5/perlbrew/perls/perl-5.19.11/lib/site_perl/5.19.11/Catalyst/Action.pm line 60
Catalyst::Action::dispatch(Catalyst::Action=HASH(0x7f8ef58ff110), TestApp=HASH(0x7f8ef58b6ff8)) called at /Users/stas/perl5/perlbrew/perls/perl-5.19.11/lib/site_perl/5.19.11/Catalyst/Dispatcher.pm line 258
Catalyst::Dispatcher::_do_forward(Catalyst::Dispatcher=HASH(0x7f8ef546d180), "forward", TestApp=HASH(0x7f8ef58b6ff8), "TestApp::View::Email") called at /Users/stas/perl5/perlbrew/perls/perl-5.19.11/lib/site_perl/5.19.11/Catalyst/Dispatcher.pm line 238
Catalyst::Dispatcher::forward(Catalyst::Dispatcher=HASH(0x7f8ef546d180), TestApp=HASH(0x7f8ef58b6ff8), "TestApp::View::Email") called at /Users/stas/perl5/perlbrew/perls/perl-5.19.11/lib/site_perl/5.19.11/Catalyst.pm line 397
Catalyst::forward(TestApp=HASH(0x7f8ef58b6ff8), "TestApp::View::Email") called at /Users/stas/.cpan/build/Catalyst-View-Email-0.33-Tj4Nst/t/lib/TestApp/Controller/Root.pm line 26
TestApp::Controller::Root::email(TestApp::Controller::Root=HASH(0x7f8ef58527f0), TestApp=HASH(0x7f8ef58b6ff8)) called at /Users/stas/perl5/perlbrew/perls/perl-5.19.11/lib/site_perl/5.19.11/Catalyst/Action.pm line 65
Catalyst::Action::execute(Catalyst::Action=HASH(0x7f8ef58827b0), TestApp::Controller::Root=HASH(0x7f8ef58527f0), TestApp=HASH(0x7f8ef58b6ff8)) called at /Users/stas/perl5/perlbrew/perls/perl-5.19.11/lib/site_perl/5.19.11/Catalyst.pm line 1734
eval {...} called at /Users/stas/perl5/perlbrew/perls/perl-5.19.11/lib/site_perl/5.19.11/Catalyst.pm line 1734
Catalyst::execute(TestApp=HASH(0x7f8ef58b6ff8), "TestApp::Controller::Root", Catalyst::Action=HASH(0x7f8ef58827b0)) called at /Users/stas/perl5/perlbrew/perls/perl-5.19.11/lib/site_perl/5.19.11/Catalyst/Action.pm line 60
Catalyst::Action::dispatch(Catalyst::Action=HASH(0x7f8ef58827b0), TestApp=HASH(0x7f8ef58b6ff8)) called at /Users/stas/perl5/perlbrew/perls/perl-5.19.11/lib/site_perl/5.19.11/Catalyst/Controller.pm line 161
Catalyst::Controller::_ACTION(TestApp::Controller::Root=HASH(0x7f8ef58527f0), TestApp=HASH(0x7f8ef58b6ff8)) called at /Users/stas/perl5/perlbrew/perls/perl-5.19.11/lib/site_perl/5.19.11/Catalyst/Action.pm line 65
Catalyst::Action::execute(Catalyst::Action=HASH(0x7f8ef5882090), TestApp::Controller::Root=HASH(0x7f8ef58527f0), TestApp=HASH(0x7f8ef58b6ff8)) called at /Users/stas/perl5/perlbrew/perls/perl-5.19.11/lib/site_perl/5.19.11/Catalyst.pm line 1734
eval {...} called at /Users/stas/perl5/perlbrew/perls/perl-5.19.11/lib/site_perl/5.19.11/Catalyst.pm line 1734
Catalyst::execute(TestApp=HASH(0x7f8ef58b6ff8), "TestApp::Controller::Root", Catalyst::Action=HASH(0x7f8ef5882090)) called at /Users/stas/perl5/perlbrew/perls/perl-5.19.11/lib/site_perl/5.19.11/Catalyst/Action.pm line 60
Catalyst::Action::dispatch(Catalyst::Action=HASH(0x7f8ef5882090), TestApp=HASH(0x7f8ef58b6ff8)) called at /Users/stas/perl5/perlbrew/perls/perl-5.19.11/lib/site_perl/5.19.11/Catalyst/Dispatcher.pm line 258
Catalyst::Dispatcher::_do_forward(Catalyst::Dispatcher=HASH(0x7f8ef546d180), "forward", TestApp=HASH(0x7f8ef58b6ff8), "_ACTION") called at /Users/stas/perl5/perlbrew/perls/perl-5.19.11/lib/site_perl/5.19.11/Catalyst/Dispatcher.pm line 238
Catalyst::Dispatcher::forward(Catalyst::Dispatcher=HASH(0x7f8ef546d180), TestApp=HASH(0x7f8ef58b6ff8), "_ACTION") called at /Users/stas/perl5/perlbrew/perls/perl-5.19.11/lib/site_perl/5.19.11/Catalyst.pm line 397
Catalyst::forward(TestApp=HASH(0x7f8ef58b6ff8), "_ACTION") called at /Users/stas/perl5/perlbrew/perls/perl-5.19.11/lib/site_perl/5.19.11/Catalyst/Controller.pm line 135
Catalyst::Controller::_DISPATCH(TestApp::Controller::Root=HASH(0x7f8ef58527f0), TestApp=HASH(0x7f8ef58b6ff8)) called at /Users/stas/perl5/perlbrew/perls/perl-5.19.11/lib/site_perl/5.19.11/Catalyst/Action.pm line 65
Catalyst::Action::execute(Catalyst::Action=HASH(0x7f8ef58756b0), TestApp::Controller::Root=HASH(0x7f8ef58527f0), TestApp=HASH(0x7f8ef58b6ff8)) called at /Users/stas/perl5/perlbrew/perls/perl-5.19.11/lib/site_perl/5.19.11/Catalyst.pm line 1734
eval {...} called at /Users/stas/perl5/perlbrew/perls/perl-5.19.11/lib/site_perl/5.19.11/Catalyst.pm line 1734
Catalyst::execute(TestApp=HASH(0x7f8ef58b6ff8), "TestApp::Controller::Root", Catalyst::Action=HASH(0x7f8ef58756b0)) called at /Users/stas/perl5/perlbrew/perls/perl-5.19.11/lib/site_perl/5.19.11/Catalyst/Action.pm line 60
Catalyst::Action::dispatch(Catalyst::Action=HASH(0x7f8ef58756b0), TestApp=HASH(0x7f8ef58b6ff8)) called at /Users/stas/perl5/perlbrew/perls/perl-5.19.11/lib/site_perl/5.19.11/Catalyst/Dispatcher.pm line 258
Catalyst::Dispatcher::_do_forward(Catalyst::Dispatcher=HASH(0x7f8ef546d180), "forward", TestApp=HASH(0x7f8ef58b6ff8), "/root/_DISPATCH") called at /Users/stas/perl5/perlbrew/perls/perl-5.19.11/lib/site_perl/5.19.11/Catalyst/Dispatcher.pm line 238
Catalyst::Dispatcher::forward(Catalyst::Dispatcher=HASH(0x7f8ef546d180), TestApp=HASH(0x7f8ef58b6ff8), "/root/_DISPATCH") called at /Users/stas/perl5/perlbrew/perls/perl-5.19.11/lib/site_perl/5.19.11/Catalyst.pm line 397
Catalyst::forward(TestApp=HASH(0x7f8ef58b6ff8), "/root/_DISPATCH") called at /Users/stas/perl5/perlbrew/perls/perl-5.19.11/lib/site_perl/5.19.11/Catalyst/Dispatcher.pm line 107
Catalyst::Dispatcher::dispatch(Catalyst::Dispatcher=HASH(0x7f8ef546d180), TestApp=HASH(0x7f8ef58b6ff8)) called at /Users/stas/perl5/perlbrew/perls/perl-5.19.11/lib/site_perl/5.19.11/Catalyst.pm line 1680
Catalyst::dispatch(TestApp=HASH(0x7f8ef58b6ff8)) called at /Users/stas/perl5/perlbrew/perls/perl-5.19.11/lib/site_perl/5.19.11/Catalyst.pm line 2015
Catalyst::try {...} () called at /Users/stas/perl5/perlbrew/perls/perl-5.19.11/lib/site_perl/5.19.11/Try/Tiny.pm line 81
eval {...} called at /Users/stas/perl5/perlbrew/perls/perl-5.19.11/lib/site_perl/5.19.11/Try/Tiny.pm line 72
Try::Tiny::try(CODE(0x7f8ef58b68e0), Try::Tiny::Catch=REF(0x7f8ef58b6778)) called at /Users/stas/perl5/perlbrew/perls/perl-5.19.11/lib/site_perl/5.19.11/Catalyst.pm line 2024
Catalyst::handle_request("TestApp", "env", HASH(0x7f8ef58f92d8), "response_cb", CODE(0x7f8ef58b67a8)) called at /Users/stas/perl5/perlbrew/perls/perl-5.19.11/lib/site_perl/5.19.11/Catalyst/Engine.pm line 797
Catalyst::Engine::__ANON__(CODE(0x7f8ef58b67a8)) called at /Users/stas/perl5/perlbrew/perls/perl-5.19.11/lib/site_perl/5.19.11/Plack/Middleware/HTTPExceptions.pm line 32
Plack::Middleware::HTTPExceptions::try {...} () called at /Users/stas/perl5/perlbrew/perls/perl-5.19.11/lib/site_perl/5.19.11/Try/Tiny.pm line 81
eval {...} called at /Users/stas/perl5/perlbrew/perls/perl-5.19.11/lib/site_perl/5.19.11/Try/Tiny.pm line 72
Try::Tiny::try(CODE(0x7f8ef58b6610), Try::Tiny::Catch=REF(0x7f8ef58f9a10)) called at /Users/stas/perl5/perlbrew/perls/perl-5.19.11/lib/site_perl/5.19.11/Plack/Middleware/HTTPExceptions.pm line 41
Plack::Middleware::HTTPExceptions::__ANON__(CODE(0x7f8ef58b6508)) called at /Users/stas/perl5/perlbrew/perls/perl-5.19.11/lib/site_perl/5.19.11/Plack/Util.pm line 301
Plack::Util::__ANON__(CODE(0x7f8ef58b6400)) called at /Users/stas/perl5/perlbrew/perls/perl-5.19.11/lib/site_perl/5.19.11/Plack/Util.pm line 301
Plack::Util::__ANON__(CODE(0x7f8ef58b62f8)) called at /Users/stas/perl5/perlbrew/perls/perl-5.19.11/lib/site_perl/5.19.11/Plack/Util.pm line 301
Plack::Util::__ANON__(CODE(0x7f8ef58b6280)) called at /Users/stas/perl5/perlbrew/perls/perl-5.19.11/lib/site_perl/5.19.11/HTTP/Message/PSGI.pm line 100
HTTP::Message::PSGI::res_from_psgi(CODE(0x7f8ef58f98d8)) called at /Users/stas/perl5/perlbrew/perls/perl-5.19.11/lib/site_perl/5.19.11/HTTP/Message/PSGI.pm line 155
HTTP::Response::from_psgi("HTTP::Response", CODE(0x7f8ef58f98d8)) called at /Users/stas/perl5/perlbrew/perls/perl-5.19.11/lib/site_perl/5.19.11/Plack/Test/MockHTTP.pm line 24
Plack::Test::MockHTTP::try {...} () called at /Users/stas/perl5/perlbrew/perls/perl-5.19.11/lib/site_perl/5.19.11/Try/Tiny.pm line 79
eval {...} called at /Users/stas/perl5/perlbrew/perls/perl-5.19.11/lib/site_perl/5.19.11/Try/Tiny.pm line 72
Try::Tiny::try(CODE(0x7f8ef5857d38), Try::Tiny::Catch=REF(0x7f8ef586f5d0)) called at /Users/stas/perl5/perlbrew/perls/perl-5.19.11/lib/site_perl/5.19.11/Plack/Test/MockHTTP.pm line 27
Plack::Test::MockHTTP::request(Plack::Test::MockHTTP=HASH(0x7f8ef58ac7b8), HTTP::Request=HASH(0x7f8ef588fd20)) called at /Users/stas/perl5/perlbrew/perls/perl-5.19.11/lib/site_perl/5.19.11/Plack/Test.pm line 38
Plack::Test::__ANON__(HTTP::Request=HASH(0x7f8ef588fd20)) called at /Users/stas/perl5/perlbrew/perls/perl-5.19.11/lib/site_perl/5.19.11/Catalyst/Test.pm line 281
Catalyst::Test::__ANON__(CODE(0x7f8ef58ac620)) called at /Users/stas/perl5/perlbrew/perls/perl-5.19.11/lib/site_perl/5.19.11/Plack/Test.pm line 38
Plack::Test::test_psgi("mangle_response", CODE(0x7f8ef4c55bb8), "app", CODE(0x7f8ef5889aa8), "app", CODE(0x7f8ef5890200), "client", CODE(0x7f8ef58ac218)) called at /Users/stas/perl5/perlbrew/perls/perl-5.19.11/lib/site_perl/5.19.11/Catalyst/Test.pm line 284
Catalyst::Test::_request(HASH(0x7f8ef3795730), "/email?time=1398160524") called at /Users/stas/perl5/perlbrew/perls/perl-5.19.11/lib/site_perl/5.19.11/Catalyst/Test.pm line 327
Catalyst::Test::_local_request("TestApp", "/email?time=1398160524") called at /Users/stas/perl5/perlbrew/perls/perl-5.19.11/lib/site_perl/5.19.11/Catalyst/Test.pm line 32
Catalyst::Test::__ANON__("/email?time=1398160524") called at t/04basic.t line 14
t/04basic.t ..... ok
t/05template.t .. skipped: Test requires module 'Catalyst::View::TT' but it's not found
t/06config.t .... skipped: Test requires module 'Catalyst::View::TT' but it's not found
t/07mason.t ..... skipped: Test requires module 'Catalyst::View::Mason' but it's not found
All tests successful.
Files=6, Tests=6, 1 wallclock secs ( 0.03 usr 0.01 sys + 1.16 cusr 0.08 csys = 1.28 CPU)
Result: PASS
------------------------------
PREREQUISITES
------------------------------
Prerequisite modules loaded:
requires:
Module Need Have
--------------------- -------- --------
Authen::SASL 2.13 2.16
Catalyst 5.7 5.90062
Email::MIME 1.859 1.926
Email::MIME::Creator 1.455 1.926
Email::Sender::Simple 0.100110 1.300011
MIME::Base64 3.08 3.14
Moose 0.93 2.1205
parent 0.223 0.228
Test::More 0.88 1.001002
Test::Requires 0 0.07
build_requires:
Module Need Have
--------------------- -------- --------
ExtUtils::MakeMaker 6.36 6.94
Test::More 0 1.001002
Test::Requires 0 0.07
configure_requires:
Module Need Have
--------------------- -------- --------
ExtUtils::MakeMaker 6.36 6.94
------------------------------
ENVIRONMENT AND OTHER CONTEXT
------------------------------
Environment variables:
LANG = en_US.UTF-8
LC_ALL = en_US.UTF-8
LC_CTYPE = en_US.UTF-8
PATH = /Users/stas/perl5/perlbrew/bin:/Users/stas/perl5/perlbrew/perls/perl-5.19.11/bin:/Users/stas/.vim/bin:/Users/stas/bin:/Users/stas/node_modules/.bin:/opt/local/Library/Frameworks/Python.framework/Versions/2.7/bin:/opt/local/lib/postgresql92/bin:/opt/local/bin:/opt/local/sbin:/usr/bin:/bin:/usr/sbin:/sbin:/usr/local/bin:/opt/X11/bin:/Users/stas/.vim/bin:/Users/stas/bin:/Users/stas/node_modules/.bin:/opt/local/Library/Frameworks/Python.framework/Versions/2.7/bin:/opt/local/lib/postgresql92/bin:/opt/local/bin:/opt/local/sbin
PERL5LIB =
PERL5OPT =
PERL5_CPANPLUS_IS_RUNNING = 7646
PERL5_CPAN_IS_RUNNING = 7646
PERLBREW_BASHRC_VERSION = 0.67
PERLBREW_HOME = /Users/stas/.perlbrew
PERLBREW_MANPATH = /Users/stas/perl5/perlbrew/perls/perl-5.19.11/man
PERLBREW_PATH = /Users/stas/perl5/perlbrew/bin:/Users/stas/perl5/perlbrew/perls/perl-5.19.11/bin
PERLBREW_PERL = perl-5.19.11
PERLBREW_ROOT = /Users/stas/perl5/perlbrew
PERLBREW_VERSION = 0.67
PERL_MM_USE_DEFAULT = 1
SHELL = /opt/local/bin/zsh
TERM = screen
TMPDIR = /var/folders/k7/cj2hxbn162362g2150r7t9480000gn/T/
Perl special variables (and OS-specific diagnostics, for MSWin32):
$^X = /Users/stas/perl5/perlbrew/perls/perl-5.19.11/bin/perl5.19.11
$UID/$EUID = 501 / 501
$GID = 20 20 508 12 61 79 80 81 98 398 399 33 100 204
$EGID = 20 20 508 12 61 79 80 81 98 398 399 33 100 204
Perl module toolchain versions installed:
Module Have
------------------- --------
CPAN 2.05
CPAN::Meta 2.140640
Cwd 3.47
ExtUtils::CBuilder 0.280216
ExtUtils::Command 1.18
ExtUtils::Install 1.67
ExtUtils::MakeMaker 6.94
ExtUtils::Manifest 1.63
ExtUtils::ParseXS 3.24
File::Spec 3.47
JSON 2.90
JSON::PP 2.27203
Module::Build 0.4205
Module::Signature n/a
Parse::CPAN::Meta 1.4414
Test::Harness 3.30
Test::More 1.001002
YAML 0.90
YAML::Syck n/a
version 0.9908
--
Summary of my perl5 (revision 5 version 19 subversion 11) configuration:
Platform:
osname=darwin, osvers=13.1.0, archname=darwin-2level
uname='darwin stas-macbook.local 13.1.0 darwin kernel version 13.1.0: thu jan 16 19:40:37 pst 2014; root:xnu-2422.90.20~2release_x86_64 x86_64 '
config_args='-de -Dprefix=/Users/stas/perl5/perlbrew/perls/perl-5.19.11 -Dusedevel -Aeval:scriptdir=/Users/stas/perl5/perlbrew/perls/perl-5.19.11/bin'
hint=recommended, useposix=true, d_sigaction=define
useithreads=undef, usemultiplicity=undef
use64bitint=define, use64bitall=define, uselongdouble=undef
usemymalloc=n, bincompat5005=undef
Compiler:
cc='cc', ccflags ='-fno-common -DPERL_DARWIN -fno-strict-aliasing -pipe -fstack-protector -I/opt/local/include',
optimize='-O3',
cppflags='-fno-common -DPERL_DARWIN -fno-strict-aliasing -pipe -fstack-protector -I/opt/local/include'
ccversion='', gccversion='4.2.1 Compatible Apple LLVM 5.1 (clang-503.0.40)', gccosandvers=''
intsize=4, longsize=8, ptrsize=8, doublesize=8, byteorder=12345678
d_longlong=define, longlongsize=8, d_longdbl=define, longdblsize=16
ivtype='long', ivsize=8, nvtype='double', nvsize=8, Off_t='off_t', lseeksize=8
alignbytes=8, prototype=define
Linker and Libraries:
ld='env MACOSX_DEPLOYMENT_TARGET=10.3 cc', ldflags =' -fstack-protector -L/usr/local/lib -L/opt/local/lib'
libpth=/Applications/Xcode.app/Contents/Developer/Toolchains/XcodeDefault.xctoolchain/usr/bin/../lib/clang/5.1/lib /Applications/Xcode.app/Contents/Developer/Toolchains/XcodeDefault.xctoolchain/usr/lib /Applications/Xcode.app/Contents/Developer/Platforms/MacOSX.platform/Developer/SDKs/MacOSX10.9.sdk/usr/lib /usr/local/lib /opt/local/lib /usr/lib
libs=-lgdbm -ldbm -ldl -lm -lutil -lc
perllibs=-ldl -lm -lutil -lc
libc=, so=dylib, useshrplib=false, libperl=libperl.a
gnulibc_version=''
Dynamic Linking:
dlsrc=dl_dlopen.xs, dlext=bundle, d_dlsymun=undef, ccdlflags=' '
cccdlflags=' ', lddlflags=' -bundle -undefined dynamic_lookup -L/usr/local/lib -L/opt/local/lib -fstack-protector'
Characteristics of this binary (from libperl):
Compile-time options: HAS_TIMES PERLIO_LAYERS PERL_DONT_CREATE_GVSV
PERL_HASH_FUNC_ONE_AT_A_TIME_HARD PERL_MALLOC_WRAP
PERL_NEW_COPY_ON_WRITE PERL_PRESERVE_IVUV
PERL_USE_DEVEL USE_64_BIT_ALL USE_64_BIT_INT
USE_LARGE_FILES USE_LOCALE USE_LOCALE_COLLATE
USE_LOCALE_CTYPE USE_LOCALE_NUMERIC USE_PERLIO
USE_PERL_ATOF
Built under darwin
Compiled at Apr 20 2014 18:45:20
%ENV:
PERL5LIB=""
PERL5OPT=""
PERL5_CPANPLUS_IS_RUNNING="7646"
PERL5_CPAN_IS_RUNNING="7646"
PERLBREW_BASHRC_VERSION="0.67"
PERLBREW_HOME="/Users/stas/.perlbrew"
PERLBREW_MANPATH="/Users/stas/perl5/perlbrew/perls/perl-5.19.11/man"
PERLBREW_PATH="/Users/stas/perl5/perlbrew/bin:/Users/stas/perl5/perlbrew/perls/perl-5.19.11/bin"
PERLBREW_PERL="perl-5.19.11"
PERLBREW_ROOT="/Users/stas/perl5/perlbrew"
PERLBREW_VERSION="0.67"
PERL_MM_USE_DEFAULT="1"
@INC:
/Users/stas/perl5/perlbrew/perls/perl-5.19.11/lib/site_perl/5.19.11/darwin-2level
/Users/stas/perl5/perlbrew/perls/perl-5.19.11/lib/site_perl/5.19.11
/Users/stas/perl5/perlbrew/perls/perl-5.19.11/lib/5.19.11/darwin-2level
/Users/stas/perl5/perlbrew/perls/perl-5.19.11/lib/5.19.11
.