Report for MooseX-Types-Structured-0.35

Back
From: metabase:user:320bfe00-2aae-11df-837a-5e0a49663a4f
Subject: PASS MooseX-Types-Structured-0.35 v5.14.0 GNU/Linux
Date: 2017-03-26T00:07:41Z

This distribution has been tested as part of the CPAN Testers
project, supporting the Perl programming language.  See
http://wiki.cpantesters.org/ for more information or email
questions to cpan-testers-discuss@perl.org


--
Dear Karen Etheridge,

This is a computer-generated report for MooseX-Types-Structured-0.35
on perl 5.14.0, created by CPAN-Reporter-1.2018.

Thank you for uploading your work to CPAN.  Congratulations!
All tests were successful.

Sections of this report:

    * Tester comments
    * Program output
    * Prerequisites
    * Environment and other context

------------------------------
TESTER COMMENTS
------------------------------

Additional comments from tester:

this report is from an automated smoke testing program
and was not reviewed by a human for accuracy

------------------------------
PROGRAM OUTPUT
------------------------------

Output from '/usr/bin/make test':

PERL_DL_NONLAZY=1 "/home/sand/src/perl/repoperls/installed-perls/host/k93msid/v5.14.0/276a/bin/perl" "-MExtUtils::Command::MM" "-MTest::Harness" "-e" "undef *Test::Harness::Switches; test_harness(0, 'blib/lib', 'blib/arch')" t/*.t t/regressions/*.t
t/00-load.t .................... ok
# 
# Versions for all modules listed in MYMETA.json (including optional ones):
# 
# === Configure Requires ===
# 
#     Module               Want  Have
#     ------------------- ----- -----
#     Module::Build::Tiny 0.034 0.039
# 
# === Build Requires ===
# 
#     Module              Want Have
#     ------------------- ---- ----
#     ExtUtils::MakeMaker  any 7.24
# 
# === Test Requires ===
# 
#     Module                  Want     Have
#     ----------------------- ---- --------
#     Data::Dumper             any    2.161
#     DateTime                 any     1.42
#     ExtUtils::MakeMaker      any     7.24
#     File::Spec               any     3.62
#     MooseX::Types::DateTime  any     0.13
#     MooseX::Types::Moose     any     0.50
#     Test::Fatal              any    0.014
#     Test::More              0.88 1.302078
#     Test::Requires           any     0.10
#     strict                   any     1.04
#     warnings                 any     1.12
# 
# === Test Recommends ===
# 
#     Module         Want     Have
#     ---------- -------- --------
#     CPAN::Meta 2.120900 2.150010
# 
# === Runtime Requires ===
# 
#     Module                                          Want    Have
#     -------------------------------------------- ------- -------
#     Devel::PartialDump                              0.13    0.18
#     JSON::PP                                     2.27300 2.27400
#     Moose                                            any  2.2004
#     Moose::Meta::TypeCoercion                        any  2.2004
#     Moose::Meta::TypeConstraint                      any  2.2004
#     Moose::Meta::TypeConstraint::Parameterizable     any  2.2004
#     Moose::Util::TypeConstraints                    1.06  2.2004
#     MooseX::Types                                   0.22    0.50
#     Scalar::Util                                     any    1.47
#     Sub::Exporter                                  0.982   0.987
#     if                                               any  0.0601
#     namespace::clean                                0.19    0.27
#     overload                                         any    1.13
# 
t/00-report-prereqs.t .......... ok
t/01-basic.t ................... ok
t/02-tuple.t ................... ok
t/03-dict.t .................... ok
t/04-combined.t ................ ok
t/04-map.t ..................... ok
t/05-advanced.t ................ ok
t/06-api.t ..................... ok
t/07-coerce.t .................. ok
t/08-examples.t ................ ok
t/09-optional.t ................ ok
t/10-recursion.t ............... ok
t/11-overflow.t ................ ok
t/12-error.t ................... ok
t/13-deeper_error.t ............ ok
t/14-fully-qualified.t ......... ok
t/bug-incorrect-message.t ...... ok
t/bug-is-subtype.t ............. ok
t/bug-mixed-stringy.t .......... ok
t/bug-optional.t ............... ok
t/regressions/01-is_type_of.t .. ok
t/zzz-check-breaks.t ........... ok
All tests successful.
Files=23, Tests=361, 24 wallclock secs ( 0.08 usr  0.14 sys + 10.19 cusr  1.07 csys = 11.48 CPU)
Result: PASS

------------------------------
PREREQUISITES
------------------------------

Prerequisite modules loaded:

requires:

    Module                                       Need    Have    
    -------------------------------------------- ------- --------
    Devel::PartialDump                           0.13    0.18    
    if                                           0       0.0601  
    JSON::PP                                     2.27300 2.27400 
    Moose                                        0       2.2004  
    Moose::Meta::TypeCoercion                    0       2.2004  
    Moose::Meta::TypeConstraint                  0       2.2004  
    Moose::Meta::TypeConstraint::Parameterizable 0       2.2004  
    Moose::Util::TypeConstraints                 1.06    2.2004  
    MooseX::Types                                0.22    0.50    
    namespace::clean                             0.19    0.27    
    overload                                     0       1.13    
    perl                                         5.008   5.014000
    Scalar::Util                                 0       1.47    
    Sub::Exporter                                0.982   0.987   

build_requires:

    Module                                       Need    Have    
    -------------------------------------------- ------- --------
    Data::Dumper                                 0       2.161   
    DateTime                                     0       1.42    
    ExtUtils::MakeMaker                          0       7.24    
    File::Spec                                   0       3.62    
    MooseX::Types::DateTime                      0       0.13    
    MooseX::Types::Moose                         0       0.50    
    strict                                       0       1.04    
    Test::Fatal                                  0       0.014   
    Test::More                                   0.88    1.302078
    Test::Requires                               0       0.10    
    warnings                                     0       1.12    

configure_requires:

    Module                                       Need    Have    
    -------------------------------------------- ------- --------
    Module::Build::Tiny                          0.034   0.039   
    perl                                         5.008   5.014000


------------------------------
ENVIRONMENT AND OTHER CONTEXT
------------------------------

Environment variables:

    AUTOMATED_TESTING = 1
    LANG = en_US.UTF-8
    PATH = /home/sand/bin:/usr/local/bin:/usr/bin:/bin:/usr/games:/usr/local/perl/bin:/usr/X11/bin:/sbin:/usr/sbin
    PERL5LIB = 
    PERL5OPT = 
    PERL5_CPANPLUS_IS_RUNNING = 23858
    PERL5_CPAN_IS_RUNNING = 23858
    PERL_CANARY_STABILITY_NOPROMPT = 1
    PERL_MM_USE_DEFAULT = 1
    PERL_USE_UNSAFE_INC = 1
    SHELL = /usr/bin/zsh
    TERM = screen

Perl special variables (and OS-specific diagnostics, for MSWin32):

    $^X = /home/sand/src/perl/repoperls/installed-perls/host/k93msid/v5.14.0/276a/bin/perl
    $UID/$EUID = 1005 / 1005
    $GID = 1005 1005
    $EGID = 1005 1005

Perl module toolchain versions installed:

    Module              Have    
    ------------------- --------
    CPAN                2.17    
    CPAN::Meta          2.150010
    Cwd                 3.62    
    ExtUtils::CBuilder  0.280224
    ExtUtils::Command   7.24    
    ExtUtils::Install   1.56    
    ExtUtils::MakeMaker 7.24    
    ExtUtils::Manifest  1.70    
    ExtUtils::ParseXS   3.30    
    File::Spec          3.62    
    JSON                2.90    
    JSON::PP            2.27400 
    Module::Build       0.42_21 
    Module::Signature   0.81    
    Parse::CPAN::Meta   2.150010
    Test::Harness       3.38    
    Test::More          1.302078
    YAML                1.23    
    YAML::Syck          1.29    
    version             0.9917  


--

Summary of my perl5 (revision 5 version 14 subversion 0) configuration:
  Derived from: a35ef416833511da752c4b5b836b7a8915712aab
  Platform:
    osname=linux, osvers=4.9.0-2-amd64, archname=x86_64-linux-thread-multi
    uname='linux k93msid 4.9.0-2-amd64 #1 smp debian 4.9.13-1 (2017-02-27) x86_64 gnulinux '
    config_args='-Dprefix=/home/sand/src/perl/repoperls/installed-perls/host/k93msid/v5.14.0/276a -Dmyhostname=k93msid -Dinstallusrbinperl=n -Uversiononly -Dusedevel -des -Ui_db -Dlibswanted=cl pthread socket inet nsl gdbm dbm malloc dl ld sun m crypt sec util c cposix posix ucb BSD gdbm_compat -Duseithreads -Uuselongdouble -DDEBUGGING=both'
    hint=recommended, useposix=true, d_sigaction=define
    useithreads=define, usemultiplicity=define
    useperlio=define, d_sfio=undef, uselargefiles=define, usesocks=undef
    use64bitint=define, use64bitall=define, uselongdouble=undef
    usemymalloc=n, bincompat5005=undef
  Compiler:
    cc='cc', ccflags ='-D_REENTRANT -D_GNU_SOURCE -DDEBUGGING -fno-strict-aliasing -pipe -fstack-protector -I/usr/local/include -D_LARGEFILE_SOURCE -D_FILE_OFFSET_BITS=64',
    optimize='-O2 -g',
    cppflags='-D_REENTRANT -D_GNU_SOURCE -DDEBUGGING -fno-strict-aliasing -pipe -fstack-protector -I/usr/local/include'
    ccversion='', gccversion='6.3.0 20170316', gccosandvers=''
    intsize=4, longsize=8, ptrsize=8, doublesize=8, byteorder=12345678
    d_longlong=define, longlongsize=8, d_longdbl=define, longdblsize=16
    ivtype='long', ivsize=8, nvtype='double', nvsize=8, Off_t='off_t', lseeksize=8
    alignbytes=8, prototype=define
  Linker and Libraries:
    ld='cc', ldflags =' -fstack-protector -L/usr/local/lib'
    libpth=/usr/local/lib /lib/x86_64-linux-gnu /lib/../lib /usr/lib/x86_64-linux-gnu /usr/lib/../lib /lib /usr/lib
    libs=-lpthread -lnsl -ldl -lm -lcrypt -lutil -lc
    perllibs=-lpthread -lnsl -ldl -lm -lcrypt -lutil -lc
    libc=libc-2.24.so, so=so, useshrplib=false, libperl=libperl.a
    gnulibc_version='2.24'
  Dynamic Linking:
    dlsrc=dl_dlopen.xs, dlext=so, d_dlsymun=undef, ccdlflags='-Wl,-E'
    cccdlflags='-fPIC', lddlflags='-shared -O2 -g -L/usr/local/lib -fstack-protector'


Characteristics of this binary (from libperl): 
  Compile-time options: DEBUGGING MULTIPLICITY PERL_DONT_CREATE_GVSV
                        PERL_IMPLICIT_CONTEXT PERL_MALLOC_WRAP
                        PERL_PRESERVE_IVUV PERL_TRACK_MEMPOOL PERL_USE_DEVEL
                        USE_64_BIT_ALL USE_64_BIT_INT USE_ITHREADS
                        USE_LARGE_FILES USE_PERLIO USE_PERL_ATOF
                        USE_REENTRANT_API
  Locally applied patches:
	uncommitted-changes
  Built under linux
  Compiled at Mar 19 2017 20:02:45
  %ENV:
    PERL5LIB=""
    PERL5OPT=""
    PERL5_CPANPLUS_IS_RUNNING="23858"
    PERL5_CPAN_IS_RUNNING="23858"
    PERL_CANARY_STABILITY_NOPROMPT="1"
    PERL_MM_USE_DEFAULT="1"
    PERL_USE_UNSAFE_INC="1"
  @INC:
    /home/sand/src/perl/repoperls/installed-perls/host/k93msid/v5.14.0/276a/lib/site_perl/5.14.0/x86_64-linux-thread-multi
    /home/sand/src/perl/repoperls/installed-perls/host/k93msid/v5.14.0/276a/lib/site_perl/5.14.0
    /home/sand/src/perl/repoperls/installed-perls/host/k93msid/v5.14.0/276a/lib/5.14.0/x86_64-linux-thread-multi
    /home/sand/src/perl/repoperls/installed-perls/host/k93msid/v5.14.0/276a/lib/5.14.0
    .