Google-AJAX-Library v0.022 Perl 5 v5.24.1 x86_64-linux

Status
Pass
From
Slaven Rezić (SREZIC)
Dist
Google-AJAX-Library v0.022
Platform
Perl 5 v5.24.1 x86_64-linux
Date
2018-02-25 19:01:04
ID
3a74a422-1a5e-11e8-aabd-b86585a3d5c4
This distribution has been tested as part of the CPAN Testers
project, supporting the Perl programming language.  See
http://wiki.cpantesters.org/ for more information or email
questions to cpan-testers-discuss@perl.org


--
Dear Robert Krimen,

This is a computer-generated report for Google-AJAX-Library-0.022
on perl 5.24.1, created by CPAN-Reporter-1.2018.

Thank you for uploading your work to CPAN.  Congratulations!
All tests were successful.

Sections of this report:

    * Tester comments
    * Program output
    * Prerequisites
    * Environment and other context

------------------------------
TESTER COMMENTS
------------------------------

Additional comments from tester:

none provided

------------------------------
PROGRAM OUTPUT
------------------------------

Output from 'make test':

PERL_DL_NONLAZY=1 "/opt/perl-5.24.1/bin/perl" "-MExtUtils::Command::MM" "-MTest::Harness" "-e" "undef *Test::Harness::Switches; test_harness(0, 'blib/lib', 'blib/arch')" t/*.t
You are overwriting a locally defined function (file) with an accessor at /opt/perl-5.24.1/lib/site_perl/5.24.1/x86_64-linux/Moose/Meta/Attribute.pm line 1113.
	Moose::Meta::Attribute::_process_accessors(Moose::Meta::Attribute=HASH(0x3b12c18), "reader", "file", undef) called at /opt/perl-5.24.1/lib/site_perl/5.24.1/x86_64-linux/Class/MOP/Attribute.pm line 450
	Class::MOP::Attribute::install_accessors(Moose::Meta::Attribute=HASH(0x3b12c18)) called at /opt/perl-5.24.1/lib/site_perl/5.24.1/x86_64-linux/Moose/Meta/Attribute.pm line 1016
	Moose::Meta::Attribute::install_accessors(Moose::Meta::Attribute=HASH(0x3b12c18)) called at /opt/perl-5.24.1/lib/site_perl/5.24.1/x86_64-linux/Class/MOP/Class.pm line 899
	Class::MOP::Class::try {...} () called at /opt/perl-5.24.1/lib/site_perl/5.24.1/Try/Tiny.pm line 102
	eval {...} called at /opt/perl-5.24.1/lib/site_perl/5.24.1/Try/Tiny.pm line 93
	Try::Tiny::try(CODE(0x3b124f8), Try::Tiny::Catch=REF(0x3b126f0)) called at /opt/perl-5.24.1/lib/site_perl/5.24.1/x86_64-linux/Class/MOP/Class.pm line 904
	Class::MOP::Class::_post_add_attribute(Moose::Meta::Class=HASH(0x3301b00), Moose::Meta::Attribute=HASH(0x3b12c18)) called at /opt/perl-5.24.1/lib/site_perl/5.24.1/x86_64-linux/Class/MOP/Mixin/HasAttributes.pm line 39
	Class::MOP::Mixin::HasAttributes::add_attribute(Moose::Meta::Class=HASH(0x3301b00), Moose::Meta::Attribute=HASH(0x3b12c18)) called at /opt/perl-5.24.1/lib/site_perl/5.24.1/x86_64-linux/Moose/Meta/Class.pm line 585
	Moose::Meta::Class::add_attribute(Moose::Meta::Class=HASH(0x3301b00), "file", "definition_context", HASH(0x27905d8), "is", "ro") called at /opt/perl-5.24.1/lib/site_perl/5.24.1/x86_64-linux/Moose.pm line 74
	Moose::has(Moose::Meta::Class=HASH(0x3301b00), "file", "is", "ro") called at /opt/perl-5.24.1/lib/site_perl/5.24.1/x86_64-linux/Moose/Exporter.pm line 419
	Moose::has("file", "is", "ro") called at /home/cpansand/.cpan/build/2018022518/Google-AJAX-Library-0.022-0/blib/lib/Google/AJAX/Library.pm line 32
	require Google/AJAX/Library.pm called at t/01-basic.t line 5
	main::BEGIN() called at /home/cpansand/.cpan/build/2018022518/Google-AJAX-Library-0.022-0/blib/lib/Google/AJAX/Library.pm line 0
	eval {...} called at /home/cpansand/.cpan/build/2018022518/Google-AJAX-Library-0.022-0/blib/lib/Google/AJAX/Library.pm line 0
t/01-basic.t .... ok
You are overwriting a locally defined function (file) with an accessor at /opt/perl-5.24.1/lib/site_perl/5.24.1/x86_64-linux/Moose/Meta/Attribute.pm line 1113.
	Moose::Meta::Attribute::_process_accessors(Moose::Meta::Attribute=HASH(0x27b0ab0), "reader", "file", undef) called at /opt/perl-5.24.1/lib/site_perl/5.24.1/x86_64-linux/Class/MOP/Attribute.pm line 450
	Class::MOP::Attribute::install_accessors(Moose::Meta::Attribute=HASH(0x27b0ab0)) called at /opt/perl-5.24.1/lib/site_perl/5.24.1/x86_64-linux/Moose/Meta/Attribute.pm line 1016
	Moose::Meta::Attribute::install_accessors(Moose::Meta::Attribute=HASH(0x27b0ab0)) called at /opt/perl-5.24.1/lib/site_perl/5.24.1/x86_64-linux/Class/MOP/Class.pm line 899
	Class::MOP::Class::try {...} () called at /opt/perl-5.24.1/lib/site_perl/5.24.1/Try/Tiny.pm line 102
	eval {...} called at /opt/perl-5.24.1/lib/site_perl/5.24.1/Try/Tiny.pm line 93
	Try::Tiny::try(CODE(0x27b0318), Try::Tiny::Catch=REF(0x27b0528)) called at /opt/perl-5.24.1/lib/site_perl/5.24.1/x86_64-linux/Class/MOP/Class.pm line 904
	Class::MOP::Class::_post_add_attribute(Moose::Meta::Class=HASH(0x1f9ffc8), Moose::Meta::Attribute=HASH(0x27b0ab0)) called at /opt/perl-5.24.1/lib/site_perl/5.24.1/x86_64-linux/Class/MOP/Mixin/HasAttributes.pm line 39
	Class::MOP::Mixin::HasAttributes::add_attribute(Moose::Meta::Class=HASH(0x1f9ffc8), Moose::Meta::Attribute=HASH(0x27b0ab0)) called at /opt/perl-5.24.1/lib/site_perl/5.24.1/x86_64-linux/Moose/Meta/Class.pm line 585
	Moose::Meta::Class::add_attribute(Moose::Meta::Class=HASH(0x1f9ffc8), "file", "definition_context", HASH(0x142e818), "is", "ro") called at /opt/perl-5.24.1/lib/site_perl/5.24.1/x86_64-linux/Moose.pm line 74
	Moose::has(Moose::Meta::Class=HASH(0x1f9ffc8), "file", "is", "ro") called at /opt/perl-5.24.1/lib/site_perl/5.24.1/x86_64-linux/Moose/Exporter.pm line 419
	Moose::has("file", "is", "ro") called at /home/cpansand/.cpan/build/2018022518/Google-AJAX-Library-0.022-0/blib/lib/Google/AJAX/Library.pm line 32
	require Google/AJAX/Library.pm called at t/02-library.t line 5
	main::BEGIN() called at /home/cpansand/.cpan/build/2018022518/Google-AJAX-Library-0.022-0/blib/lib/Google/AJAX/Library.pm line 0
	eval {...} called at /home/cpansand/.cpan/build/2018022518/Google-AJAX-Library-0.022-0/blib/lib/Google/AJAX/Library.pm line 0
t/02-library.t .. ok
You are overwriting a locally defined function (file) with an accessor at /opt/perl-5.24.1/lib/site_perl/5.24.1/x86_64-linux/Moose/Meta/Attribute.pm line 1113.
	Moose::Meta::Attribute::_process_accessors(Moose::Meta::Attribute=HASH(0x3ef8af0), "reader", "file", undef) called at /opt/perl-5.24.1/lib/site_perl/5.24.1/x86_64-linux/Class/MOP/Attribute.pm line 450
	Class::MOP::Attribute::install_accessors(Moose::Meta::Attribute=HASH(0x3ef8af0)) called at /opt/perl-5.24.1/lib/site_perl/5.24.1/x86_64-linux/Moose/Meta/Attribute.pm line 1016
	Moose::Meta::Attribute::install_accessors(Moose::Meta::Attribute=HASH(0x3ef8af0)) called at /opt/perl-5.24.1/lib/site_perl/5.24.1/x86_64-linux/Class/MOP/Class.pm line 899
	Class::MOP::Class::try {...} () called at /opt/perl-5.24.1/lib/site_perl/5.24.1/Try/Tiny.pm line 102
	eval {...} called at /opt/perl-5.24.1/lib/site_perl/5.24.1/Try/Tiny.pm line 93
	Try::Tiny::try(CODE(0x3ef82c8), Try::Tiny::Catch=REF(0x3ef84c0)) called at /opt/perl-5.24.1/lib/site_perl/5.24.1/x86_64-linux/Class/MOP/Class.pm line 904
	Class::MOP::Class::_post_add_attribute(Moose::Meta::Class=HASH(0x36e7c20), Moose::Meta::Attribute=HASH(0x3ef8af0)) called at /opt/perl-5.24.1/lib/site_perl/5.24.1/x86_64-linux/Class/MOP/Mixin/HasAttributes.pm line 39
	Class::MOP::Mixin::HasAttributes::add_attribute(Moose::Meta::Class=HASH(0x36e7c20), Moose::Meta::Attribute=HASH(0x3ef8af0)) called at /opt/perl-5.24.1/lib/site_perl/5.24.1/x86_64-linux/Moose/Meta/Class.pm line 585
	Moose::Meta::Class::add_attribute(Moose::Meta::Class=HASH(0x36e7c20), "file", "definition_context", HASH(0x2b76260), "is", "ro") called at /opt/perl-5.24.1/lib/site_perl/5.24.1/x86_64-linux/Moose.pm line 74
	Moose::has(Moose::Meta::Class=HASH(0x36e7c20), "file", "is", "ro") called at /opt/perl-5.24.1/lib/site_perl/5.24.1/x86_64-linux/Moose/Exporter.pm line 419
	Moose::has("file", "is", "ro") called at /home/cpansand/.cpan/build/2018022518/Google-AJAX-Library-0.022-0/blib/lib/Google/AJAX/Library.pm line 32
	require Google/AJAX/Library.pm called at t/03-fetch.t line 5
	main::BEGIN() called at /home/cpansand/.cpan/build/2018022518/Google-AJAX-Library-0.022-0/blib/lib/Google/AJAX/Library.pm line 0
	eval {...} called at /home/cpansand/.cpan/build/2018022518/Google-AJAX-Library-0.022-0/blib/lib/Google/AJAX/Library.pm line 0
t/03-fetch.t .... skipped: Not going out to http://ajax.googleapis.com to test fetching/writing
All tests successful.
Files=3, Tests=61,  1 wallclock secs ( 0.01 usr  0.02 sys +  0.50 cusr  0.09 csys =  0.62 CPU)
Result: PASS

------------------------------
PREREQUISITES
------------------------------

Prerequisite modules loaded:

requires:

    Module              Need Have  
    ------------------- ---- ------
    Carp::Clan::Share   0    0.013 
    HTML::Declare       0    2.6   
    LWP::UserAgent      0    6.32  
    Moose               0    2.2006
    Path::Class         0    0.37  
    URI                 0    1.73  

build_requires:

    Module              Need Have  
    ------------------- ---- ------
    File::Temp          0    0.2304
    Test::Most          0    0.35  

configure_requires:

    Module              Need Have  
    ------------------- ---- ------
    ExtUtils::MakeMaker 6.31 7.30  


------------------------------
ENVIRONMENT AND OTHER CONTEXT
------------------------------

Environment variables:

    LANG = en_US.UTF-8
    PATH = /usr/local/bin:/usr/bin:/bin:/usr/local/sbin:/usr/sbin:/sbin:/home/cpansand/bin/linux-gnu:/home/cpansand/bin/sh:/home/cpansand/bin:/usr/games:/home/cpansand/devel:/home/eserte/src/srezic-misc/scripts
    PERL5LIB = /home/cpansand/.cpan/build/2018022518/HTML-Declare-2.6-0/blib/arch:/home/cpansand/.cpan/build/2018022518/HTML-Declare-2.6-0/blib/lib:/home/cpansand/.cpan/build/2018022518/LWP-UserAgent-ProgressBar-1.100810-0/blib/arch:/home/cpansand/.cpan/build/2018022518/LWP-UserAgent-ProgressBar-1.100810-0/blib/lib:/home/cpansand/.cpan/build/2018022518/Test-Varnish-0.03-0/blib/arch:/home/cpansand/.cpan/build/2018022518/Test-Varnish-0.03-0/blib/lib
    PERL5OPT = 
    PERL5_CPANPLUS_IS_RUNNING = 12996
    PERL5_CPAN_IS_RUNNING = 12996
    PERL5_CPAN_IS_RUNNING_IN_RECURSION = 10259,12996
    PERLDOC = -MPod::Perldoc::ToTextOverstrike
    PERL_BATCH = yes
    PERL_CANARY_STABILITY_NOPROMPT = 1
    PERL_CPAN_REPORTER_CONFIG = /var/tmp/cpansmoker-1023/2018022509/cpanreporter_000_config.ini
    PERL_EXTUTILS_AUTOINSTALL = --defaultdeps
    SHELL = /bin/zsh
    TERM = screen
    TMPDIR = /var/tmp/cpansmoker-1023/2018022509

Perl special variables (and OS-specific diagnostics, for MSWin32):

    $^X = /opt/perl-5.24.1/bin/perl
    $UID/$EUID = 1023 / 1023
    $GID = 1023 1023
    $EGID = 1023 1023

Perl module toolchain versions installed:

    Module              Have    
    ------------------- --------
    CPAN                2.16    
    CPAN::Meta          2.150010
    Cwd                 3.63_01 
    ExtUtils::CBuilder  0.280230
    ExtUtils::Command   7.30    
    ExtUtils::Install   2.06    
    ExtUtils::MakeMaker 7.30    
    ExtUtils::Manifest  1.70    
    ExtUtils::ParseXS   3.31    
    File::Spec          3.63_01 
    JSON                2.97001 
    JSON::PP            2.97001 
    Module::Build       0.4224  
    Module::Signature   0.81    
    Parse::CPAN::Meta   2.150010
    Test::Harness       3.39    
    Test::More          1.302121
    YAML                1.24    
    YAML::Syck          1.30    
    version             0.9916  


--

Summary of my perl5 (revision 5 version 24 subversion 1) configuration:
   
  Platform:
    osname=linux, osvers=2.6.32-696.3.1.el6.x86_64, archname=x86_64-linux
    uname='linux centos6 2.6.32-696.3.1.el6.x86_64 #1 smp tue may 30 19:52:55 utc 2017 x86_64 x86_64 x86_64 gnulinux '
    config_args='-ds -e -Dprefix=/opt/perl-5.24.1 -Dcf_email=srezic@cpan.org'
    hint=recommended, useposix=true, d_sigaction=define
    useithreads=undef, usemultiplicity=undef
    use64bitint=define, use64bitall=define, uselongdouble=undef
    usemymalloc=n, bincompat5005=undef
  Compiler:
    cc='cc', ccflags ='-fwrapv -fno-strict-aliasing -pipe -fstack-protector -I/usr/local/include -D_LARGEFILE_SOURCE -D_FILE_OFFSET_BITS=64 -D_FORTIFY_SOURCE=2',
    optimize='-O2',
    cppflags='-fwrapv -fno-strict-aliasing -pipe -fstack-protector -I/usr/local/include'
    ccversion='', gccversion='4.4.7 20120313 (Red Hat 4.4.7-18)', gccosandvers=''
    intsize=4, longsize=8, ptrsize=8, doublesize=8, byteorder=12345678, doublekind=3
    d_longlong=define, longlongsize=8, d_longdbl=define, longdblsize=16, longdblkind=3
    ivtype='long', ivsize=8, nvtype='double', nvsize=8, Off_t='off_t', lseeksize=8
    alignbytes=8, prototype=define
  Linker and Libraries:
    ld='cc', ldflags =' -fstack-protector -L/usr/local/lib'
    libpth=/usr/local/lib /usr/lib /lib/../lib64 /usr/lib/../lib64 /lib /lib64 /usr/lib64 /usr/local/lib64
    libs=-lpthread -lnsl -lgdbm -ldb -ldl -lm -lcrypt -lutil -lc
    perllibs=-lpthread -lnsl -ldl -lm -lcrypt -lutil -lc
    libc=libc-2.12.so, so=so, useshrplib=false, libperl=libperl.a
    gnulibc_version='2.12'
  Dynamic Linking:
    dlsrc=dl_dlopen.xs, dlext=so, d_dlsymun=undef, ccdlflags='-Wl,-E'
    cccdlflags='-fPIC', lddlflags='-shared -O2 -L/usr/local/lib -fstack-protector'


Characteristics of this binary (from libperl): 
  Compile-time options: HAS_TIMES PERLIO_LAYERS PERL_COPY_ON_WRITE
                        PERL_DONT_CREATE_GVSV
                        PERL_HASH_FUNC_ONE_AT_A_TIME_HARD PERL_MALLOC_WRAP
                        PERL_PRESERVE_IVUV USE_64_BIT_ALL USE_64_BIT_INT
                        USE_LARGE_FILES USE_LOCALE USE_LOCALE_COLLATE
                        USE_LOCALE_CTYPE USE_LOCALE_NUMERIC USE_LOCALE_TIME
                        USE_PERLIO USE_PERL_ATOF
  Built under linux
  Compiled at Jun 20 2017 18:09:14
  %ENV:
    PERL5LIB="/home/cpansand/.cpan/build/2018022518/HTML-Declare-2.6-0/blib/arch:/home/cpansand/.cpan/build/2018022518/HTML-Declare-2.6-0/blib/lib:/home/cpansand/.cpan/build/2018022518/LWP-UserAgent-ProgressBar-1.100810-0/blib/arch:/home/cpansand/.cpan/build/2018022518/LWP-UserAgent-ProgressBar-1.100810-0/blib/lib:/home/cpansand/.cpan/build/2018022518/Test-Varnish-0.03-0/blib/arch:/home/cpansand/.cpan/build/2018022518/Test-Varnish-0.03-0/blib/lib"
    PERL5OPT=""
    PERL5_CPANPLUS_IS_RUNNING="12996"
    PERL5_CPAN_IS_RUNNING="12996"
    PERL5_CPAN_IS_RUNNING_IN_RECURSION="10259,12996"
    PERLDOC="-MPod::Perldoc::ToTextOverstrike"
    PERL_BATCH="yes"
    PERL_CANARY_STABILITY_NOPROMPT="1"
    PERL_CPAN_REPORTER_CONFIG="/var/tmp/cpansmoker-1023/2018022509/cpanreporter_000_config.ini"
    PERL_EXTUTILS_AUTOINSTALL="--defaultdeps"
  @INC:
    /home/cpansand/.cpan/build/2018022518/HTML-Declare-2.6-0/blib/arch
    /home/cpansand/.cpan/build/2018022518/HTML-Declare-2.6-0/blib/lib
    /home/cpansand/.cpan/build/2018022518/LWP-UserAgent-ProgressBar-1.100810-0/blib/arch
    /home/cpansand/.cpan/build/2018022518/LWP-UserAgent-ProgressBar-1.100810-0/blib/lib
    /home/cpansand/.cpan/build/2018022518/Test-Varnish-0.03-0/blib/arch
    /home/cpansand/.cpan/build/2018022518/Test-Varnish-0.03-0/blib/lib
    /opt/perl-5.24.1/lib/site_perl/5.24.1/x86_64-linux
    /opt/perl-5.24.1/lib/site_perl/5.24.1
    /opt/perl-5.24.1/lib/5.24.1/x86_64-linux
    /opt/perl-5.24.1/lib/5.24.1
    .