Back
From: metabase:user:30f4dfbe-2aae-11df-837a-5e0a49663a4f
Subject: PASS Text-VimColor-0.27 v5.22.3 GNU/Linux
Date: 2017-08-07T02:50:53Z
This distribution has been tested as part of the CPAN Testers
project, supporting the Perl programming language. See
http://wiki.cpantesters.org/ for more information or email
questions to cpan-testers-discuss@perl.org
--
Dear Randy Stauner,
This is a computer-generated report for Text-VimColor-0.27
on perl 5.22.3, created by CPAN-Reporter-1.2018.
Thank you for uploading your work to CPAN. Congratulations!
All tests were successful.
Sections of this report:
* Tester comments
* Program output
* Prerequisites
* Environment and other context
------------------------------
TESTER COMMENTS
------------------------------
Additional comments from tester:
this report is from an automated smoke testing program
and was not reviewed by a human for accuracy
------------------------------
PROGRAM OUTPUT
------------------------------
Output from '/usr/bin/make test':
Skip blib/lib/auto/share/dist/Text-VimColor/mark.vim (unchanged)
Skip blib/lib/auto/share/dist/Text-VimColor/define_all.vim (unchanged)
Skip blib/lib/auto/share/dist/Text-VimColor/light.css (unchanged)
Skip blib/lib/auto/share/dist/Text-VimColor/light.xsl (unchanged)
PERL_DL_NONLAZY=1 "/home/njh/perl5/perlbrew/perls/perl-5.22.3/bin/perl" "-MExtUtils::Command::MM" "-MTest::Harness" "-e" "undef *Test::Harness::Switches; test_harness(0, 'blib/lib', 'blib/arch')" t/*.t
# vim --version
#
# VIM - Vi IMproved 8.0 (2016 Sep 12, compiled Jul 22 2017 07:10:23)
# Included patches: 1-197, 322, 377-378, 550, 703, 706-707
# Modified by pkg-vim-maintainers@lists.alioth.debian.org
# Compiled by pkg-vim-maintainers@lists.alioth.debian.org
# Huge version with GTK2 GUI. Features included (+) or not (-):
# +acl +file_in_path +mouse_sgr +tag_old_static
# +arabic +find_in_path -mouse_sysmouse -tag_any_white
# +autocmd +float +mouse_urxvt +tcl
# +balloon_eval +folding +mouse_xterm +termguicolors
# +browse -footer +multi_byte +terminfo
# ++builtin_terms +fork() +multi_lang +termresponse
# +byte_offset +gettext -mzscheme +textobjects
# +channel -hangul_input +netbeans_intg +timers
# +cindent +iconv +num64 +title
# +clientserver +insert_expand +packages +toolbar
# +clipboard +job +path_extra +user_commands
# +cmdline_compl +jumplist +perl +vertsplit
# +cmdline_hist +keymap +persistent_undo +virtualedit
# +cmdline_info +lambda +postscript +visual
# +comments +langmap +printer +visualextra
# +conceal +libcall +profile +viminfo
# +cryptv +linebreak -python +vreplace
# +cscope +lispindent +python3 +wildignore
# +cursorbind +listcmds +quickfix +wildmenu
# +cursorshape +localmap +reltime +windows
# +dialog_con_gui +lua +rightleft +writebackup
# +diff +menu +ruby +X11
# +digraphs +mksession +scrollbind -xfontset
# +dnd +modify_fname +signs +xim
# -ebcdic +mouse +smartindent +xpm
# +emacs_tags +mouseshape +startuptime +xsmp_interact
# +eval +mouse_dec +statusline +xterm_clipboard
# +ex_extra +mouse_gpm -sun_workshop -xterm_save
# +extra_search -mouse_jsbterm +syntax
# +farsi +mouse_netterm +tag_binary
# system vimrc file: "$VIM/vimrc"
# user vimrc file: "$HOME/.vimrc"
# 2nd user vimrc file: "~/.vim/vimrc"
# user exrc file: "$HOME/.exrc"
# system gvimrc file: "$VIM/gvimrc"
# user gvimrc file: "$HOME/.gvimrc"
# 2nd user gvimrc file: "~/.vim/gvimrc"
# defaults file: "$VIMRUNTIME/defaults.vim"
# system menu file: "$VIMRUNTIME/menu.vim"
# fall-back for $VIM: "/usr/share/vim"
# Compilation: gcc -c -I. -Iproto -DHAVE_CONFIG_H -DFEAT_GUI_GTK -pthread -I/usr/include/gtk-2.0 -I/usr/lib/x86_64-linux-gnu/gtk-2.0/include -I/usr/include/gio-unix-2.0/ -I/usr/include/cairo -I/usr/include/pango-1.0 -I/usr/include/atk-1.0 -I/usr/include/cairo -I/usr/include/pixman-1 -I/usr/include/libpng16 -I/usr/include/gdk-pixbuf-2.0 -I/usr/include/libpng16 -I/usr/include/pango-1.0 -I/usr/include/harfbuzz -I/usr/include/pango-1.0 -I/usr/include/glib-2.0 -I/usr/lib/x86_64-linux-gnu/glib-2.0/include -I/usr/include/freetype2 -Wdate-time -g -O2 -fdebug-prefix-map=/build/vim-wLNUZZ/vim-8.0.0197=. -fstack-protector-strong -Wformat -Werror=format-security -U_FORTIFY_SOURCE -D_FORTIFY_SOURCE=1
# Linking: gcc -L. -Wl,-z,relro -Wl,-z,now -fstack-protector -rdynamic -Wl,-export-dynamic -Wl,-E -Wl,-z,relro -Wl,-z,now -Wl,--as-needed -o vim -lgtk-x11-2.0 -lgdk-x11-2.0 -lpangocairo-1.0 -latk-1.0 -lcairo -lgdk_pixbuf-2.0 -lgio-2.0 -lpangoft2-1.0 -lpango-1.0 -lgobject-2.0 -lglib-2.0 -lfontconfig -lfreetype -lSM -lICE -lXpm -lXt -lX11 -lXdmcp -lSM -lICE -lm -ltinfo -lnsl -lselinux -lacl -lattr -lgpm -ldl -L/usr/lib -llua5.2 -Wl,-E -fstack-protector-strong -L/usr/local/lib -L/usr/lib/x86_64-linux-gnu/perl/5.26/CORE -lperl -ldl -lm -lpthread -lcrypt -L/usr/lib/python3.5/config-3.5m-x86_64-linux-gnu -lpython3.5m -lpthread -ldl -lutil -lm -L/usr/lib/x86_64-linux-gnu -ltcl8.6 -ldl -lz -lpthread -lieee -lm -lruby-2.3 -lpthread -lgmp -ldl -lcrypt -lm
#
t/000-vim-version.t .... ok
#
# Versions for all modules listed in MYMETA.json (including optional ones):
#
# === Configure Requires ===
#
# Module Want Have
# ----------------------- ---- ------
# ExtUtils::MakeMaker any 7.30
# File::ShareDir::Install 0.06 0.11
# File::Temp any 0.2304
# IO::File any 1.16
# IPC::Open3 any 1.18
# strict any 1.09
# warnings any 1.34
#
# === Build Requires ===
#
# Module Want Have
# ------------------- ---- ----
# ExtUtils::MakeMaker any 7.30
#
# === Test Requires ===
#
# Module Want Have
# -------------------------- ---- --------
# Exporter any 5.72
# ExtUtils::MakeMaker any 7.30
# File::Spec any 3.56_02
# File::Temp any 0.2304
# IO::Handle any 1.35
# IPC::Open3 any 1.18
# Path::Class 0.04 0.37
# Test::File::ShareDir::Dist any 1.001002
# Test::More 0.88 1.302086
# blib 1.01 1.06
# lib any 0.63
#
# === Test Recommends ===
#
# Module Want Have
# ---------- -------- --------
# CPAN::Meta 2.120900 2.150001
#
# === Runtime Requires ===
#
# Module Want Have
# --------------- ---- ------
# Carp any 1.36
# File::Copy any 2.30
# File::ShareDir any 1.104
# File::Temp any 0.2304
# Getopt::Long any 2.45
# IO::File any 1.16
# IPC::Open3 any 1.18
# Path::Class 0.04 0.37
# Symbol any 1.07
# Term::ANSIColor 1.03 4.03
# constant any 1.33
# strict any 1.09
# warnings any 1.34
#
# === Runtime Recommends ===
#
# Module Want Have
# --------------- ---- ----
# Term::ANSIColor 3 4.03
#
t/00-report-prereqs.t .. ok
t/00-compile.t ......... ok
t/all-syntax-groups.t .. ok
t/ansi.t ............... ok
t/bin.t ................ ok
Wide character in print at /home/njh/perl5/perlbrew/perls/perl-5.22.3/lib/site_perl/5.22.3/Test2/Formatter/TAP.pm line 113.
t/compare-formats.t .... ok
t/new.t ................ ok
t/encoding.t ........... ok
t/share-dir.t .......... ok
t/input_filename.t ..... ok
t/tvctestsyn.t ......... ok
t/untie-std-handles.t .. ok
t/override-options.t ... ok
t/html.t ............... ok
t/vim_options.t ........ ok
t/xml.t ................ skipped: XML::Parser module required for these tests.
t/vim_let.t ............ ok
All tests successful.
Files=18, Tests=131, 2 wallclock secs ( 0.08 usr 0.01 sys + 3.39 cusr 0.58 csys = 4.06 CPU)
Result: PASS
------------------------------
PREREQUISITES
------------------------------
Prerequisite modules loaded:
requires:
Module Need Have
-------------------------- ----- --------
Carp 0 1.36
constant 0 1.33
File::Copy 0 2.30
File::ShareDir 0 1.104
File::Temp 0 0.2304
Getopt::Long 0 2.45
IO::File 0 1.16
IPC::Open3 0 1.18
Path::Class 0.04 0.37
perl 5.006 5.022003
strict 0 1.09
Symbol 0 1.07
Term::ANSIColor 1.03 4.03
warnings 0 1.34
build_requires:
Module Need Have
-------------------------- ----- --------
blib 1.01 1.06
Exporter 0 5.72
ExtUtils::MakeMaker 0 7.30
File::Spec 0 3.56_02
File::Temp 0 0.2304
IO::Handle 0 1.35
IPC::Open3 0 1.18
lib 0 0.63
Path::Class 0.04 0.37
Test::File::ShareDir::Dist 0 1.001002
Test::More 0.88 1.302086
configure_requires:
Module Need Have
-------------------------- ----- --------
ExtUtils::MakeMaker 0 7.30
File::ShareDir::Install 0.06 0.11
File::Temp 0 0.2304
IO::File 0 1.16
IPC::Open3 0 1.18
perl 5.006 5.022003
strict 0 1.09
warnings 0 1.34
------------------------------
ENVIRONMENT AND OTHER CONTEXT
------------------------------
Environment variables:
AUTOMATED_TESTING = 1
HARNESS_OPTIONS = j4
LANG = en_GB.UTF-8
LANGUAGE = en_GB:en
PATH = /home/njh/perl5/perlbrew/bin:/home/njh/perl5/perlbrew/perls/perl-5.22.3/bin:/home/njh/perl5/perlbrew/bin:/usr/bin:/bin
PERL5LIB = /home/njh/.cpan/build/Test-File-ShareDir-1.001002-23/blib/arch:/home/njh/.cpan/build/Test-File-ShareDir-1.001002-23/blib/lib:/home/njh/.cpan/build/Scope-Guard-0.21-17/blib/arch:/home/njh/.cpan/build/Scope-Guard-0.21-17/blib/lib:/home/njh/.cpan/build/Path-Tiny-0.104-0/blib/arch:/home/njh/.cpan/build/Path-Tiny-0.104-0/blib/lib:/home/njh/.cpan/build/Class-Tiny-1.006-11/blib/arch:/home/njh/.cpan/build/Class-Tiny-1.006-11/blib/lib:/home/njh/.cpan/build/Path-Class-0.37-2/blib/arch:/home/njh/.cpan/build/Path-Class-0.37-2/blib/lib:/home/njh/.cpan/build/File-ShareDir-1.104-7/blib/arch:/home/njh/.cpan/build/File-ShareDir-1.104-7/blib/lib:/home/njh/.cpan/build/Class-Inspector-1.31-6/blib/arch:/home/njh/.cpan/build/Class-Inspector-1.31-6/blib/lib:/home/njh/.cpan/build/File-ShareDir-Install-0.11-11/blib/arch:/home/njh/.cpan/build/File-ShareDir-Install-0.11-11/blib/lib:/home/njh/.cpan/build/Module-Build-Tiny-0.039-14/blib/arch:/home/njh/.cpan/build/Module-Build-Tiny-0.039-14/blib/lib:/home/njh/.cpan/build/ExtUtils-InstallPaths-0.011-9/blib/arch:/home/njh/.cpan/build/ExtUtils-InstallPaths-0.011-9/blib/lib:/home/njh/.cpan/build/ExtUtils-Helpers-0.026-9/blib/arch:/home/njh/.cpan/build/ExtUtils-Helpers-0.026-9/blib/lib:/home/njh/.cpan/build/ExtUtils-Config-0.008-9/blib/arch:/home/njh/.cpan/build/ExtUtils-Config-0.008-9/blib/lib
PERL5OPT =
PERL5_CPANPLUS_IS_RUNNING = 9871
PERL5_CPAN_IS_RUNNING = 9871
PERLBREW_BASHRC_VERSION = 0.73
PERLBREW_HOME = /home/njh/.perlbrew
PERLBREW_LIB =
PERLBREW_MANPATH = /home/njh/perl5/perlbrew/perls/perl-5.22.3/man
PERLBREW_PATH = /home/njh/perl5/perlbrew/bin:/home/njh/perl5/perlbrew/perls/perl-5.22.3/bin
PERLBREW_PERL = perl-5.22.3
PERLBREW_ROOT = /home/njh/perl5/perlbrew
PERLBREW_VERSION = 0.73
PERL_LOCAL_LIB_ROOT =
SHELL = /bin/sh
Perl special variables (and OS-specific diagnostics, for MSWin32):
$^X = /home/njh/perl5/perlbrew/perls/perl-5.22.3/bin/perl
$UID/$EUID = 1000 / 1000
$GID = 1000 4 24 25 29 30 44 46 108 112 1000
$EGID = 1000 4 24 25 29 30 44 46 108 112 1000
Perl module toolchain versions installed:
Module Have
------------------- ----------
CPAN 2.16
CPAN::Meta 2.150001
Cwd 3.56_02
ExtUtils::CBuilder 0.280221
ExtUtils::Command 7.30
ExtUtils::Install 2.06
ExtUtils::MakeMaker 7.30
ExtUtils::Manifest 1.70
ExtUtils::ParseXS 3.28
File::Spec 3.56_02
JSON n/a
JSON::PP 2.27300_01
Module::Build 0.4224
Module::Signature n/a
Parse::CPAN::Meta 1.4414_001
Test::Harness 3.35_01
Test::More 1.302086
YAML 1.23
YAML::Syck 1.30
version 0.9909
--
Summary of my perl5 (revision 5 version 22 subversion 3) configuration:
Platform:
osname=linux, osvers=4.9.0-2-amd64, archname=x86_64-linux-thread-multi
uname='linux gateway 4.9.0-2-amd64 #1 smp debian 4.9.18-1 (2017-03-30) x86_64 gnulinux '
config_args='-de -Dprefix=/home/njh/perl5/perlbrew/perls/perl-5.22.3 -Duseithreads -Dusemultiplicity -Dusedevel -Accflags= -Aeval:scriptdir=/home/njh/perl5/perlbrew/perls/perl-5.22.3/bin'
hint=recommended, useposix=true, d_sigaction=define
useithreads=define, usemultiplicity=define
use64bitint=define, use64bitall=define, uselongdouble=undef
usemymalloc=n, bincompat5005=undef
Compiler:
cc='cc', ccflags ='-D_REENTRANT -D_GNU_SOURCE -fwrapv -fno-strict-aliasing -pipe -fstack-protector-strong -I/usr/local/include -D_LARGEFILE_SOURCE -D_FILE_OFFSET_BITS=64',
optimize='-O2',
cppflags='-D_REENTRANT -D_GNU_SOURCE -fwrapv -fno-strict-aliasing -pipe -fstack-protector-strong -I/usr/local/include'
ccversion='', gccversion='6.3.0 20170516', gccosandvers=''
intsize=4, longsize=8, ptrsize=8, doublesize=8, byteorder=12345678, doublekind=3
d_longlong=define, longlongsize=8, d_longdbl=define, longdblsize=16, longdblkind=3
ivtype='long', ivsize=8, nvtype='double', nvsize=8, Off_t='off_t', lseeksize=8
alignbytes=8, prototype=define
Linker and Libraries:
ld='cc', ldflags =' -fstack-protector-strong -L/usr/local/lib'
libpth=/usr/local/lib /usr/lib/gcc/x86_64-linux-gnu/6/include-fixed /usr/include/x86_64-linux-gnu /usr/lib /lib/x86_64-linux-gnu /lib/../lib /usr/lib/x86_64-linux-gnu /usr/lib/../lib /lib
libs=-lpthread -lnsl -lgdbm -ldb -ldl -lm -lcrypt -lutil -lc -lgdbm_compat
perllibs=-lpthread -lnsl -ldl -lm -lcrypt -lutil -lc
libc=libc-2.24.so, so=so, useshrplib=false, libperl=libperl.a
gnulibc_version='2.24'
Dynamic Linking:
dlsrc=dl_dlopen.xs, dlext=so, d_dlsymun=undef, ccdlflags='-Wl,-E'
cccdlflags='-fPIC', lddlflags='-shared -O2 -L/usr/local/lib -fstack-protector-strong'
Characteristics of this binary (from libperl):
Compile-time options: HAS_TIMES MULTIPLICITY PERLIO_LAYERS
PERL_DONT_CREATE_GVSV
PERL_HASH_FUNC_ONE_AT_A_TIME_HARD
PERL_IMPLICIT_CONTEXT PERL_MALLOC_WRAP
PERL_NEW_COPY_ON_WRITE PERL_PRESERVE_IVUV
PERL_USE_DEVEL USE_64_BIT_ALL USE_64_BIT_INT
USE_ITHREADS USE_LARGE_FILES USE_LOCALE
USE_LOCALE_COLLATE USE_LOCALE_CTYPE
USE_LOCALE_NUMERIC USE_LOCALE_TIME USE_PERLIO
USE_PERL_ATOF USE_REENTRANT_API
Built under linux
Compiled at Jun 29 2017 00:32:32
%ENV:
PERL5LIB="/home/njh/.cpan/build/Test-File-ShareDir-1.001002-23/blib/arch:/home/njh/.cpan/build/Test-File-ShareDir-1.001002-23/blib/lib:/home/njh/.cpan/build/Scope-Guard-0.21-17/blib/arch:/home/njh/.cpan/build/Scope-Guard-0.21-17/blib/lib:/home/njh/.cpan/build/Path-Tiny-0.104-0/blib/arch:/home/njh/.cpan/build/Path-Tiny-0.104-0/blib/lib:/home/njh/.cpan/build/Class-Tiny-1.006-11/blib/arch:/home/njh/.cpan/build/Class-Tiny-1.006-11/blib/lib:/home/njh/.cpan/build/Path-Class-0.37-2/blib/arch:/home/njh/.cpan/build/Path-Class-0.37-2/blib/lib:/home/njh/.cpan/build/File-ShareDir-1.104-7/blib/arch:/home/njh/.cpan/build/File-ShareDir-1.104-7/blib/lib:/home/njh/.cpan/build/Class-Inspector-1.31-6/blib/arch:/home/njh/.cpan/build/Class-Inspector-1.31-6/blib/lib:/home/njh/.cpan/build/File-ShareDir-Install-0.11-11/blib/arch:/home/njh/.cpan/build/File-ShareDir-Install-0.11-11/blib/lib:/home/njh/.cpan/build/Module-Build-Tiny-0.039-14/blib/arch:/home/njh/.cpan/build/Module-Build-Tiny-0.039-14/blib/lib:/home/njh/.cpan/build/ExtUtils-InstallPaths-0.011-9/blib/arch:/home/njh/.cpan/build/ExtUtils-InstallPaths-0.011-9/blib/lib:/home/njh/.cpan/build/ExtUtils-Helpers-0.026-9/blib/arch:/home/njh/.cpan/build/ExtUtils-Helpers-0.026-9/blib/lib:/home/njh/.cpan/build/ExtUtils-Config-0.008-9/blib/arch:/home/njh/.cpan/build/ExtUtils-Config-0.008-9/blib/lib"
PERL5OPT=""
PERL5_CPANPLUS_IS_RUNNING="9871"
PERL5_CPAN_IS_RUNNING="9871"
PERLBREW_BASHRC_VERSION="0.73"
PERLBREW_HOME="/home/njh/.perlbrew"
PERLBREW_LIB=""
PERLBREW_MANPATH="/home/njh/perl5/perlbrew/perls/perl-5.22.3/man"
PERLBREW_PATH="/home/njh/perl5/perlbrew/bin:/home/njh/perl5/perlbrew/perls/perl-5.22.3/bin"
PERLBREW_PERL="perl-5.22.3"
PERLBREW_ROOT="/home/njh/perl5/perlbrew"
PERLBREW_VERSION="0.73"
PERL_LOCAL_LIB_ROOT=""
@INC:
/home/njh/.cpan/build/Test-File-ShareDir-1.001002-23/blib/arch
/home/njh/.cpan/build/Test-File-ShareDir-1.001002-23/blib/lib
/home/njh/.cpan/build/Scope-Guard-0.21-17/blib/arch
/home/njh/.cpan/build/Scope-Guard-0.21-17/blib/lib
/home/njh/.cpan/build/Path-Tiny-0.104-0/blib/arch
/home/njh/.cpan/build/Path-Tiny-0.104-0/blib/lib
/home/njh/.cpan/build/Class-Tiny-1.006-11/blib/arch
/home/njh/.cpan/build/Class-Tiny-1.006-11/blib/lib
/home/njh/.cpan/build/Path-Class-0.37-2/blib/arch
/home/njh/.cpan/build/Path-Class-0.37-2/blib/lib
/home/njh/.cpan/build/File-ShareDir-1.104-7/blib/arch
/home/njh/.cpan/build/File-ShareDir-1.104-7/blib/lib
/home/njh/.cpan/build/Class-Inspector-1.31-6/blib/arch
/home/njh/.cpan/build/Class-Inspector-1.31-6/blib/lib
/home/njh/.cpan/build/File-ShareDir-Install-0.11-11/blib/arch
/home/njh/.cpan/build/File-ShareDir-Install-0.11-11/blib/lib
/home/njh/.cpan/build/Module-Build-Tiny-0.039-14/blib/arch
/home/njh/.cpan/build/Module-Build-Tiny-0.039-14/blib/lib
/home/njh/.cpan/build/ExtUtils-InstallPaths-0.011-9/blib/arch
/home/njh/.cpan/build/ExtUtils-InstallPaths-0.011-9/blib/lib
/home/njh/.cpan/build/ExtUtils-Helpers-0.026-9/blib/arch
/home/njh/.cpan/build/ExtUtils-Helpers-0.026-9/blib/lib
/home/njh/.cpan/build/ExtUtils-Config-0.008-9/blib/arch
/home/njh/.cpan/build/ExtUtils-Config-0.008-9/blib/lib
/home/njh/perl5/perlbrew/perls/perl-5.22.3/lib/site_perl/5.22.3/x86_64-linux-thread-multi
/home/njh/perl5/perlbrew/perls/perl-5.22.3/lib/site_perl/5.22.3
/home/njh/perl5/perlbrew/perls/perl-5.22.3/lib/5.22.3/x86_64-linux-thread-multi
/home/njh/perl5/perlbrew/perls/perl-5.22.3/lib/5.22.3
.