DBIx-Class-Objects v0.05 Perl 5 v5.22.4 x86_64-linux

Status
Pass
From
Andreas J. König (ANDK)
Dist
DBIx-Class-Objects v0.05
Platform
Perl 5 v5.22.4 x86_64-linux
Date
2017-10-25 10:21:13
ID
3a9e183a-b96e-11e7-a2c3-ac8c670be045
This distribution has been tested as part of the CPAN Testers
project, supporting the Perl programming language.  See
http://wiki.cpantesters.org/ for more information or email
questions to cpan-testers-discuss@perl.org


--
Dear Daniel W Burke,

This is a computer-generated report for DBIx-Class-Objects-0.05
on perl 5.22.4, created by CPAN-Reporter-1.2018.

Thank you for uploading your work to CPAN.  Congratulations!
All tests were successful.

Sections of this report:

    * Tester comments
    * Program output
    * Prerequisites
    * Environment and other context

------------------------------
TESTER COMMENTS
------------------------------

Additional comments from tester:

this report is from an automated smoke testing program
and was not reviewed by a human for accuracy

------------------------------
PROGRAM OUTPUT
------------------------------

Output from '/usr/bin/make test':

PERL_DL_NONLAZY=1 "/home/sand/src/perl/repoperls/installed-perls/host/k93msid/v5.22.4/d2d1/bin/perl" "-MExtUtils::Command::MM" "-MTest::Harness" "-e" "undef *Test::Harness::Switches; test_harness(0, 'blib/lib', 'blib/arch')" t/*.t
t/00-load.t .......... ok
t/objects.t .......... ok
t/objectset.t ........ ok
t/our_own_objects.t .. ok
t/roles.t ............ ok
t/session-dbic.t ..... ok
t/session.t .......... ok
All tests successful.
Files=7, Tests=62, 15 wallclock secs ( 0.03 usr  0.05 sys +  6.16 cusr  0.71 csys =  6.95 CPU)
Result: PASS

------------------------------
PREREQUISITES
------------------------------

Prerequisite modules loaded:

requires:

    Module                      Need  Have    
    --------------------------- ----- --------
    base                        0     2.22_01 
    Carp                        0     1.36    
    Class::Load                 0     0.24    
    Exporter                    0     5.72    
    Moose                       0     2.2006  
    Moose::Role                 0     2.2006  
    Moose::Util                 0     2.2006  
    MooseX::Role::Parameterized 0     1.10    
    namespace::autoclean        0     0.28    
    perl                        5.006 5.022004
    strict                      0     1.09    
    warnings                    0     1.34    

build_requires:

    Module                      Need  Have    
    --------------------------- ----- --------
    DateTime                    0     1.44    
    DBIx::Class::Core           0     0       
    DBIx::Class::EasyFixture    0     0.12    
    DBIx::Class::Schema         0     0       
    ExtUtils::MakeMaker         0     7.31_04 
    lib                         0     0.63    
    Test::More                  0     1.302106
    Test::Most                  0     0.35    
    utf8                        0     1.17    

configure_requires:

    Module                      Need  Have    
    --------------------------- ----- --------
    ExtUtils::MakeMaker         0     7.31_04 


------------------------------
ENVIRONMENT AND OTHER CONTEXT
------------------------------

Environment variables:

    AUTOMATED_TESTING = 1
    LANG = en_US.UTF-8
    PATH = /home/sand/bin:/usr/local/bin:/usr/bin:/bin:/usr/games:/usr/local/perl/bin:/usr/X11/bin:/sbin:/usr/sbin
    PERL5LIB = /tmp/loop_over_bdir-21371-uml37L/DBIx-Class-EasyFixture-0.12-0/blib/arch:/tmp/loop_over_bdir-21371-uml37L/DBIx-Class-EasyFixture-0.12-0/blib/lib:/tmp/loop_over_bdir-21371-uml37L/Carp-Always-0.13-0/blib/arch:/tmp/loop_over_bdir-21371-uml37L/Carp-Always-0.13-0/blib/lib
    PERL5OPT = 
    PERL5_CPANPLUS_IS_RUNNING = 21377
    PERL5_CPAN_IS_RUNNING = 21377
    PERL5_CPAN_IS_RUNNING_IN_RECURSION = 5940,21377
    PERL_CANARY_STABILITY_NOPROMPT = 1
    PERL_MM_USE_DEFAULT = 1
    PERL_USE_UNSAFE_INC = 1
    SHELL = /usr/bin/zsh
    TERM = screen

Perl special variables (and OS-specific diagnostics, for MSWin32):

    $^X = /home/sand/src/perl/repoperls/installed-perls/host/k93msid/v5.22.4/d2d1/bin/perl
    $UID/$EUID = 1005 / 1005
    $GID = 1005 1005
    $EGID = 1005 1005

Perl module toolchain versions installed:

    Module              Have    
    ------------------- --------
    CPAN                2.18    
    CPAN::Meta          2.150010
    Cwd                 3.62    
    ExtUtils::CBuilder  0.280226
    ExtUtils::Command   7.31_04 
    ExtUtils::Install   2.06    
    ExtUtils::MakeMaker 7.31_04 
    ExtUtils::Manifest  1.70    
    ExtUtils::ParseXS   3.35    
    File::Spec          3.62    
    JSON                2.94    
    JSON::PP            2.94    
    Module::Build       0.4224  
    Module::Signature   0.81    
    Parse::CPAN::Meta   2.150010
    Test::Harness       3.39    
    Test::More          1.302106
    YAML                1.23    
    YAML::Syck          1.30    
    version             0.9909  


--

Summary of my perl5 (revision 5 version 22 subversion 4) configuration:
  Derived from: a26666a1317770d8a2228ac3657ba58020c3511f
  Platform:
    osname=linux, osvers=4.12.0-2-amd64, archname=x86_64-linux
    uname='linux k93msid 4.12.0-2-amd64 #1 smp debian 4.12.13-1 (2017-09-19) x86_64 gnulinux '
    config_args='-Dprefix=/home/sand/src/perl/repoperls/installed-perls/host/k93msid/v5.22.4/d2d1 -Dmyhostname=k93msid -Dinstallusrbinperl=n -Uversiononly -Dusedevel -des -Ui_db -Dlibswanted=cl pthread socket inet nsl gdbm dbm malloc dl ld sun m crypt sec util c cposix posix ucb BSD gdbm_compat -Uuseithreads -Uuselongdouble -DDEBUGGING=both'
    hint=recommended, useposix=true, d_sigaction=define
    useithreads=undef, usemultiplicity=undef
    use64bitint=define, use64bitall=define, uselongdouble=undef
    usemymalloc=n, bincompat5005=undef
  Compiler:
    cc='cc', ccflags ='-fwrapv -DDEBUGGING -fno-strict-aliasing -pipe -fstack-protector-strong -I/usr/local/include -D_LARGEFILE_SOURCE -D_FILE_OFFSET_BITS=64',
    optimize='-O2 -g',
    cppflags='-fwrapv -DDEBUGGING -fno-strict-aliasing -pipe -fstack-protector-strong -I/usr/local/include'
    ccversion='', gccversion='7.2.0', gccosandvers=''
    intsize=4, longsize=8, ptrsize=8, doublesize=8, byteorder=12345678, doublekind=3
    d_longlong=define, longlongsize=8, d_longdbl=define, longdblsize=16, longdblkind=3
    ivtype='long', ivsize=8, nvtype='double', nvsize=8, Off_t='off_t', lseeksize=8
    alignbytes=8, prototype=define
  Linker and Libraries:
    ld='cc', ldflags =' -fstack-protector-strong -L/usr/local/lib'
    libpth=/usr/local/lib /usr/lib/gcc/x86_64-linux-gnu/7/include-fixed /usr/include/x86_64-linux-gnu /usr/lib /lib/x86_64-linux-gnu /lib/../lib /usr/lib/x86_64-linux-gnu /usr/lib/../lib /lib
    libs=-lpthread -lnsl -ldl -lm -lcrypt -lutil -lc
    perllibs=-lpthread -lnsl -ldl -lm -lcrypt -lutil -lc
    libc=libc-2.24.so, so=so, useshrplib=false, libperl=libperl.a
    gnulibc_version='2.24'
  Dynamic Linking:
    dlsrc=dl_dlopen.xs, dlext=so, d_dlsymun=undef, ccdlflags='-Wl,-E'
    cccdlflags='-fPIC', lddlflags='-shared -O2 -g -L/usr/local/lib -fstack-protector-strong'


Characteristics of this binary (from libperl): 
  Compile-time options: DEBUGGING HAS_TIMES PERLIO_LAYERS
                        PERL_DONT_CREATE_GVSV
                        PERL_HASH_FUNC_ONE_AT_A_TIME_HARD PERL_MALLOC_WRAP
                        PERL_NEW_COPY_ON_WRITE PERL_PRESERVE_IVUV
                        PERL_USE_DEVEL USE_64_BIT_ALL USE_64_BIT_INT
                        USE_LARGE_FILES USE_LOCALE USE_LOCALE_COLLATE
                        USE_LOCALE_CTYPE USE_LOCALE_NUMERIC USE_LOCALE_TIME
                        USE_PERLIO USE_PERL_ATOF
  Locally applied patches:
	uncommitted-changes
  Built under linux
  Compiled at Oct  2 2017 10:47:51
  %ENV:
    PERL5LIB="/tmp/loop_over_bdir-21371-uml37L/DBIx-Class-EasyFixture-0.12-0/blib/arch:/tmp/loop_over_bdir-21371-uml37L/DBIx-Class-EasyFixture-0.12-0/blib/lib:/tmp/loop_over_bdir-21371-uml37L/Carp-Always-0.13-0/blib/arch:/tmp/loop_over_bdir-21371-uml37L/Carp-Always-0.13-0/blib/lib"
    PERL5OPT=""
    PERL5_CPANPLUS_IS_RUNNING="21377"
    PERL5_CPAN_IS_RUNNING="21377"
    PERL5_CPAN_IS_RUNNING_IN_RECURSION="5940,21377"
    PERL_CANARY_STABILITY_NOPROMPT="1"
    PERL_MM_USE_DEFAULT="1"
    PERL_USE_UNSAFE_INC="1"
  @INC:
    /tmp/loop_over_bdir-21371-uml37L/DBIx-Class-EasyFixture-0.12-0/blib/arch
    /tmp/loop_over_bdir-21371-uml37L/DBIx-Class-EasyFixture-0.12-0/blib/lib
    /tmp/loop_over_bdir-21371-uml37L/Carp-Always-0.13-0/blib/arch
    /tmp/loop_over_bdir-21371-uml37L/Carp-Always-0.13-0/blib/lib
    /home/sand/src/perl/repoperls/installed-perls/host/k93msid/v5.22.4/d2d1/lib/site_perl/5.22.4/x86_64-linux
    /home/sand/src/perl/repoperls/installed-perls/host/k93msid/v5.22.4/d2d1/lib/site_perl/5.22.4
    /home/sand/src/perl/repoperls/installed-perls/host/k93msid/v5.22.4/d2d1/lib/5.22.4/x86_64-linux
    /home/sand/src/perl/repoperls/installed-perls/host/k93msid/v5.22.4/d2d1/lib/5.22.4
    .