Back
From: metabase:user:fb19509c-17e3-11e3-a14d-fdb79081a995
Subject: PASS autodie-2.29 v5.8.5 Mac OS X
Date: 2015-09-30T22:40:20Z
This distribution has been tested as part of the CPAN Testers
project, supporting the Perl programming language. See
http://wiki.cpantesters.org/ for more information or email
questions to cpan-testers-discuss@perl.org
--
Dear PJF,
This is a computer-generated report for autodie-2.29
on perl 5.8.5, created by App::cpanminus::reporter 0.12 (1.7039).
Thank you for uploading your work to CPAN. Congratulations!
All tests were successful.
Sections of this report:
* Tester comments
* Program output
* Prerequisites
* Environment and other context
------------------------------
TESTER COMMENTS
------------------------------
Additional comments from tester:
none provided
------------------------------
PROGRAM OUTPUT
------------------------------
Output from '':
Building and testing autodie-2.29
cp lib/autodie/Util.pm blib/lib/autodie/Util.pm
cp lib/autodie/hints.pm blib/lib/autodie/hints.pm
cp lib/Fatal.pm blib/lib/Fatal.pm
cp lib/autodie/Scope/Guard.pm blib/lib/autodie/Scope/Guard.pm
cp lib/autodie/Scope/GuardStack.pm blib/lib/autodie/Scope/GuardStack.pm
cp lib/autodie/exception.pm blib/lib/autodie/exception.pm
cp lib/autodie/skip.pm blib/lib/autodie/skip.pm
cp lib/autodie.pm blib/lib/autodie.pm
cp lib/autodie/exception/system.pm blib/lib/autodie/exception/system.pm
Manifying 9 pod documents
PERL_DL_NONLAZY=1 "/Users/ether/perl5/perlbrew/perls/8.5/bin/perl" "-MExtUtils::Command::MM" "-MTest::Harness" "-e" "undef *Test::Harness::Switches; test_harness(0, 'blib/lib', 'blib/arch')" t/*.t
t/author-critic.t ................ skipped: these tests are for testing by the author
t/00-load.t ...................... ok
t/args.t ......................... ok
t/backcompat.t ................... ok
t/autodie.t ...................... ok
t/binmode.t ...................... ok
t/basic_exceptions.t ............. ok
t/blog_hints.t ................... ok
t/chmod.t ........................ ok
t/chown.t ........................ ok
t/caller.t ....................... ok
t/context.t ...................... ok
t/context_lexical.t .............. ok
t/critic.t ....................... skipped: Author test. Set $ENV{AUTHOR_TESTING} to true to run.
t/core-trampoline-slurp.t ........ ok
t/crickey.t ...................... ok
t/exceptions.t ................... skipped: Perl 5.10 only tests
t/dbmopen.t ...................... ok
t/eval_error.t ................... ok
t/exception_class.t .............. ok
t/exec.t ......................... ok
t/Fatal.t ........................ ok
t/filehandles.t .................. ok
t/fileno.t ....................... ok
t/fork.t ......................... skipped: BSD::Resource required to test fork()
t/flock.t ........................ ok
t/hints_pod_examples.t ........... skipped: Only subroutine hints supported in 5.8.x
t/format-clobber.t ............... ok
# Sub::Identify is loaded
t/hints_insist.t ................. ok
t/hints.t ........................ ok
t/import-into.t .................. skipped: Test needs Import::Into >= 1.002004
t/hints_provider_does.t .......... ok
t/hints_provider_easy_does_it.t .. ok
t/hints_provider_isa.t ........... ok
t/internal-backcompat.t .......... ok
t/kwalitee.t ..................... skipped: Author test. Set $ENV{RELEASE_TESTING} to true to run.
t/internal.t ..................... ok
t/kill.t ......................... ok
t/lex58.t ........................ skipped: IPC::System::Simple required
t/pod-coverage.t ................. skipped: Author test. Set $ENV{AUTHOR_TESTING} to true to run.
t/no_carp.t ...................... ok
t/lethal.t ....................... ok
t/pod.t .......................... skipped: Author test. Set $ENV{AUTHOR_TESTING} to true to run.
t/mkdir.t ........................ ok
t/read.t ......................... ok
t/release-pod-coverage.t ......... skipped: these tests are for release candidate testing
t/release-pod-syntax.t ........... skipped: these tests are for release candidate testing
t/open.t ......................... ok
t/recv.t ......................... ok
t/repeat.t ....................... ok
Variable "$open" is not imported at (eval 4) line 5.
(Did you mean &open instead?)
t/rt-74246.t ..................... ok
t/socket.t ....................... skipped: Author test. Set $ENV{AUTHOR_TESTING} to true to run.
t/string-eval-basic.t ............ ok
t/scope_leak.t ................... ok
t/string-eval-leak.t ............. ok
t/skip.t ......................... ok
t/sysopen.t ...................... ok
t/system.t ....................... skipped: IPC::System::Simple not installed
t/unlink.t ....................... ok
t/user-context.t ................. ok
t/usersub.t ...................... ok
t/truncate.t ..................... ok
t/version.t ...................... skipped: Release test. Set $ENV{RELEASE_TESTING} to true to run.
t/utf8_open.t .................... skipped: autodie does not honor the open pragma before 5.10
t/utime.t ........................ ok
t/version_tag.t .................. ok
All tests successful.
Files=66, Tests=385, 1 wallclock secs ( 0.29 usr 0.17 sys + 3.44 cusr 0.56 csys = 4.46 CPU)
Result: PASS
------------------------------
PREREQUISITES
------------------------------
Prerequisite modules loaded:
No requirements found
------------------------------
ENVIRONMENT AND OTHER CONTEXT
------------------------------
Environment variables:
LANG = en_CA.UTF-8
PATH = /Users/ether/.perlbrew/libs/8.5@std/bin:/Users/ether/perl5/perlbrew/bin:/Users/ether/perl5/perlbrew/perls/8.5/bin:/Users/ether/bin:/Users/ether/git/misc/install/bourbon/bin:/Users/ether/git/misc/install/generic/bin:/opt/local/bin:/opt/local/sbin:/Users/ether/git/git-hub/lib:/Users/ether/src/CE/devtools:/Users/ether/git/CE/devtools:/Users/ether/src/CE/bin:/Users/ether/git/CE/bin:/usr/bin:/bin:/usr/sbin:/sbin:/usr/local/bin:/opt/local/share/git-core/contrib/workdir
PERL5LIB = /Users/ether/.perlbrew/libs/8.5@std/lib/perl5
PERLBREW_BASHRC_VERSION = 0.73
PERLBREW_HOME = /Users/ether/.perlbrew
PERLBREW_LIB = std
PERLBREW_MANPATH = /Users/ether/.perlbrew/libs/8.5@std/man:/Users/ether/perl5/perlbrew/perls/8.5/man
PERLBREW_PATH = /Users/ether/.perlbrew/libs/8.5@std/bin:/Users/ether/perl5/perlbrew/bin:/Users/ether/perl5/perlbrew/perls/8.5/bin
PERLBREW_PERL = 8.5
PERLBREW_ROOT = /Users/ether/perl5/perlbrew
PERLBREW_VERSION = 0.73
PERLDOC_PAGER = less -sicMr
PERL_AUTOINSTALL_PREFER_CPAN = 1
PERL_INSTALL_QUIET = 1
PERL_LOCAL_LIB_ROOT = /Users/ether/.perlbrew/libs/8.5@std
PERL_MB_OPT = --install_base /Users/ether/.perlbrew/libs/8.5@std
PERL_MM_OPT = INSTALL_BASE=/Users/ether/.perlbrew/libs/8.5@std
SHELL = /bin/bash
TERM = xterm-color
TMPDIR = /var/folders/kx/9dgyhhpn2yb7v2mggnr385fr0000gn/T/
Perl special variables (and OS-specific diagnostics, for MSWin32):
EGID = 20 204 100 98 81 80 79 61 33 12 401 402 20
EUID = 501
EXECUTABLE_NAME = /Users/ether/perl5/perlbrew/perls/8.5/bin/perl
GID = 20 204 100 98 81 80 79 61 33 12 401 402 20
UID = 501
Perl module toolchain versions installed:
Module Have
------------------- --------
CPAN 1.76_01
CPAN::Meta 2.150005
Cwd 3.47
ExtUtils::CBuilder 0.280223
ExtUtils::Command 7.10
ExtUtils::Install 1.54
ExtUtils::MakeMaker 7.10
ExtUtils::Manifest 1.70
ExtUtils::ParseXS 3.30
File::Spec 3.47
JSON 2.90
JSON::PP 2.27203
Module::Build 0.4214
Module::Signature n/a
Parse::CPAN::Meta 1.4417
Test::Harness 3.35
Test::More 1.001014
YAML n/a
YAML::Syck n/a
version 0.9912
--
Summary of my perl5 (revision 5 version 8 subversion 5) configuration:
Platform:
osname=darwin, osvers=12.6.0, archname=darwin-2level
uname='darwin bourbon 12.6.0 darwin kernel version 12.6.0: wed mar 18 16:23:48 pdt 2015; root:xnu-2050.48.19~1release_x86_64 x86_64 '
config_args='-de -Dprefix=/Users/ether/perl5/perlbrew/perls/8.5 -Dman1dir=none -Dman3dir=none -Aeval:scriptdir=/Users/ether/perl5/perlbrew/perls/8.5/bin'
hint=recommended, useposix=true, d_sigaction=define
usethreads=undef use5005threads=undef useithreads=undef usemultiplicity=undef
useperlio=define d_sfio=undef uselargefiles=define usesocks=undef
use64bitint=define use64bitall=define uselongdouble=undef
usemymalloc=n, bincompat5005=undef
Compiler:
cc='cc', ccflags ='-fno-common -DPERL_DARWIN -fno-strict-aliasing -pipe -I/opt/local/include',
optimize='-O3',
cppflags='-fno-common -DPERL_DARWIN -fno-strict-aliasing -pipe -I/opt/local/include'
ccversion='', gccversion='4.2.1 Compatible Apple LLVM 4.2 (clang-425.0.28)', gccosandvers=''
intsize=4, longsize=8, ptrsize=8, doublesize=8, byteorder=12345678
d_longlong=define, longlongsize=8, d_longdbl=define, longdblsize=16
ivtype='long', ivsize=8, nvtype='double', nvsize=8, Off_t='off_t', lseeksize=8
alignbytes=8, prototype=define
Linker and Libraries:
ld='env MACOSX_DEPLOYMENT_TARGET=10.3 cc', ldflags =' -L/opt/local/lib'
libpth=/opt/local/lib /usr/lib
libs=-lgdbm -ldbm -ldl -lm -lutil -lc
perllibs=-ldl -lm -lutil -lc
libc=, so=dylib, useshrplib=false, libperl=libperl.a
gnulibc_version=''
Dynamic Linking:
dlsrc=dl_dlopen.xs, dlext=bundle, d_dlsymun=undef, ccdlflags=' '
cccdlflags=' ', lddlflags=' -bundle -undefined dynamic_lookup -L/opt/local/lib'
Characteristics of this binary (from libperl):
Compile-time options: USE_64_BIT_INT USE_64_BIT_ALL USE_LARGE_FILES
Locally applied patches:
Devel::PatchPerl 1.34
Built under darwin
Compiled at Jun 22 2015 16:57:38
%ENV:
PERL5LIB="/Users/ether/.perlbrew/libs/8.5@std/lib/perl5"
PERLBREW_BASHRC_VERSION="0.73"
PERLBREW_HOME="/Users/ether/.perlbrew"
PERLBREW_LIB="std"
PERLBREW_MANPATH="/Users/ether/.perlbrew/libs/8.5@std/man:/Users/ether/perl5/perlbrew/perls/8.5/man"
PERLBREW_PATH="/Users/ether/.perlbrew/libs/8.5@std/bin:/Users/ether/perl5/perlbrew/bin:/Users/ether/perl5/perlbrew/perls/8.5/bin"
PERLBREW_PERL="8.5"
PERLBREW_ROOT="/Users/ether/perl5/perlbrew"
PERLBREW_VERSION="0.73"
PERLDOC_PAGER="less -sicMr"
PERL_AUTOINSTALL_PREFER_CPAN="1"
PERL_INSTALL_QUIET="1"
PERL_LOCAL_LIB_ROOT="/Users/ether/.perlbrew/libs/8.5@std"
PERL_MB_OPT="--install_base /Users/ether/.perlbrew/libs/8.5@std"
PERL_MM_OPT="INSTALL_BASE=/Users/ether/.perlbrew/libs/8.5@std"
@INC:
/Users/ether/.perlbrew/libs/8.5@std/lib/perl5/darwin-2level
/Users/ether/.perlbrew/libs/8.5@std/lib/perl5
/Users/ether/perl5/perlbrew/perls/8.5/lib/5.8.5/darwin-2level
/Users/ether/perl5/perlbrew/perls/8.5/lib/5.8.5
/Users/ether/perl5/perlbrew/perls/8.5/lib/site_perl/5.8.5/darwin-2level
/Users/ether/perl5/perlbrew/perls/8.5/lib/site_perl/5.8.5
/Users/ether/perl5/perlbrew/perls/8.5/lib/site_perl
.