App-Codeowners v0.51 Perl 5 v5.34.0 x86_64-linux
- Status
- Pass
- From
- Slaven Rezić
- Dist
-
App-Codeowners v0.51
- Platform
- Perl 5 v5.34.0 x86_64-linux
- Date
- 2022-06-28 23:08:32
- ID
- 3aebff30-f737-11ec-b105-98a42cbfd570
This distribution has been tested as part of the CPAN Testers
project, supporting the Perl programming language. See
http://wiki.cpantesters.org/ for more information or email
questions to cpan-testers-discuss@perl.org
--
Dear Charles McGarvey,
This is a computer-generated report for App-Codeowners-0.51
on perl 5.34.0, created by CPAN-Reporter-1.2018.
Thank you for uploading your work to CPAN. Congratulations!
All tests were successful.
Sections of this report:
* Tester comments
* Program output
* Prerequisites
* Environment and other context
------------------------------
TESTER COMMENTS
------------------------------
Additional comments from tester:
none provided
------------------------------
PROGRAM OUTPUT
------------------------------
Output from '/usr/bin/make test':
PERL_DL_NONLAZY=1 "/opt/perl-5.34.0/bin/perl" "-MExtUtils::Command::MM" "-MTest::Harness" "-e" "undef *Test::Harness::Switches; test_harness(0, 'blib/lib', 'blib/arch')" t/*.t
t/00-compile.t ........... ok
#
# Versions for all modules listed in MYMETA.json (including optional ones):
#
# === Configure Requires ===
#
# Module Want Have
# ------------------- ---- ----
# ExtUtils::MakeMaker any 7.64
#
# === Build Requires ===
#
# Module Want Have
# ------------------- ---- ----
# ExtUtils::MakeMaker any 7.64
#
# === Test Requires ===
#
# Module Want Have
# ------------------- ----- --------
# Capture::Tiny any 0.48
# ExtUtils::MakeMaker any 7.64
# File::Spec any 3.80
# File::pushd any 1.016
# FindBin any 1.52
# IO::Handle any 1.48
# IPC::Open3 any 1.21
# Path::Tiny 0.089 0.122
# Test::Exit any 0.11
# Test::More any 1.302190
#
# === Test Recommends ===
#
# Module Want Have
# ---------- -------- --------
# CPAN::Meta 2.120900 2.150010
#
# === Runtime Requires ===
#
# Module Want Have
# ---------------------- ----- -----
# Color::ANSI::Util 0.03 0.164
# Encode any 3.18
# Exporter any 5.76
# File::Codeowners 0.54 0.54
# File::Codeowners::Util any 0.54
# Getopt::Long 2.39 2.52
# Module::Load any 0.36
# Path::Tiny 0.089 0.122
# parent any 0.238
# strict any 1.12
# utf8 any 1.24
# warnings any 1.51
#
# === Runtime Recommends ===
#
# Module Want Have
# ---------------------- ---- -------
# Pod::Usage any 2.03
# Term::Detect::Software any 0.223
# Unicode::GCString any 2013.10
#
# === Runtime Suggests ===
#
# Module Want Have
# ---------------- ---- --------
# JSON::MaybeXS any 1.004003
# Text::CSV any 2.01
# Text::Table::Any any 0.112
# YAML any 1.30
#
t/00-report-prereqs.t .... ok
t/app-codeowners-util.t .. ok
t/app-codeowners.t ....... ok
All tests successful.
Files=4, Tests=21, 1 wallclock secs ( 0.03 usr 0.01 sys + 0.73 cusr 0.10 csys = 0.87 CPU)
Result: PASS
------------------------------
PREREQUISITES
------------------------------
Prerequisite modules loaded:
requires:
Module Need Have
---------------------- -------- --------
Color::ANSI::Util 0.03 0.164
Encode 0 3.18
Exporter 0 5.76
File::Codeowners 0.54 0.54
File::Codeowners::Util 0 0.54
Getopt::Long 2.39 2.52
Module::Load 0 0.36
parent 0 0.238
Path::Tiny 0.089 0.122
perl 5.010001 5.034000
strict 0 1.12
utf8 0 1.24
warnings 0 1.51
build_requires:
Module Need Have
---------------------- -------- --------
Capture::Tiny 0 0.48
ExtUtils::MakeMaker 0 7.64
File::pushd 0 1.016
File::Spec 0 3.80
FindBin 0 1.52
IO::Handle 0 1.48
IPC::Open3 0 1.21
Path::Tiny 0.089 0.122
Test::Exit 0 0.11
Test::More 0 1.302190
configure_requires:
Module Need Have
---------------------- -------- --------
ExtUtils::MakeMaker 0 7.64
------------------------------
ENVIRONMENT AND OTHER CONTEXT
------------------------------
Environment variables:
LANG = C
PATH = /usr/local/bin:/usr/bin:/bin:/usr/local/sbin:/usr/sbin:/sbin:/home/cpansand/bin/linux-gnu:/home/cpansand/bin/sh:/home/cpansand/bin:/usr/games:/home/cpansand/devel:/home/eserte/src/srezic-misc/scripts
PERL5LIB = /home/cpansand/.cpan/build/2022062823/Test-Exit-0.11-0/blib/arch:/home/cpansand/.cpan/build/2022062823/Test-Exit-0.11-0/blib/lib
PERL5OPT =
PERL5_CPANPLUS_IS_RUNNING = 19530
PERL5_CPAN_IS_RUNNING = 19530
PERL5_CPAN_IS_RUNNING_IN_RECURSION = 19489,19530
PERLDOC = -MPod::Perldoc::ToTextOverstrike
PERL_BATCH = yes
PERL_CANARY_STABILITY_NOPROMPT = 1
PERL_CPAN_REPORTER_CONFIG = /var/tmp/cpansmoker-1023/2022062823/cpanreporter_000_config.ini
PERL_EXTUTILS_AUTOINSTALL = --defaultdeps
PERL_USE_UNSAFE_INC = 1
SHELL = /usr/bin/zsh
TERM = screen
TMPDIR = /var/tmp/cpansmoker-1023/2022062823
Perl special variables (and OS-specific diagnostics, for MSWin32):
$^X = /opt/perl-5.34.0/bin/perl
$UID/$EUID = 1023 / 1023
$GID = 1023 1023
$EGID = 1023 1023
Perl module toolchain versions installed:
Module Have
------------------- --------
CPAN 2.34
CPAN::Meta 2.150010
Cwd 3.80
ExtUtils::CBuilder 0.280236
ExtUtils::Command 7.64
ExtUtils::Install 2.20
ExtUtils::MakeMaker 7.64
ExtUtils::Manifest 1.73
ExtUtils::ParseXS 3.43
File::Spec 3.80
JSON 4.06
JSON::PP 4.10
Module::Build 0.4231
Module::Signature 0.88
Parse::CPAN::Meta 2.150010
Test::Harness 3.44
Test::More 1.302190
YAML 1.30
YAML::Syck 1.34
version 0.9928
--
Summary of my perl5 (revision 5 version 34 subversion 0) configuration:
Platform:
osname=linux
osvers=4.9.0-16-amd64
archname=x86_64-linux
uname='linux cloud11.bbbike.org 4.9.0-16-amd64 #1 smp debian 4.9.272-2 (2021-07-19) x86_64 gnulinux '
config_args='-ds -e -Dprefix=/opt/perl-5.34.0 -Dcf_email=srezic@cpan.org'
hint=recommended
useposix=true
d_sigaction=define
useithreads=undef
usemultiplicity=undef
use64bitint=define
use64bitall=define
uselongdouble=undef
usemymalloc=n
default_inc_excludes_dot=define
Compiler:
cc='cc'
ccflags ='-fwrapv -fno-strict-aliasing -pipe -fstack-protector-strong -I/usr/local/include -D_LARGEFILE_SOURCE -D_FILE_OFFSET_BITS=64 -D_FORTIFY_SOURCE=2'
optimize='-O2'
cppflags='-fwrapv -fno-strict-aliasing -pipe -fstack-protector-strong -I/usr/local/include'
ccversion=''
gccversion='6.3.0 20170516'
gccosandvers=''
intsize=4
longsize=8
ptrsize=8
doublesize=8
byteorder=12345678
doublekind=3
d_longlong=define
longlongsize=8
d_longdbl=define
longdblsize=16
longdblkind=3
ivtype='long'
ivsize=8
nvtype='double'
nvsize=8
Off_t='off_t'
lseeksize=8
alignbytes=8
prototype=define
Linker and Libraries:
ld='cc'
ldflags =' -fstack-protector-strong -L/usr/local/lib'
libpth=/usr/local/lib /usr/lib/x86_64-linux-gnu /usr/lib /lib/x86_64-linux-gnu /lib
libs=-lpthread -lnsl -ldl -lm -lcrypt -lutil -lc
perllibs=-lpthread -lnsl -ldl -lm -lcrypt -lutil -lc
libc=libc-2.24.so
so=so
useshrplib=false
libperl=libperl.a
gnulibc_version='2.24'
Dynamic Linking:
dlsrc=dl_dlopen.xs
dlext=so
d_dlsymun=undef
ccdlflags='-Wl,-E'
cccdlflags='-fPIC'
lddlflags='-shared -O2 -L/usr/local/lib -fstack-protector-strong'
Characteristics of this binary (from libperl):
Compile-time options:
HAS_TIMES
PERLIO_LAYERS
PERL_COPY_ON_WRITE
PERL_DONT_CREATE_GVSV
PERL_MALLOC_WRAP
PERL_OP_PARENT
PERL_PRESERVE_IVUV
USE_64_BIT_ALL
USE_64_BIT_INT
USE_LARGE_FILES
USE_LOCALE
USE_LOCALE_COLLATE
USE_LOCALE_CTYPE
USE_LOCALE_NUMERIC
USE_LOCALE_TIME
USE_PERLIO
USE_PERL_ATOF
Built under linux
Compiled at Sep 4 2021 11:49:03
%ENV:
PERL5LIB="/home/cpansand/.cpan/build/2022062823/Test-Exit-0.11-0/blib/arch:/home/cpansand/.cpan/build/2022062823/Test-Exit-0.11-0/blib/lib"
PERL5OPT=""
PERL5_CPANPLUS_IS_RUNNING="19530"
PERL5_CPAN_IS_RUNNING="19530"
PERL5_CPAN_IS_RUNNING_IN_RECURSION="19489,19530"
PERLDOC="-MPod::Perldoc::ToTextOverstrike"
PERL_BATCH="yes"
PERL_CANARY_STABILITY_NOPROMPT="1"
PERL_CPAN_REPORTER_CONFIG="/var/tmp/cpansmoker-1023/2022062823/cpanreporter_000_config.ini"
PERL_EXTUTILS_AUTOINSTALL="--defaultdeps"
PERL_USE_UNSAFE_INC="1"
@INC:
/home/cpansand/.cpan/build/2022062823/Test-Exit-0.11-0/blib/arch
/home/cpansand/.cpan/build/2022062823/Test-Exit-0.11-0/blib/lib
/opt/perl-5.34.0/lib/site_perl/5.34.0/x86_64-linux
/opt/perl-5.34.0/lib/site_perl/5.34.0
/opt/perl-5.34.0/lib/5.34.0/x86_64-linux
/opt/perl-5.34.0/lib/5.34.0
.