Report for Sys-Info-Driver-Windows-0.78

Back
From: metabase:user:30ae4450-2aae-11df-837a-5e0a49663a4f
Subject: PASS Sys-Info-Driver-Windows-0.78 v5.10.1 
Date: 2013-02-28T00:54:01Z

This distribution has been tested as part of the CPAN Testers
project, supporting the Perl programming language.  See
http://wiki.cpantesters.org/ for more information or email
questions to cpan-testers-discuss@perl.org


--
Dear Burak Gursoy,

This is a computer-generated report for Sys-Info-Driver-Windows-0.78
on perl 5.10.1, created by CPAN-Reporter-1.2009.

Thank you for uploading your work to CPAN.  Congratulations!
All tests were successful.

Sections of this report:

    * Tester comments
    * Program output
    * Prerequisites
    * Environment and other context

------------------------------
TESTER COMMENTS
------------------------------

Additional comments from tester:

this report is from an automated smoke testing program
and was not reviewed by a human for accuracy

------------------------------
PROGRAM OUTPUT
------------------------------

Output from 'C:\strawberry\perl\bin\perl.exe ./Build test':

t\03-basic.t .......... ok
# %SYSTEM_INFO = (
#                  'wProcessBitness' => 32,
#                  'lpMinimumApplicationAddress' => 65536,
#                  'dwPageSize' => 4096,
#                  'wProcessorStepping' => '3',
#                  'wProcessorArchitecture' => 0,
#                  'dwNumberOfProcessors' => 1,
#                  'wProcessorRevision' => 1283,
#                  'dwProcessorType' => 586,
#                  'wProcessorLevel' => 16,
#                  'wProcessorModel' => '5',
#                  'wProcessorBitness' => -1,
#                  'dwOemId' => 0,
#                  'lpMaximumApplicationAddress' => 2147418111,
#                  'wProcessorArchitecture2' => 'x86 or x86-64',
#                  'dwActiveProcessorMask' => 1
#                );
# CPU: x86 or x86-64 Family 16 Model 5 Stepping 3
# Minimum Application Address: 10000
# Maximum Application Address: 7ffeffff
# %FEATURES = (
#               'Extendedfamily' => 1,
#               'Flags' => 4009126937,
#               'KFBits' => 2358783,
#               'String' => 'AuthenticAMD',
#               'SSE3NewInstructions' => 1,
#               'BrandIndex' => 0,
#               'Family' => 15,
#               '____ebx' => 2048,
#               'Extendedmodel' => 0,
#               'Model' => 5,
#               'FeatureInfo' => 126614463,
#               '____ecx' => 9,
#               'ThermalMonitor2' => 0,
#               'BrandString' => 'AMD Phenom(tm) II X4 840 Processor',
#               'CPLQualifiedDebugStore' => 0,
#               'APICPhysicalID' => 0,
#               'L2Associativity' => 8,
#               'ProcessorType' => 0,
#               'SteppingID' => 3,
#               'CpuFeatures' => 126614463,
#               'L2CacheLineSize' => 64,
#               'CLFLUSHcachelinesize' => 64,
#               'MONITOR_MWAIT' => 1,
#               'ExIds' => 2147483656,
#               'L2CacheSizeK' => 512,
#               'Ids' => 0,
#               'Count' => 4081148,
#               'FeatureFlags' => 130023423
#             );
t\04-metrics.t ........ ok
t\201-pod.t ........... ok
t\202-pod-coverage.t .. ok
All tests successful.
Files=4, Tests=122,  4 wallclock secs ( 0.01 usr +  0.02 sys =  0.03 CPU)
Result: PASS

------------------------------
PREREQUISITES
------------------------------

Prerequisite modules loaded:

requires:

    Module                     Need Have    
    -------------------------- ---- --------
    Config::General            0    2.51    
    ExtUtils::CBuilder         0    0.280202
    Sys::Info::Base            0.78 0.7802  
    Sys::Info::Driver::Unknown 0.78 0.78    
    Win32::OLE                 0    0.1709  
    Win32::TieRegistry         0    0.26    
    Win32API::Net              0    0.16    

build_requires:

    Module                     Need Have    
    -------------------------- ---- --------
    Capture::Tiny              0    0.21    
    ExtUtils::CBuilder         0    0.280202
    Test::More                 0.40 0.98    
    Test::Sys::Info            0.20 0.20    

configure_requires:

    Module                     Need Have    
    -------------------------- ---- --------
    Module::Build              0.38 0.4003  


------------------------------
ENVIRONMENT AND OTHER CONTEXT
------------------------------

Environment variables:

    AUTOMATED_TESTING = 1
    COMSPEC = C:\WINDOWS\system32\cmd.exe
    NUMBER_OF_PROCESSORS = 1
    PATH = C:\Program Files\Far Manager\;C:\WINDOWS\system32;C:\WINDOWS;C:\WINDOWS\System32\Wbem;C:\strawberry\c\bin;C:\strawberry\perl\site\bin;C:\strawberry\perl\bin
    PERL5LIB = 
    PERL5OPT = 
    PERL5_CPANPLUS_IS_RUNNING = 284
    PERL5_CPAN_IS_RUNNING = 284
    PERL5_CPAN_IS_RUNNING_IN_RECURSION = 1800,284
    PERL_EXTUTILS_AUTOINSTALL = --defaultdeps
    PERL_JSON_BACKEND = JSON::XS
    PERL_MM_USE_DEFAULT = 1
    PERL_YAML_BACKEND = YAML
    PROCESSOR_IDENTIFIER = x86 Family 16 Model 5 Stepping 3, AuthenticAMD
    TEMP = C:\DOCUME~1\c\LOCALS~1\Temp
    TERM = dumb

Perl special variables (and OS-specific diagnostics, for MSWin32):

    $^X = C:\strawberry\perl\bin\perl.exe
    $UID/$EUID = 0 / 0
    $GID = 0
    $EGID = 0
    Win32::GetOSName = WinXP/.Net
    Win32::GetOSVersion = Service Pack 3, 5, 1, 2600, 2, 3, 0, 256, 1
    Win32::FsType = NTFS
    Win32::IsAdminUser = 1

Perl module toolchain versions installed:

    Module              Have    
    ------------------- --------
    CPAN                1.9800  
    CPAN::Meta          2.120921
    Cwd                 3.40    
    ExtUtils::CBuilder  0.280202
    ExtUtils::Command   1.17    
    ExtUtils::Install   1.54    
    ExtUtils::MakeMaker 6.64    
    ExtUtils::Manifest  1.60    
    ExtUtils::ParseXS   3.18    
    File::Spec          3.40    
    JSON                2.53    
    JSON::PP            2.27200 
    Module::Build       0.4003  
    Module::Signature   0.66    
    Parse::CPAN::Meta   1.4404  
    Test::Harness       3.23    
    Test::More          0.98    
    YAML                0.84    
    YAML::Syck          1.22    
    version             0.9901  


--

Summary of my perl5 (revision 5 version 10 subversion 1) configuration:
   
  Platform:
    osname=MSWin32, osvers=5.1, archname=MSWin32-x86-multi-thread
    uname='Win32 strawberryperl 5.10.1.5 #1 Sun May 15 09:44:53 2011 i386'
    config_args='undef'
    hint=recommended, useposix=true, d_sigaction=undef
    useithreads=define, usemultiplicity=define
    useperlio=define, d_sfio=undef, uselargefiles=define, usesocks=undef
    use64bitint=undef, use64bitall=undef, uselongdouble=undef
    usemymalloc=n, bincompat5005=undef
  Compiler:
    cc='gcc', ccflags =' -s -O2 -DWIN32 -DHAVE_DES_FCRYPT  -DUSE_SITECUSTOMIZE -DPERL_IMPLICIT_CONTEXT -DPERL_IMPLICIT_SYS -fno-strict-aliasing -DPERL_MSVCRT_READFIX',
    optimize='-s -O2',
    cppflags='-DWIN32'
    ccversion='', gccversion='3.4.5', gccosandvers=''
    intsize=4, longsize=4, ptrsize=4, doublesize=8, byteorder=1234
    d_longlong=undef, longlongsize=8, d_longdbl=define, longdblsize=12
    ivtype='long', ivsize=4, nvtype='double', nvsize=8, Off_t='long long', lseeksize=8
    alignbytes=8, prototype=define
  Linker and Libraries:
    ld='g++', ldflags ='-s -L"C:\strawberry\perl\lib\CORE" -L"C:\strawberry\c\lib"'
    libpth=C:\strawberry\c\lib
    libs= -lmoldname -lkernel32 -luser32 -lgdi32 -lwinspool -lcomdlg32 -ladvapi32 -lshell32 -lole32 -loleaut32 -lnetapi32 -luuid -lws2_32 -lmpr -lwinmm -lversion -lodbc32 -lodbccp32
    perllibs= -lmoldname -lkernel32 -luser32 -lgdi32 -lwinspool -lcomdlg32 -ladvapi32 -lshell32 -lole32 -loleaut32 -lnetapi32 -luuid -lws2_32 -lmpr -lwinmm -lversion -lodbc32 -lodbccp32
    libc=, so=dll, useshrplib=true, libperl=libperl510.a
    gnulibc_version=''
  Dynamic Linking:
    dlsrc=dl_win32.xs, dlext=dll, d_dlsymun=undef, ccdlflags=' '
    cccdlflags=' ', lddlflags='-mdll -s -L"C:\strawberry\perl\lib\CORE" -L"C:\strawberry\c\lib"'


Characteristics of this binary (from libperl): 
  Compile-time options: MULTIPLICITY PERL_DONT_CREATE_GVSV
                        PERL_IMPLICIT_CONTEXT PERL_IMPLICIT_SYS
                        PERL_MALLOC_WRAP PL_OP_SLAB_ALLOC USE_ITHREADS
                        USE_LARGE_FILES USE_PERLIO USE_SITECUSTOMIZE
  Built under MSWin32
  Compiled at May 15 2011 09:50:23
  %ENV:
    PERL5_CPANPLUS_IS_RUNNING="284"
    PERL5_CPAN_IS_RUNNING="284"
    PERL5_CPAN_IS_RUNNING_IN_RECURSION="1800,284"
    PERL_EXTUTILS_AUTOINSTALL="--defaultdeps"
    PERL_JSON_BACKEND="JSON::XS"
    PERL_MM_USE_DEFAULT="1"
    PERL_YAML_BACKEND="YAML"
  @INC:
    C:/strawberry/perl/lib
    C:/strawberry/perl/site/lib
    C:\strawberry\perl\vendor\lib
    .