Report for Pod-Simple-3.32

Back
From: metabase:user:314402c4-2aae-11df-837a-5e0a49663a4f
Subject: PASS Pod-Simple-3.32 v5.14.4 FreeBSD
Date: 2016-05-31T09:44:12Z

This distribution has been tested as part of the CPAN Testers
project, supporting the Perl programming language.  See
http://wiki.cpantesters.org/ for more information or email
questions to cpan-testers-discuss@perl.org


--
Dear Marc Green,

This is a computer-generated report for Pod-Simple-3.32
on perl 5.14.4, created by CPAN-Reporter-1.2017.

Thank you for uploading your work to CPAN.  Congratulations!
All tests were successful.

Sections of this report:

    * Tester comments
    * Program output
    * Prerequisites
    * Environment and other context

------------------------------
TESTER COMMENTS
------------------------------

Additional comments from tester:

none provided

------------------------------
PROGRAM OUTPUT
------------------------------

Output from '/usr/bin/make test':

PERL_DL_NONLAZY=1 "/usr/local/bin/perl5.14.4" "-MExtUtils::Command::MM" "-MTest::Harness" "-e" "undef *Test::Harness::Switches; test_harness(0, 'blib/lib', 'blib/arch')" t/*.t
t/00about.t ....... ok
t/20_skip.t ....... ok
t/ac_d.t .......... ok
t/accept01.t ...... ok
t/accept05.t ...... ok
t/basic.t ......... ok
t/begin.t ......... ok
t/cbacks.t ........ ok
t/chunking.t ...... ok
t/closeys.t ....... ok
t/corpus.t ........ ok
t/emptylists.t .... ok
t/enc-chars.t ..... ok
t/encod01.t ....... ok
t/encod02.t ....... ok
t/encod03.t ....... ok
# Failed test 4 in t/encod04.t at line 130 *TODO*
#  t/encod04.t line 130 is:             ok 0;
# parser guessed wrong encoding expected 'CP1252' got 'UTF-8'
t/encod04.t ....... ok
t/end_over.t ...... ok
t/eol.t ........... ok
t/eol2.t .......... ok
t/fake-closers.t .. ok
t/fcodes.t ........ ok
t/fcodes_e.t ...... ok
t/fcodes_l.t ...... ok
t/fcodes_s.t ...... ok
t/for.t ........... ok
t/fornot.t ........ ok
t/heads.t ......... ok
t/html01.t ........ ok
t/html02.t ........ ok
t/html03.t ........ ok
t/htmlbat.t ....... ok
t/items.t ......... ok
t/items02.t ....... ok
t/itemstar.t ...... ok
t/linkclas.t ...... ok
t/output.t ........ ok
t/puller.t ........ ok
t/pulltitl.t ...... ok
t/reinit.t ........ ok
t/render.t ........ ok
t/search05.t ...... ok
t/search10.t ...... ok
t/search12.t ...... ok
t/search20.t ...... ok
t/search22.t ...... ok
t/search25.t ...... ok
t/search26.t ...... ok
t/search27.t ...... ok
t/search28.t ...... ok
t/search29.t ...... ok
t/search50.t ...... ok
t/stree.t ......... ok
t/strpvbtm.t ...... ok
t/tiedfh.t ........ ok
t/verb_fmt.t ...... ok
t/verbatim.t ...... ok
t/whine.t ......... ok
t/x_nixer.t ....... ok
t/xhtml-bkb.t ..... ok
t/xhtml01.t ....... ok
t/xhtml05.t ....... ok
t/xhtml10.t ....... ok
t/xhtml15.t ....... ok
t/xhtml20.t ....... ok
All tests successful.
Files=65, Tests=8715, 13 wallclock secs ( 1.21 usr  0.15 sys +  7.93 cusr  4.06 csys = 13.35 CPU)
Result: PASS

------------------------------
PREREQUISITES
------------------------------

Prerequisite modules loaded:

requires:

    Module              Need      Have     
    ------------------- --------- ---------
    Carp                0         1.38     
    Config              0         0        
    Cwd                 0         3.36     
    File::Basename      0         2.82     
    File::Find          0         1.19     
    File::Spec          0         3.33     
    integer             0         1.00     
    overload            0         1.13     
    Pod::Escapes        1.04      1.04     
    strict              0         1.04     
    Symbol              0         1.07     
    Test                1.25      1.25_02  
    Test::More          0         1.302022 
    Text::Wrap          98.112902 2009.0305

build_requires:

    Module              Need      Have     
    ------------------- --------- ---------
    ExtUtils::MakeMaker 0         7.18     


------------------------------
ENVIRONMENT AND OTHER CONTEXT
------------------------------

Environment variables:

    LC_ALL = de_DE.UTF-8
    PATH = /usr/local/bin:/usr/bin:/bin:/usr/local/sbin:/usr/sbin:/sbin:/home/eserte/bin/freebsd10.1:/home/eserte/bin/sh:/home/eserte/bin:/home/eserte/bin/pistachio-perl/bin:/usr/games:/home/eserte/devel:/usr/home/eserte/src/srezic-misc/scripts
    PERL5LIB = 
    PERL5OPT = 
    PERL5_CPANPLUS_IS_RUNNING = 90885
    PERL5_CPAN_IS_RUNNING = 90885
    PERL5_CPAN_IS_RUNNING_IN_RECURSION = 1712,90885
    PERLDOC = -MPod::Perldoc::ToTextOverstrike
    PERL_BATCH = yes
    PERL_CANARY_STABILITY_NOPROMPT = 1
    PERL_CPAN_REPORTER_CONFIG = /var/tmp/cpansmoker-1002/2016053103/cpanreporter_005_config.ini
    PERL_EXTUTILS_AUTOINSTALL = --defaultdeps
    PERL_PARALLEL_SMOKER = yes
    SHELL = /usr/local/bin/zsh
    TERM = screen
    TMPDIR = /var/tmp/cpansmoker-1002/2016053103

Perl special variables (and OS-specific diagnostics, for MSWin32):

    $^X = /usr/local/bin/perl5.14.4
    $UID/$EUID = 1002 / 1002
    $GID = 1002 1002
    $EGID = 1002 1002

Perl module toolchain versions installed:

    Module              Have     
    ------------------- ---------
    CPAN                1.9600_01
    CPAN::Meta          2.143240 
    Cwd                 3.36     
    ExtUtils::CBuilder  0.280203 
    ExtUtils::Command   7.18     
    ExtUtils::Install   1.56     
    ExtUtils::MakeMaker 7.18     
    ExtUtils::Manifest  1.70     
    ExtUtils::ParseXS   3.30     
    File::Spec          3.33     
    JSON                2.90     
    JSON::PP            2.27400  
    Module::Build       0.4218   
    Module::Signature   n/a      
    Parse::CPAN::Meta   1.4414   
    Test::Harness       3.36     
    Test::More          1.302022 
    YAML                1.15     
    YAML::Syck          1.29     
    version             0.9917   


--

Summary of my perl5 (revision 5 version 14 subversion 4) configuration:
   
  Platform:
    osname=freebsd, osvers=10.3-release, archname=amd64-freebsd
    uname='freebsd freebsd103 10.3-release freebsd 10.3-release #0 r297264: fri mar 25 02:10:02 utc 2016 root@releng1.nyi.freebsd.org:usrobjusrsrcsysgeneric amd64 '
    config_args='-ds -e -Dprefix=/usr/perl5.14.4p -Dcf_email=srezic@cpan.org -Doptimize=-O2 -pipe'
    hint=recommended, useposix=true, d_sigaction=define
    useithreads=undef, usemultiplicity=undef
    useperlio=define, d_sfio=undef, uselargefiles=define, usesocks=undef
    use64bitint=define, use64bitall=define, uselongdouble=undef
    usemymalloc=n, bincompat5005=undef
  Compiler:
    cc='cc', ccflags ='-DHAS_FPSETMASK -DHAS_FLOATINGPOINT_H -fno-strict-aliasing -pipe -fstack-protector -I/usr/local/include',
    optimize='-O2 -pipe',
    cppflags='-DHAS_FPSETMASK -DHAS_FLOATINGPOINT_H -fno-strict-aliasing -pipe -fstack-protector -I/usr/local/include'
    ccversion='', gccversion='4.2.1 Compatible FreeBSD Clang 3.4.1 (tags/RELEASE_34/dot1-final 208032)', gccosandvers=''
    intsize=4, longsize=8, ptrsize=8, doublesize=8, byteorder=12345678
    d_longlong=define, longlongsize=8, d_longdbl=define, longdblsize=16
    ivtype='long', ivsize=8, nvtype='double', nvsize=8, Off_t='off_t', lseeksize=8
    alignbytes=8, prototype=define
  Linker and Libraries:
    ld='cc', ldflags ='-pthread -Wl,-E  -fstack-protector -L/usr/local/lib'
    libpth=/usr/lib /usr/local/lib
    libs=-lm -lcrypt -lutil -lc
    perllibs=-lm -lcrypt -lutil -lc
    libc=, so=so, useshrplib=false, libperl=libperl.a
    gnulibc_version=''
  Dynamic Linking:
    dlsrc=dl_dlopen.xs, dlext=so, d_dlsymun=undef, ccdlflags=' '
    cccdlflags='-DPIC -fPIC', lddlflags='-shared  -L/usr/local/lib -fstack-protector'


Characteristics of this binary (from libperl): 
  Compile-time options: PERL_DONT_CREATE_GVSV PERL_MALLOC_WRAP
                        PERL_PRESERVE_IVUV USE_64_BIT_ALL USE_64_BIT_INT
                        USE_LARGE_FILES USE_PERLIO USE_PERL_ATOF
  Locally applied patches:
	Devel::PatchPerl 1.42
  Built under freebsd
  Compiled at May 30 2016 22:08:16
  %ENV:
    PERL5LIB=""
    PERL5OPT=""
    PERL5_CPANPLUS_IS_RUNNING="90885"
    PERL5_CPAN_IS_RUNNING="90885"
    PERL5_CPAN_IS_RUNNING_IN_RECURSION="1712,90885"
    PERLDOC="-MPod::Perldoc::ToTextOverstrike"
    PERL_BATCH="yes"
    PERL_CANARY_STABILITY_NOPROMPT="1"
    PERL_CPAN_REPORTER_CONFIG="/var/tmp/cpansmoker-1002/2016053103/cpanreporter_005_config.ini"
    PERL_EXTUTILS_AUTOINSTALL="--defaultdeps"
    PERL_PARALLEL_SMOKER="yes"
  @INC:
    /usr/perl5.14.4p/lib/site_perl/5.14.4/amd64-freebsd
    /usr/perl5.14.4p/lib/site_perl/5.14.4
    /usr/perl5.14.4p/lib/5.14.4/amd64-freebsd
    /usr/perl5.14.4p/lib/5.14.4
    .