Crypt-OpenSSL-PKCS10 v0.30-TRIAL Perl 5 v5.24.0 OpenBSD.amd64-openbsd
- Status
- Pass
- From
- Chris Williams (BINGOS)
- Dist
-
Crypt-OpenSSL-PKCS10 v0.30-TRIAL
- Platform
- Perl 5 v5.24.0 OpenBSD.amd64-openbsd
- Date
- 2025-01-26 12:15:29
- ID
- 3b45da8e-dbdf-11ef-98b0-b3c3213a625c
This distribution has been tested as part of the CPAN Testers
project, supporting the Perl programming language. See
http://wiki.cpantesters.org/ for more information or email
questions to cpan-testers-discuss@perl.org
--
Dear TIMLEGGE,
This is a computer-generated error report created automatically by
CPANPLUS, version 0.9914. Testers personal comments may appear
at the end of this report.
Thank you for uploading your work to CPAN. Congratulations!
All tests were successful.
TEST RESULTS:
Below is the error stack from stage 'make test':
"/home/cpan/pit/bare/perl-5.24.0/bin/perl" -MExtUtils::Command::MM -e 'cp_nonempty' -- PKCS10.bs blib/arch/auto/Crypt/OpenSSL/PKCS10/PKCS10.bs 644
PERL_DL_NONLAZY=1 "/home/cpan/pit/bare/perl-5.24.0/bin/perl" "-MExtUtils::Command::MM" "-MTest::Harness" "-e" "undef *Test::Harness::Switches; test_harness(0, 'blib/lib', 'blib/arch')" t/*.t
# LibreSSL 3.7.2
t/00-openssl-version.t .. ok
t/10-rsa-keys.t ......... ok
t/20-ec.t ............... ok
t/30-ec-keys.t .......... ok
t/author-pod-spell.t .... skipped: these tests are for testing by the author
t/author-pod-syntax.t ... skipped: these tests are for testing by the author
-----BEGIN CERTIFICATE REQUEST-----
MIIBPzCBqQIBADAAMIGfMA0GCSqGSIb3DQEBAQUAA4GNADCBiQKBgQC4cW4w0Y/y
Ek5ioMc1hweirKehLOjrp1tLGPU1Yd7QlXD5bc1+Kh+5WojA6tU882Nu/gkhNUYw
3Xyr3iIYWLEvGOLs0WdXSvg7IJTDYzDmEXkGvPQ60H3Oa86xvDhG02BuQFC8UwnZ
w6+t4AkyzYt1qJ7WpYpQ8FvigFC6SxT4ZwIDAQABoAAwDQYJKoZIhvcNAQELBQAD
gYEAHmMote/zTMEdsPJA/0Eo9BOVxiHZR5TMtZde6ACJrpwto11tdFYFu3c/KMhS
Z3ovVh8Yf/dxDkq0dGfQOvAmgU0sYoiw1rh4rdPbW7BI/XUFiDjqsfQHeuMtHSa4
+UiMxOzCfJWAhtg9kMKn/p+Y6e0dGuwjsURKlJKMNpO8L9A=
-----END CERTIFICATE REQUEST-----
-----BEGIN PRIVATE KEY-----
MIICdwIBADANBgkqhkiG9w0BAQEFAASCAmEwggJdAgEAAoGBALhxbjDRj/ISTmKg
xzWHB6Ksp6Es6OunW0sY9TVh3tCVcPltzX4qH7laiMDq1TzzY27+CSE1RjDdfKve
IhhYsS8Y4uzRZ1dK+DsglMNjMOYReQa89DrQfc5rzrG8OEbTYG5AULxTCdnDr63g
CTLNi3WontalilDwW+KAULpLFPhnAgMBAAECgYByFyA9LHQpHi/EjIWNU9BiTQCI
D3qowmYTZwXPFpI4Xih68fPp9e6XvivXgauTv04jixpko0qe0XLb8VUP0FUQqlpx
bwm1szKcSkf7MDBa4oJPYBLB2uv1EmGnIO/7oMY0LMwELJ0+G0hxmiNkWNO6Zon6
cx2xCKT9m3gYnQSKqQJBAOtUkb0uIMPckzZYz+KWeSMAg06vE3KgtGEc3ce9Xj0w
iyKL/Bx/p4lYt8uV93J23y+0Sy7COXbWqiV6hjbR85MCQQDIpKex2VXehfh5lLKq
h+DPmI/xyJYc+qyqWy2KdVxImmnlNGlD8zcBRLY+wPPh3YU2RchaCqS/6ZmtYXjM
GBRdAkEAiDL37k/GMtV0dh3Mo02HapSfami1jsAn5ZS5XyLgafWwcRwnm67eHgW0
yiVPg3X9EjT81mEetQLkkrBpAU1d9QJAdyki1wMmdlPGcB6ZxaGRKHmI86WXUXqm
1T31XAe7WPsr7Q4lfk+R2VT/j2F09i1jkgn7pU4w7jFELa532W5rmQJBAM9PamWF
Fp3XSl/fq8H7iS2V0MY+MwElCbE9WvQgqGFh14RUGc8o5KtlBuG5Z0LqnikbzoUs
ROsfKlR7jD7fUo8=
-----END PRIVATE KEY-----
RSA Public-Key: (1024 bit)
Modulus:
-----BEGIN CERTIFICATE REQUEST-----
MIIBPzCBqQIBADAAMIGfMA0GCSqGSIb3DQEBAQUAA4GNADCBiQKBgQD0loSFgcZ/
eLl0+R29/CYeH7p2cFGOcPiP/OTW1u009OnwnaVS9RDCes4ljD9vDLOZZYW6X6VQ
5XZe3ivBA2Xh9mD6wiFupLYDVo4G+KijeNnXNVpmAF3HNUd9L931erHXPb/yCitR
8q43o6d/oVxVu1q7NeVNfJs/SJZwaRlG3QIDAQABoAAwDQYJKoZIhvcNAQELBQAD
gYEA12DYX8CzYYhSzbayq3LKyeguItXqX3GNUpa+flZmzjnTya9FtMPV+F8n5lSE
xIdCu9vAENTYpbiCYH0t+mi1kFF09pmpK1NWEjDLpw5T2c0EH39AvQucb/wk2bI3
94nWIS8NQx+auLqqkOVSCXnNxv3kj8iuxEt2k8MEqd43j70=
-----END CERTIFICATE REQUEST-----
RSA Public-Key: (1024 bit)
Modulus:
rsa
-----BEGIN PUBLIC KEY-----
MIGfMA0GCSqGSIb3DQEBAQUAA4GNADCBiQKBgQD0loSFgcZ/eLl0+R29/CYeH7p2
cFGOcPiP/OTW1u009OnwnaVS9RDCes4ljD9vDLOZZYW6X6VQ5XZe3ivBA2Xh9mD6
wiFupLYDVo4G+KijeNnXNVpmAF3HNUd9L931erHXPb/yCitR8q43o6d/oVxVu1q7
NeVNfJs/SJZwaRlG3QIDAQAB
-----END PUBLIC KEY-----
-----BEGIN CERTIFICATE REQUEST-----
MIIBPzCBqQIBADAAMIGfMA0GCSqGSIb3DQEBAQUAA4GNADCBiQKBgQCbY6rX+I8r
sz2YZJrt/eaXOHZO3b4Zf+I81tXnYE6TQ1pYfl63AZLVMnRW0+oi2+cJkemzMYyl
i2N9RvXNwxuvOdnHEdoUaCB9z4ORl1si7tEZ1+iyuRhQJiWdlHKWEa9vwLB2yXmK
90mj6SY/UivvCCPDE4EgxBt06hN/61a6VQIDAQABoAAwDQYJKoZIhvcNAQEMBQAD
gYEASdBS9YNML2irBpUnekGpwTwRk14LKov0ZhM/Jtn/Wbmk9a3NDmqJNh8lTixx
hrRVW79uCbZ4b4CBXdYX4tlikFaFRda2ltjfYPsnQiIkDYsxdx8EnkJ1+0tDGn0M
DNBh9DDEi2KCfxKwTUqMk4u2rk8J6CUEf2NfC9ni75Tp+dg=
-----END CERTIFICATE REQUEST-----
RSA Public-Key: (1024 bit)
Modulus:
rsa
-----BEGIN PUBLIC KEY-----
MIGfMA0GCSqGSIb3DQEBAQUAA4GNADCBiQKBgQCbY6rX+I8rsz2YZJrt/eaXOHZO
3b4Zf+I81tXnYE6TQ1pYfl63AZLVMnRW0+oi2+cJkemzMYyli2N9RvXNwxuvOdnH
EdoUaCB9z4ORl1si7tEZ1+iyuRhQJiWdlHKWEa9vwLB2yXmK90mj6SY/UivvCCPD
E4EgxBt06hN/61a6VQIDAQAB
-----END PUBLIC KEY-----
-----BEGIN CERTIFICATE REQUEST-----
MIICJzCCAZACAQAwKTELMAkGA1UEBhMCUk8xDDAKBgNVBAoMA1VUSTEMMAoGA1UE
CwwDc3NpMIGfMA0GCSqGSIb3DQEBAQUAA4GNADCBiQKBgQDlM6vzxnC7nPL4tlXH
RWLLRi8jOhOpz7fCzS5vOXaZWW5+Qit2lJkyIUryJhoZvZDnn8eJSVn4z8vhxv4e
eHPl6wYv6w3bVQEhAN+USJxIGlzVHyNmhzjB/yX0yhJkfi9eA+lE9+mEdiOmDqWJ
rPwLPAQCe37GTA2DENT/HxpOTwIDAQABoIG9MIG6BgkqhkiG9w0BCQ4xgawwgakw
DgYDVR0PAQH/BAQDAgWgMC4GA1UdJQQnMCUGCCsGAQUFBwMBBglghkgBhvhCBAEG
CisGAQQBgjcKAwMGAisEMBwGA1UdEQQVMBOBEXN0ZXZlQG9wZW5zc2wub3JnMB0G
A1UdDgQWBBQyiqsUHToDjY6CX2ZPK6AiKsRcDDAZBgMqAwMEEhYQTXkgbmV3IGV4
dGVuc2lvbjAPBgMqAwQECB4GAGEAYgBjMA0GCSqGSIb3DQEBCwUAA4GBAE5gy58h
YSKK6X8eyFCYRMLS40y/YORe4x6vg3+UygnbGxN8bA75+FcxUPvYsIkhUplYghlD
qQMDYXie1EhB8ZGfpMQErtVAKipvE3Q07/FtCK0nYTpG3zG9IzEPIGX15QpJkvZc
46K9jSxNjOTNy358j9/wfg5EGyxvgEmvwglx
-----END CERTIFICATE REQUEST-----
RSA Public-Key: (1024 bit)
Modulus:
-----BEGIN PUBLIC KEY-----
MIGfMA0GCSqGSIb3DQEBAQUAA4GNADCBiQKBgQDlM6vzxnC7nPL4tlXHRWLLRi8j
OhOpz7fCzS5vOXaZWW5+Qit2lJkyIUryJhoZvZDnn8eJSVn4z8vhxv4eeHPl6wYv
6w3bVQEhAN+USJxIGlzVHyNmhzjB/yX0yhJkfi9eA+lE9+mEdiOmDqWJrPwLPAQC
e37GTA2DENT/HxpOTwIDAQAB
-----END PUBLIC KEY-----
t/Mytest.t .............. ok
t/release-kwalitee.t .... skipped: these tests are for release candidate testing
t/release-meta-json.t ... skipped: these tests are for release candidate testing
All tests successful.
Files=9, Tests=720, 20 wallclock secs ( 0.16 usr 0.00 sys + 16.97 cusr 3.41 csys = 20.54 CPU)
Result: PASS
PREREQUISITES:
Here is a list of prerequisites you specified and versions we
managed to load:
Module Name Have Want
Crypt::OpenSSL::Guess 0.15 0.11
Crypt::OpenSSL::RSA 0.33 0
Exporter 5.72 0
File::Slurper 0.014 0
File::Spec::Functions 3.75 0
File::Temp 0.2311 0
Import::Into 1.002005 0
Test::Lib 0.003 0
Test::More 1.302200 0
XSLoader 0.21 0
Perl module toolchain versions installed:
Module Name Have
CPANPLUS 0.9914
CPANPLUS::Dist::Build 0.90
Cwd 3.75
ExtUtils::CBuilder 0.280236
ExtUtils::Command 7.70
ExtUtils::Install 2.22
ExtUtils::MakeMaker 7.70
ExtUtils::Manifest 1.75
ExtUtils::ParseXS 3.51
File::Spec 3.75
Module::Build 0.4234
Pod::Parser 1.63
Pod::Simple 3.32
Test2 1.302200
Test::Harness 3.48
Test::More 1.302200
version 0.9932
******************************** NOTE ********************************
The comments above are created mechanically, possibly without manual
checking by the sender. As there are many people performing automatic
tests on each upload to CPAN, it is likely that you will receive
identical messages about the same problem.
If you believe that the message is mistaken, please reply to the first
one with correction and/or additional informations, and do not take
it personally. We appreciate your patience. :)
**********************************************************************
Additional comments:
This report was machine-generated by CPANPLUS::Dist::YACSmoke 1.08.
Powered by minismokebox version 0.68
CPANPLUS is prefering Build.PL
------------------------------
ENVIRONMENT AND OTHER CONTEXT
------------------------------
Environment variables:
AUTOMATED_TESTING = 1
NONINTERACTIVE_TESTING = 1
PATH = /home/cpan/bin:/bin:/sbin:/usr/bin:/usr/sbin:/usr/X11R6/bin:/usr/local/bin:/usr/local/sbin
PERL5LIB = /home/cpan/pit/jail/WFtMCRIDyx/lib/perl5:/home/cpan/pit/bare/conf/perl-5.24.0/.cpanplus/5.24.0/build/dop_MkbmAN/Crypt-OpenSSL-PKCS10-0.30/blib/lib:/home/cpan/pit/bare/conf/perl-5.24.0/.cpanplus/5.24.0/build/dop_MkbmAN/Crypt-OpenSSL-PKCS10-0.30/blib/arch
PERL5_CPANPLUS_IS_RUNNING = 32826
PERL5_CPANPLUS_IS_VERSION = 0.9914
PERL5_MINISMOKEBOX = 0.68
PERL5_YACSMOKE_BASE = /home/cpan/pit/bare/conf/perl-5.24.0
PERL_EXTUTILS_AUTOINSTALL = --defaultdeps
PERL_LOCAL_LIB_ROOT = /home/cpan/pit/jail/WFtMCRIDyx
PERL_MB_OPT = --install_base "/home/cpan/pit/jail/WFtMCRIDyx"
PERL_MM_OPT = INSTALL_BASE=/home/cpan/pit/jail/WFtMCRIDyx
PERL_MM_USE_DEFAULT = 1
SHELL = /usr/local/bin/bash
TERM = screen.xterm-256color
Perl special variables (and OS-specific diagnostics, for MSWin32):
Perl: $^X = /home/cpan/pit/bare/perl-5.24.0/bin/perl
UID: $< = 1001
EUID: $> = 1001
GID: $( = 1001 1001
EGID: $) = 1001 1001
-------------------------------
--
Summary of my perl5 (revision 5 version 24 subversion 0) configuration:
Platform:
osname=openbsd, osvers=7.3, archname=OpenBSD.amd64-openbsd
uname='openbsd overture.bingosnet.co.uk 7.3 generic#1072 amd64 '
config_args='-des -Dprefix=/home/cpan/pit/bare/perl-5.24.0'
hint=recommended, useposix=true, d_sigaction=define
useithreads=undef, usemultiplicity=undef
use64bitint=define, use64bitall=define, uselongdouble=undef
usemymalloc=n, bincompat5005=undef
Compiler:
cc='cc', ccflags ='-fno-strict-aliasing -pipe -fstack-protector-strong -I/usr/local/include',
optimize='-O2',
cppflags='-fno-strict-aliasing -pipe -fstack-protector-strong -I/usr/local/include'
ccversion='', gccversion='OpenBSD Clang 13.0.0', gccosandvers=''
intsize=4, longsize=8, ptrsize=8, doublesize=8, byteorder=12345678, doublekind=3
d_longlong=define, longlongsize=8, d_longdbl=define, longdblsize=16, longdblkind=3
ivtype='long', ivsize=8, nvtype='double', nvsize=8, Off_t='off_t', lseeksize=8
alignbytes=8, prototype=define
Linker and Libraries:
ld='cc', ldflags ='-Wl,-E -fstack-protector-strong -L/usr/local/lib'
libpth=/usr/lib/clang/13.0.0/lib /usr/lib /usr/local/lib
libs=-lpthread -lgdbm -lm -lutil -lc
perllibs=-lpthread -lm -lutil -lc
libc=/usr/lib/libc.so.97.0, so=so, useshrplib=false, libperl=libperl.a
gnulibc_version=''
Dynamic Linking:
dlsrc=dl_dlopen.xs, dlext=so, d_dlsymun=undef, ccdlflags=' '
cccdlflags='-DPIC -fPIC ', lddlflags='-shared -fPIC -L/usr/local/lib -fstack-protector-strong'
Characteristics of this binary (from libperl):
Compile-time options: HAS_TIMES PERLIO_LAYERS PERL_COPY_ON_WRITE
PERL_DONT_CREATE_GVSV
PERL_HASH_FUNC_ONE_AT_A_TIME_HARD PERL_MALLOC_WRAP
PERL_PRESERVE_IVUV USE_64_BIT_ALL USE_64_BIT_INT
USE_LARGE_FILES USE_LOCALE USE_LOCALE_COLLATE
USE_LOCALE_CTYPE USE_LOCALE_NUMERIC USE_LOCALE_TIME
USE_PERLIO USE_PERL_ATOF
Locally applied patches:
Devel::PatchPerl 2.08
Built under openbsd
Compiled at May 29 2023 21:08:29
%ENV:
PERL5LIB="/home/cpan/pit/jail/WFtMCRIDyx/lib/perl5:/home/cpan/pit/bare/conf/perl-5.24.0/.cpanplus/5.24.0/build/dop_MkbmAN/Crypt-OpenSSL-PKCS10-0.30/blib/lib:/home/cpan/pit/bare/conf/perl-5.24.0/.cpanplus/5.24.0/build/dop_MkbmAN/Crypt-OpenSSL-PKCS10-0.30/blib/arch"
PERL5_CPANPLUS_IS_RUNNING="32826"
PERL5_CPANPLUS_IS_VERSION="0.9914"
PERL5_MINISMOKEBOX="0.68"
PERL5_YACSMOKE_BASE="/home/cpan/pit/bare/conf/perl-5.24.0"
PERL_EXTUTILS_AUTOINSTALL="--defaultdeps"
PERL_LOCAL_LIB_ROOT="/home/cpan/pit/jail/WFtMCRIDyx"
PERL_MB_OPT="--install_base "/home/cpan/pit/jail/WFtMCRIDyx""
PERL_MM_OPT="INSTALL_BASE=/home/cpan/pit/jail/WFtMCRIDyx"
PERL_MM_USE_DEFAULT="1"
@INC:
/home/cpan/pit/jail/WFtMCRIDyx/lib/perl5/5.24.0/OpenBSD.amd64-openbsd
/home/cpan/pit/jail/WFtMCRIDyx/lib/perl5/5.24.0
/home/cpan/pit/jail/WFtMCRIDyx/lib/perl5/OpenBSD.amd64-openbsd
/home/cpan/pit/jail/WFtMCRIDyx/lib/perl5
/home/cpan/pit/bare/conf/perl-5.24.0/.cpanplus/5.24.0/build/dop_MkbmAN/Crypt-OpenSSL-PKCS10-0.30/blib/lib
/home/cpan/pit/bare/conf/perl-5.24.0/.cpanplus/5.24.0/build/dop_MkbmAN/Crypt-OpenSSL-PKCS10-0.30/blib/arch
/home/cpan/pit/bare/perl-5.24.0/lib/site_perl/5.24.0/OpenBSD.amd64-openbsd
/home/cpan/pit/bare/perl-5.24.0/lib/site_perl/5.24.0
/home/cpan/pit/bare/perl-5.24.0/lib/5.24.0/OpenBSD.amd64-openbsd
/home/cpan/pit/bare/perl-5.24.0/lib/5.24.0
.