Unicode-Homoglyph-Replace v0.01 Perl 5 v5.39.2 x86_64-linux
- Status
- Pass
- From
- Andreas J. König (ANDK)
- Dist
-
Unicode-Homoglyph-Replace v0.01
- Platform
- Perl 5 v5.39.2 x86_64-linux
- Date
- 2023-08-23 20:25:42
- ID
- 3b64d97a-41f3-11ee-a06f-9ed419b5bd7e
This distribution has been tested as part of the CPAN Testers
project, supporting the Perl programming language. See
http://wiki.cpantesters.org/ for more information or email
questions to cpan-testers-discuss@perl.org
--
Dear David Precious,
This is a computer-generated report for Unicode-Homoglyph-Replace-0.01
on perl 5.39.2, created by CPAN-Reporter-1.2019.
Thank you for uploading your work to CPAN. Congratulations!
All tests were successful.
Sections of this report:
* Tester comments
* Program output
* Prerequisites
* Environment and other context
------------------------------
TESTER COMMENTS
------------------------------
Additional comments from tester:
this report is from an automated smoke testing program
and was not reviewed by a human for accuracy
------------------------------
PROGRAM OUTPUT
------------------------------
Output from '/usr/bin/make test':
PERL_DL_NONLAZY=1 "/tmp/basesmoker-reloperl-Dq7W/bin/perl" "-MExtUtils::Command::MM" "-MTest::Harness" "-e" "undef *Test::Harness::Switches; test_harness(0, 'blib/lib', 'blib/arch')" t/*.t
# Testing Unicode::Homoglyph::Replace 0.01, Perl 5.039002, /tmp/basesmoker-reloperl-Dq7W/bin/perl
t/00-load.t ....... ok
# Testing Unicode::Homoglyph::Replace 0.01, Perl 5.039002, /tmp/basesmoker-reloperl-Dq7W/bin/perl
Wide character in print at /home/sand/src/perl/repoperls/installed-perls/host/k93jammy/v5.39.2/6567/lib/5.39.2/Test2/Formatter/TAP.pm line 156.
Wide character in print at /home/sand/src/perl/repoperls/installed-perls/host/k93jammy/v5.39.2/6567/lib/5.39.2/Test2/Formatter/TAP.pm line 156.
Wide character in print at /home/sand/src/perl/repoperls/installed-perls/host/k93jammy/v5.39.2/6567/lib/5.39.2/Test2/Formatter/TAP.pm line 156.
Wide character in print at /home/sand/src/perl/repoperls/installed-perls/host/k93jammy/v5.39.2/6567/lib/5.39.2/Test2/Formatter/TAP.pm line 156.
Wide character in print at /home/sand/src/perl/repoperls/installed-perls/host/k93jammy/v5.39.2/6567/lib/5.39.2/Test2/Formatter/TAP.pm line 125.
# Take the time to make some sense => TðkᥱâÂÂtheàtÃÂâÂ
¿ÃµâÂÂtÿâÂÂ
mðkeâÂÂÃÂà ´ mõâÂÂsense
Wide character in print at /home/sand/src/perl/repoperls/installed-perls/host/k93jammy/v5.39.2/6567/lib/5.39.2/Test2/Formatter/TAP.pm line 156.
Wide character in print at /home/sand/src/perl/repoperls/installed-perls/host/k93jammy/v5.39.2/6567/lib/5.39.2/Test2/Formatter/TAP.pm line 125.
# Take the time to make some sense => äakeâÂÂthᥱàtÃÂmᥱâÂÂ
toâÂÂmðkeâÂÂÃÂoâÂ
¿ÃµâÂÂsᥱnsõ
Wide character in print at /home/sand/src/perl/repoperls/installed-perls/host/k93jammy/v5.39.2/6567/lib/5.39.2/Test2/Formatter/TAP.pm line 156.
Wide character in print at /home/sand/src/perl/repoperls/installed-perls/host/k93jammy/v5.39.2/6567/lib/5.39.2/Test2/Formatter/TAP.pm line 125.
# Take the time to make some sense => äðkᥱâ¯tûõàtÃÂâÂ
¿á¥±Ã tà ´ âÂÂmðkõ ÃÂâ²ÂmᥱâÂÂsõnsᥱ
Wide character in print at /home/sand/src/perl/repoperls/installed-perls/host/k93jammy/v5.39.2/6567/lib/5.39.2/Test2/Formatter/TAP.pm line 156.
Wide character in print at /home/sand/src/perl/repoperls/installed-perls/host/k93jammy/v5.39.2/6567/lib/5.39.2/Test2/Formatter/TAP.pm line 125.
# Take the time to make some sense => TÃÂkᥱâÂÂtheâÂÂtiâÂ
¿á¥±âÂÂtÿâ¯mðkõ sÿâÂ
¿á¥±âÂÂÃÂᥱá¥Âse
Wide character in print at /home/sand/src/perl/repoperls/installed-perls/host/k93jammy/v5.39.2/6567/lib/5.39.2/Test2/Formatter/TAP.pm line 156.
Wide character in print at /home/sand/src/perl/repoperls/installed-perls/host/k93jammy/v5.39.2/6567/lib/5.39.2/Test2/Formatter/TAP.pm line 125.
# Take the time to make some sense => âðkᥱâÂÂ
thõâÂÂtimeâÂÂtÿâÂÂâÂ
¿Ã°kᥱâÂÂsâ²ÂâÂ
¿eâÂÂ
sõnsõ
Wide character in print at /home/sand/src/perl/repoperls/installed-perls/host/k93jammy/v5.39.2/6567/lib/5.39.2/Test2/Formatter/TAP.pm line 156.
Wide character in print at /home/sand/src/perl/repoperls/installed-perls/host/k93jammy/v5.39.2/6567/lib/5.39.2/Test2/Formatter/TAP.pm line 125.
# Take the time to make some sense => á¢ÃÂkeâÂÂtûõâ¯tiâÂ
¿á¥±âÂÂtà ´ âÂÂâÂ
¿Ã°kõâÂÂsþmõ ÃÂense
Wide character in print at /home/sand/src/perl/repoperls/installed-perls/host/k93jammy/v5.39.2/6567/lib/5.39.2/Test2/Formatter/TAP.pm line 156.
Wide character in print at /home/sand/src/perl/repoperls/installed-perls/host/k93jammy/v5.39.2/6567/lib/5.39.2/Test2/Formatter/TAP.pm line 125.
# Take the time to make some sense => á¢ðkõâÂÂtûeâÂÂtâÂ
°âÂ
¿ÃµâÂÂtþâÂÂmakᥱâÂÂsà ´ âÂ
¿á¥±âÂÂsenÃÂõ
Wide character in print at /home/sand/src/perl/repoperls/installed-perls/host/k93jammy/v5.39.2/6567/lib/5.39.2/Test2/Formatter/TAP.pm line 156.
Wide character in print at /home/sand/src/perl/repoperls/installed-perls/host/k93jammy/v5.39.2/6567/lib/5.39.2/Test2/Formatter/TAP.pm line 125.
# Take the time to make some sense => âakõâÂÂtûõàtâÂ
°mᥱâÂÂtoâ¯mðkeâÂÂsà ´ âÂ
¿á¥±âÂÂÃÂõnsõ
Wide character in print at /home/sand/src/perl/repoperls/installed-perls/host/k93jammy/v5.39.2/6567/lib/5.39.2/Test2/Formatter/TAP.pm line 156.
Wide character in print at /home/sand/src/perl/repoperls/installed-perls/host/k93jammy/v5.39.2/6567/lib/5.39.2/Test2/Formatter/TAP.pm line 125.
# Take the time to make some sense => TÃÂkeâ¯tûeâÂÂtiâÂ
¿ÃµâÂÂtâ²ÂâÂÂmakeâÂÂ
sÿâÂ
¿ÃµâÂÂsÃ栝ÂÃÂᥱ
Wide character in print at /home/sand/src/perl/repoperls/installed-perls/host/k93jammy/v5.39.2/6567/lib/5.39.2/Test2/Formatter/TAP.pm line 156.
Wide character in print at /home/sand/src/perl/repoperls/installed-perls/host/k93jammy/v5.39.2/6567/lib/5.39.2/Test2/Formatter/TAP.pm line 125.
# Take the time to make some sense => á¢ÃÂke tûᥱ timeâÂÂtþâÂÂâÂ
¿ÃÂkõâÂÂsâ²ÂmõâÂÂsÃ栝Âse
Wide character in print at /home/sand/src/perl/repoperls/installed-perls/host/k93jammy/v5.39.2/6567/lib/5.39.2/Test2/Formatter/TAP.pm line 156.
Wide character in print at /home/sand/src/perl/repoperls/installed-perls/host/k93jammy/v5.39.2/6567/lib/5.39.2/Test2/Formatter/TAP.pm line 125.
# Of what you want to say, => â²ÂfâÂÂwhðtâÂÂÃÂÿ⪠waá¥ÂtâÂÂtÿàsayá§
Wide character in print at /home/sand/src/perl/repoperls/installed-perls/host/k93jammy/v5.39.2/6567/lib/5.39.2/Test2/Formatter/TAP.pm line 156.
Wide character in print at /home/sand/src/perl/repoperls/installed-perls/host/k93jammy/v5.39.2/6567/lib/5.39.2/Test2/Formatter/TAP.pm line 125.
# Of what you want to say, => ÃÂfâÂÂwûÃÂtâÂÂÃÂà ´ âªâÂÂᴡðá¥ÂtâÂÂtâ²ÂâÂÂsaÃÂá§
Wide character in print at /home/sand/src/perl/repoperls/installed-perls/host/k93jammy/v5.39.2/6567/lib/5.39.2/Test2/Formatter/TAP.pm line 156.
Wide character in print at /home/sand/src/perl/repoperls/installed-perls/host/k93jammy/v5.39.2/6567/lib/5.39.2/Test2/Formatter/TAP.pm line 125.
# Of what you want to say, => â²ÂfâÂÂwhÃÂtâ¯ÃÂâ²Âá¥Ââ¯wðntâÂÂtâ²ÂâÂÂÃÂaỿï¼Â
Wide character in print at /home/sand/src/perl/repoperls/installed-perls/host/k93jammy/v5.39.2/6567/lib/5.39.2/Test2/Formatter/TAP.pm line 156.
Wide character in print at /home/sand/src/perl/repoperls/installed-perls/host/k93jammy/v5.39.2/6567/lib/5.39.2/Test2/Formatter/TAP.pm line 125.
# Of what you want to say, => ÃÂfâÂÂ
wûðtâÂÂỿâ²ÂâªâÂÂᴡðá¥ÂtâÂÂ
tâ²ÂâÂÂsayá§
Wide character in print at /home/sand/src/perl/repoperls/installed-perls/host/k93jammy/v5.39.2/6567/lib/5.39.2/Test2/Formatter/TAP.pm line 156.
Wide character in print at /home/sand/src/perl/repoperls/installed-perls/host/k93jammy/v5.39.2/6567/lib/5.39.2/Test2/Formatter/TAP.pm line 125.
# Of what you want to say, => ÃÂfâÂÂwûðtâÂÂ
yâ²ÂuâÂÂá´¡ÃÂntâÂÂtþàsayÃÂ
Wide character in print at /home/sand/src/perl/repoperls/installed-perls/host/k93jammy/v5.39.2/6567/lib/5.39.2/Test2/Formatter/TAP.pm line 156.
Wide character in print at /home/sand/src/perl/repoperls/installed-perls/host/k93jammy/v5.39.2/6567/lib/5.39.2/Test2/Formatter/TAP.pm line 125.
# Of what you want to say, => ÃÂfâÂÂwûðtâÂÂỿâ²ÂâªâÂÂá´¡antâÂÂtâ²ÂâÂÂsðỿÃÂ
Wide character in print at /home/sand/src/perl/repoperls/installed-perls/host/k93jammy/v5.39.2/6567/lib/5.39.2/Test2/Formatter/TAP.pm line 156.
Wide character in print at /home/sand/src/perl/repoperls/installed-perls/host/k93jammy/v5.39.2/6567/lib/5.39.2/Test2/Formatter/TAP.pm line 125.
# Of what you want to say, => ÃÂfâÂÂwhðtâÂÂyoá¥ÂâÂÂá´¡ÃÂntâÂÂtÿâÂÂÃÂÃÂyâÂÂ
Wide character in print at /home/sand/src/perl/repoperls/installed-perls/host/k93jammy/v5.39.2/6567/lib/5.39.2/Test2/Formatter/TAP.pm line 156.
Wide character in print at /home/sand/src/perl/repoperls/installed-perls/host/k93jammy/v5.39.2/6567/lib/5.39.2/Test2/Formatter/TAP.pm line 125.
# Of what you want to say, => â²ÂfâÂÂwûat ỿoâªâÂÂwÃÂntâÂÂtÿâ¯saỿâÂÂ
Wide character in print at /home/sand/src/perl/repoperls/installed-perls/host/k93jammy/v5.39.2/6567/lib/5.39.2/Test2/Formatter/TAP.pm line 156.
Wide character in print at /home/sand/src/perl/repoperls/installed-perls/host/k93jammy/v5.39.2/6567/lib/5.39.2/Test2/Formatter/TAP.pm line 125.
# Of what you want to say, => ÃÂfâÂÂ
wûðtâÂÂÃÂâ²Âu á´¡antâÂÂtÿâÂÂsÃÂÃÂÃÂ
Wide character in print at /home/sand/src/perl/repoperls/installed-perls/host/k93jammy/v5.39.2/6567/lib/5.39.2/Test2/Formatter/TAP.pm line 156.
Wide character in print at /home/sand/src/perl/repoperls/installed-perls/host/k93jammy/v5.39.2/6567/lib/5.39.2/Test2/Formatter/TAP.pm line 125.
# Of what you want to say, => ÃÂfâÂÂwhatàÃÂÿá¥ÂâÂÂ
ᴡðntâ¯tþâÂÂÃÂaÃÂ,
Wide character in print at /home/sand/src/perl/repoperls/installed-perls/host/k93jammy/v5.39.2/6567/lib/5.39.2/Test2/Formatter/TAP.pm line 156.
Wide character in print at /home/sand/src/perl/repoperls/installed-perls/host/k93jammy/v5.39.2/6567/lib/5.39.2/Test2/Formatter/TAP.pm line 125.
# And cast your words away upon the waves. => áªndâÂÂcÃÂstâÂÂyþurâÂÂwþrÃÂsâÂÂawÃÂỿ á¥Âpÿá¥ÂâÂÂthᥱâÂÂwðâ¨ᥱs.
Wide character in print at /home/sand/src/perl/repoperls/installed-perls/host/k93jammy/v5.39.2/6567/lib/5.39.2/Test2/Formatter/TAP.pm line 156.
Wide character in print at /home/sand/src/perl/repoperls/installed-perls/host/k93jammy/v5.39.2/6567/lib/5.39.2/Test2/Formatter/TAP.pm line 125.
# And cast your words away upon the waves. => ÃÂá¥ÂdâÂÂÃÂÃÂÃÂtâÂÂyourâÂÂᴡþrâÂ
¾sâÂÂaá´¡ÃÂỿâÂÂá¥ÂÃÂÿá¥ÂâÂÂtûõâÂÂá´¡ÃÂâÂ
´Ãµs.
Wide character in print at /home/sand/src/perl/repoperls/installed-perls/host/k93jammy/v5.39.2/6567/lib/5.39.2/Test2/Formatter/TAP.pm line 156.
Wide character in print at /home/sand/src/perl/repoperls/installed-perls/host/k93jammy/v5.39.2/6567/lib/5.39.2/Test2/Formatter/TAP.pm line 125.
# And cast your words away upon the waves. => AnÃÂâÂÂcðÃÂtâÂÂÃÂà ´ âªrâÂÂá´¡ordsâÂÂðwaÃÂâÂÂá¥ÂpoᥠtheâÂÂá´¡ÃÂvᥱsï¼Â
Wide character in print at /home/sand/src/perl/repoperls/installed-perls/host/k93jammy/v5.39.2/6567/lib/5.39.2/Test2/Formatter/TAP.pm line 156.
Wide character in print at /home/sand/src/perl/repoperls/installed-perls/host/k93jammy/v5.39.2/6567/lib/5.39.2/Test2/Formatter/TAP.pm line 125.
# And cast your words away upon the waves. => ÃÂá¥ÂÃÂâÂÂcðÃÂtâÂÂÃÂà ´ âªrâÂÂwà ´ râÂ
¾ÃÂâÂÂ
ðᴡðỿâ¯á¥Ââ²£à ´ á¥ÂâÂÂtheâÂÂwÃÂâÂÂesï¼Â
Wide character in print at /home/sand/src/perl/repoperls/installed-perls/host/k93jammy/v5.39.2/6567/lib/5.39.2/Test2/Formatter/TAP.pm line 156.
Wide character in print at /home/sand/src/perl/repoperls/installed-perls/host/k93jammy/v5.39.2/6567/lib/5.39.2/Test2/Formatter/TAP.pm line 125.
# And cast your words away upon the waves. => ÃÂnâÂ
¾ âÂ
½Ã°stâÂÂyÿá¥ÂrâÂÂwÿrÃÂÃÂàaá´¡ayâÂÂâªÃÂÿn tûᥱàᴡðâ¨õs.
Wide character in print at /home/sand/src/perl/repoperls/installed-perls/host/k93jammy/v5.39.2/6567/lib/5.39.2/Test2/Formatter/TAP.pm line 156.
Wide character in print at /home/sand/src/perl/repoperls/installed-perls/host/k93jammy/v5.39.2/6567/lib/5.39.2/Test2/Formatter/TAP.pm line 125.
# And cast your words away upon the waves. => áªnâÂ
¾Ã Ã²astâÂÂÃÂÿurâÂÂwþrdÃÂâ¯aá´¡aÃÂàá¥ÂⲣþnâÂÂ
tûeâÂÂᴡðâÂÂes.
Wide character in print at /home/sand/src/perl/repoperls/installed-perls/host/k93jammy/v5.39.2/6567/lib/5.39.2/Test2/Formatter/TAP.pm line 156.
Wide character in print at /home/sand/src/perl/repoperls/installed-perls/host/k93jammy/v5.39.2/6567/lib/5.39.2/Test2/Formatter/TAP.pm line 125.
# And cast your words away upon the waves. => AnâÂ
¾âÂÂÃÂðstâÂÂỿÿá¥ÂrâÂÂwà ´ râÂ
¾sâÂÂðwÃÂÃÂàá¥ÂÃÂâ²ÂnâÂÂthᥱàwavᥱsï¼Â
Wide character in print at /home/sand/src/perl/repoperls/installed-perls/host/k93jammy/v5.39.2/6567/lib/5.39.2/Test2/Formatter/TAP.pm line 156.
Wide character in print at /home/sand/src/perl/repoperls/installed-perls/host/k93jammy/v5.39.2/6567/lib/5.39.2/Test2/Formatter/TAP.pm line 125.
# And cast your words away upon the waves. => Aá¥ÂdâÂÂ
âÂ
½astâÂÂyà ´ á¥Âr wâ²ÂrÃÂsâÂÂawÃÂyâÂÂuÃÂþᥠtûõâÂÂwÃÂâ¨ᥱÃÂï¼Â
Wide character in print at /home/sand/src/perl/repoperls/installed-perls/host/k93jammy/v5.39.2/6567/lib/5.39.2/Test2/Formatter/TAP.pm line 156.
Wide character in print at /home/sand/src/perl/repoperls/installed-perls/host/k93jammy/v5.39.2/6567/lib/5.39.2/Test2/Formatter/TAP.pm line 125.
# And cast your words away upon the waves. => AndâÂÂâÂ
½Ã°ÃÂtâÂÂyÿá¥ÂrâÂÂwÿrâÂ
¾sâÂÂaá´¡aÃÂâÂÂâªⲣÿnâÂÂtûõâÂÂ
á´¡ÃÂvesï¼Â
Wide character in print at /home/sand/src/perl/repoperls/installed-perls/host/k93jammy/v5.39.2/6567/lib/5.39.2/Test2/Formatter/TAP.pm line 156.
Wide character in print at /home/sand/src/perl/repoperls/installed-perls/host/k93jammy/v5.39.2/6567/lib/5.39.2/Test2/Formatter/TAP.pm line 125.
# And cast your words away upon the waves. => ÃÂnàòÃÂÃÂtàyà ´ âªrâÂÂá´¡â²ÂrdàawðỿâÂÂuÃÂâ²Âá¥ÂâÂÂtheâÂÂá´¡aâ¨ᥱs.
Wide character in print at /home/sand/src/perl/repoperls/installed-perls/host/k93jammy/v5.39.2/6567/lib/5.39.2/Test2/Formatter/TAP.pm line 156.
Wide character in print at /home/sand/src/perl/repoperls/installed-perls/host/k93jammy/v5.39.2/6567/lib/5.39.2/Test2/Formatter/TAP.pm line 125.
# Sail them home with acquiesce, => ÃÂ
ðÃÂâÂ
¼âÂÂ
theâÂ
¿â¯ûÿmõâÂÂ
á´¡itÃȉÂÂaâÂ
½qá¥ÂÃÂesòᥱï¼Â
Wide character in print at /home/sand/src/perl/repoperls/installed-perls/host/k93jammy/v5.39.2/6567/lib/5.39.2/Test2/Formatter/TAP.pm line 156.
Wide character in print at /home/sand/src/perl/repoperls/installed-perls/host/k93jammy/v5.39.2/6567/lib/5.39.2/Test2/Formatter/TAP.pm line 125.
# Sail them home with acquiesce, => SÃÂÃÂlâÂÂtûõm hÿâÂ
¿eâÂÂwitÃȉÂÂðÃÂquâÂ
°á¥±ÃÂòõ,
Wide character in print at /home/sand/src/perl/repoperls/installed-perls/host/k93jammy/v5.39.2/6567/lib/5.39.2/Test2/Formatter/TAP.pm line 156.
Wide character in print at /home/sand/src/perl/repoperls/installed-perls/host/k93jammy/v5.39.2/6567/lib/5.39.2/Test2/Formatter/TAP.pm line 125.
# Sail them home with acquiesce, => SðâÂ
°lâÂÂthõâÂ
¿âÂÂûâ²ÂmᥱâÂÂá´¡âÂ
°tû aòqá¥ÂÃÂescᥱâÂÂ
Wide character in print at /home/sand/src/perl/repoperls/installed-perls/host/k93jammy/v5.39.2/6567/lib/5.39.2/Test2/Formatter/TAP.pm line 156.
Wide character in print at /home/sand/src/perl/repoperls/installed-perls/host/k93jammy/v5.39.2/6567/lib/5.39.2/Test2/Formatter/TAP.pm line 125.
# Sail them home with acquiesce, => áÂÂÃÂÃÂâÂ
¼âÂÂthõâÂ
¿âÂÂûþmᥱâÂÂwÃÂthâÂÂacquÃÂõsÃÂõÃÂ
Wide character in print at /home/sand/src/perl/repoperls/installed-perls/host/k93jammy/v5.39.2/6567/lib/5.39.2/Test2/Formatter/TAP.pm line 156.
Wide character in print at /home/sand/src/perl/repoperls/installed-perls/host/k93jammy/v5.39.2/6567/lib/5.39.2/Test2/Formatter/TAP.pm line 125.
# Sail them home with acquiesce, => ÃÂ
aâÂ
°lâÂÂthᥱâÂ
¿âÂÂûþâÂ
¿eâ¯withâÂÂ
ÃÂÃÂqâªÃÂesòõâÂÂ
Wide character in print at /home/sand/src/perl/repoperls/installed-perls/host/k93jammy/v5.39.2/6567/lib/5.39.2/Test2/Formatter/TAP.pm line 156.
Wide character in print at /home/sand/src/perl/repoperls/installed-perls/host/k93jammy/v5.39.2/6567/lib/5.39.2/Test2/Formatter/TAP.pm line 125.
# Sail them home with acquiesce, => ÃÂ
ailâÂÂthõmâÂÂûÿâÂ
¿á¥±â¯witÃȉÂÂ
ÃÂÃÂqá¥ÂiᥱÃÂcᥱ,
Wide character in print at /home/sand/src/perl/repoperls/installed-perls/host/k93jammy/v5.39.2/6567/lib/5.39.2/Test2/Formatter/TAP.pm line 156.
Wide character in print at /home/sand/src/perl/repoperls/installed-perls/host/k93jammy/v5.39.2/6567/lib/5.39.2/Test2/Formatter/TAP.pm line 125.
# Sail them home with acquiesce, => áÂÂaiâÂ
¼â¯tûõâÂ
¿âÂÂ
ûÿmõâÂÂá´¡ÃÂthàacquiesÃÂᥱ,
Wide character in print at /home/sand/src/perl/repoperls/installed-perls/host/k93jammy/v5.39.2/6567/lib/5.39.2/Test2/Formatter/TAP.pm line 156.
Wide character in print at /home/sand/src/perl/repoperls/installed-perls/host/k93jammy/v5.39.2/6567/lib/5.39.2/Test2/Formatter/TAP.pm line 125.
# Sail them home with acquiesce, => áÂÂðÃÂlâÂÂtûᥱâÂ
¿âÂÂûÿmõâÂÂwâÂ
°tÃȉÂÂðâÂ
½qâªÃÂᥱsâÂ
½Ã括Â
Wide character in print at /home/sand/src/perl/repoperls/installed-perls/host/k93jammy/v5.39.2/6567/lib/5.39.2/Test2/Formatter/TAP.pm line 156.
Wide character in print at /home/sand/src/perl/repoperls/installed-perls/host/k93jammy/v5.39.2/6567/lib/5.39.2/Test2/Formatter/TAP.pm line 125.
# Sail them home with acquiesce, => SÃÂÃÂâÂ
¼âÂÂtûõmâÂÂhÿâÂ
¿á¥±âÂÂwÃÂtÃȉÂÂÃÂòqá¥ÂâÂ
°esòõ,
Wide character in print at /home/sand/src/perl/repoperls/installed-perls/host/k93jammy/v5.39.2/6567/lib/5.39.2/Test2/Formatter/TAP.pm line 156.
Wide character in print at /home/sand/src/perl/repoperls/installed-perls/host/k93jammy/v5.39.2/6567/lib/5.39.2/Test2/Formatter/TAP.pm line 125.
# Sail them home with acquiesce, => SaâÂ
°âÂ
¼ thᥱâÂ
¿âÂÂûomõâÂÂwâÂ
°thâÂÂaòquÃÂõsòᥱÃÂ
Wide character in print at /home/sand/src/perl/repoperls/installed-perls/host/k93jammy/v5.39.2/6567/lib/5.39.2/Test2/Formatter/TAP.pm line 156.
Wide character in print at /home/sand/src/perl/repoperls/installed-perls/host/k93jammy/v5.39.2/6567/lib/5.39.2/Test2/Formatter/TAP.pm line 125.
# On a ship of hope today => ÃÂnâÂÂÃÂâÂÂshÃÂâ²£âÂÂà ´ fâÂÂûopeâÂÂtâ²ÂâÂ
¾Ã°y
Wide character in print at /home/sand/src/perl/repoperls/installed-perls/host/k93jammy/v5.39.2/6567/lib/5.39.2/Test2/Formatter/TAP.pm line 156.
Wide character in print at /home/sand/src/perl/repoperls/installed-perls/host/k93jammy/v5.39.2/6567/lib/5.39.2/Test2/Formatter/TAP.pm line 125.
# On a ship of hope today => Oá¥ÂâÂÂÃÂâÂÂsûÃÂpâÂÂþfâÂÂ
hâ²ÂpõâÂÂ
tâ²Âdðy
Wide character in print at /home/sand/src/perl/repoperls/installed-perls/host/k93jammy/v5.39.2/6567/lib/5.39.2/Test2/Formatter/TAP.pm line 156.
Wide character in print at /home/sand/src/perl/repoperls/installed-perls/host/k93jammy/v5.39.2/6567/lib/5.39.2/Test2/Formatter/TAP.pm line 125.
# On a ship of hope today => OnâÂÂaâ¯shÃÂâ²£âÂÂà ´ fâÂÂÃ»à ´ ÃÂᥱ tà ´ ÃÂðy
Wide character in print at /home/sand/src/perl/repoperls/installed-perls/host/k93jammy/v5.39.2/6567/lib/5.39.2/Test2/Formatter/TAP.pm line 156.
Wide character in print at /home/sand/src/perl/repoperls/installed-perls/host/k93jammy/v5.39.2/6567/lib/5.39.2/Test2/Formatter/TAP.pm line 125.
# On a ship of hope today => Oá¥ÂâÂÂðâÂÂÃÂhipâÂÂ
ÿfâÂÂÃ»à ´ â²£eâÂÂtâ²ÂâÂ
¾aÃÂ
Wide character in print at /home/sand/src/perl/repoperls/installed-perls/host/k93jammy/v5.39.2/6567/lib/5.39.2/Test2/Formatter/TAP.pm line 156.
Wide character in print at /home/sand/src/perl/repoperls/installed-perls/host/k93jammy/v5.39.2/6567/lib/5.39.2/Test2/Formatter/TAP.pm line 125.
# On a ship of hope today => â²ÂnâÂÂaâÂÂÃÂhÃÂÃÂâÂÂâ²ÂfâÂÂhâ²ÂpõâÂÂtÿâÂ
¾ÃÂy
Wide character in print at /home/sand/src/perl/repoperls/installed-perls/host/k93jammy/v5.39.2/6567/lib/5.39.2/Test2/Formatter/TAP.pm line 156.
Wide character in print at /home/sand/src/perl/repoperls/installed-perls/host/k93jammy/v5.39.2/6567/lib/5.39.2/Test2/Formatter/TAP.pm line 125.
# On a ship of hope today => OᥠaàsÃȉÂ
°pâÂÂÿfâÂÂ
hà ´ â²£á¥±âÂÂtâ²ÂdÃÂÃÂ
Wide character in print at /home/sand/src/perl/repoperls/installed-perls/host/k93jammy/v5.39.2/6567/lib/5.39.2/Test2/Formatter/TAP.pm line 156.
Wide character in print at /home/sand/src/perl/repoperls/installed-perls/host/k93jammy/v5.39.2/6567/lib/5.39.2/Test2/Formatter/TAP.pm line 125.
# On a ship of hope today => â²ÂnâÂÂÃÂâ¯sûÃÂpàâ²ÂfâÂÂhà ´ â²£á¥±âÂÂtoÃÂðy
Wide character in print at /home/sand/src/perl/repoperls/installed-perls/host/k93jammy/v5.39.2/6567/lib/5.39.2/Test2/Formatter/TAP.pm line 156.
Wide character in print at /home/sand/src/perl/repoperls/installed-perls/host/k93jammy/v5.39.2/6567/lib/5.39.2/Test2/Formatter/TAP.pm line 125.
# On a ship of hope today => ÃÂá¥Ââ¯aâÂÂsÃȉÂ
°pâÂÂofâÂÂûoÃÂõâÂÂtÿâÂ
¾ay
Wide character in print at /home/sand/src/perl/repoperls/installed-perls/host/k93jammy/v5.39.2/6567/lib/5.39.2/Test2/Formatter/TAP.pm line 156.
Wide character in print at /home/sand/src/perl/repoperls/installed-perls/host/k93jammy/v5.39.2/6567/lib/5.39.2/Test2/Formatter/TAP.pm line 125.
# On a ship of hope today => â²ÂnàÃÂâÂÂ
ÃÂûiÃÂâÂÂ
ofâÂÂûoÃÂᥱâÂÂtoÃÂaÃÂ
Wide character in print at /home/sand/src/perl/repoperls/installed-perls/host/k93jammy/v5.39.2/6567/lib/5.39.2/Test2/Formatter/TAP.pm line 156.
Wide character in print at /home/sand/src/perl/repoperls/installed-perls/host/k93jammy/v5.39.2/6567/lib/5.39.2/Test2/Formatter/TAP.pm line 125.
# On a ship of hope today => OnâÂÂaâÂÂshÃÂpâÂ¯à ´ fâÂÂûþⲣõâÂÂtþday
Wide character in print at /home/sand/src/perl/repoperls/installed-perls/host/k93jammy/v5.39.2/6567/lib/5.39.2/Test2/Formatter/TAP.pm line 156.
Wide character in print at /home/sand/src/perl/repoperls/installed-perls/host/k93jammy/v5.39.2/6567/lib/5.39.2/Test2/Formatter/TAP.pm line 125.
# And as they land upon the shore => AnâÂ
¾âÂÂ
ðsâÂÂtûeỿâÂÂâÂ
¼ÃÂnÃÂâÂÂâªpÿá¥ÂâÂÂtûeâÂÂÃÂhÿrᥱ
Wide character in print at /home/sand/src/perl/repoperls/installed-perls/host/k93jammy/v5.39.2/6567/lib/5.39.2/Test2/Formatter/TAP.pm line 156.
Wide character in print at /home/sand/src/perl/repoperls/installed-perls/host/k93jammy/v5.39.2/6567/lib/5.39.2/Test2/Formatter/TAP.pm line 125.
# And as they land upon the shore => ÃÂá¥ÂâÂ
¾âÂÂÃÂsâÂÂthᥱỿâÂÂâÂ
¼Ã°á¥Âàá¥Âpon thõâÂÂsûorᥱ
Wide character in print at /home/sand/src/perl/repoperls/installed-perls/host/k93jammy/v5.39.2/6567/lib/5.39.2/Test2/Formatter/TAP.pm line 156.
Wide character in print at /home/sand/src/perl/repoperls/installed-perls/host/k93jammy/v5.39.2/6567/lib/5.39.2/Test2/Formatter/TAP.pm line 125.
# And as they land upon the shore => ÃÂnÃÂâÂÂðÃÂâÂÂtheÃÂâÂÂlandâÂÂá¥Ââ²£â²Âá¥ÂâÂÂtûeàÃÂûþrõ
Wide character in print at /home/sand/src/perl/repoperls/installed-perls/host/k93jammy/v5.39.2/6567/lib/5.39.2/Test2/Formatter/TAP.pm line 156.
Wide character in print at /home/sand/src/perl/repoperls/installed-perls/host/k93jammy/v5.39.2/6567/lib/5.39.2/Test2/Formatter/TAP.pm line 125.
# And as they land upon the shore => Aá¥ÂâÂ
¾âÂÂðsâÂÂtûeÃÂâÂÂlÃÂnÃÂâÂÂupÿá¥Ââ¯tûõâÂÂÃÂûþrõ
Wide character in print at /home/sand/src/perl/repoperls/installed-perls/host/k93jammy/v5.39.2/6567/lib/5.39.2/Test2/Formatter/TAP.pm line 156.
Wide character in print at /home/sand/src/perl/repoperls/installed-perls/host/k93jammy/v5.39.2/6567/lib/5.39.2/Test2/Formatter/TAP.pm line 125.
# And as they land upon the shore => Aá¥ÂâÂ
¾âÂÂasâÂÂtûᥱỿâ¯lÃÂá¥ÂdâÂÂâªⲣonâÂÂthᥱâÂÂsûorᥱ
Wide character in print at /home/sand/src/perl/repoperls/installed-perls/host/k93jammy/v5.39.2/6567/lib/5.39.2/Test2/Formatter/TAP.pm line 156.
Wide character in print at /home/sand/src/perl/repoperls/installed-perls/host/k93jammy/v5.39.2/6567/lib/5.39.2/Test2/Formatter/TAP.pm line 125.
# And as they land upon the shore => ÃÂá¥ÂâÂ
¾âÂÂasâÂÂtheÃÂâÂÂâÂ
¼ÃÂá¥ÂdâÂÂâªpâ²ÂnâÂÂtûeâÂÂsûore
Wide character in print at /home/sand/src/perl/repoperls/installed-perls/host/k93jammy/v5.39.2/6567/lib/5.39.2/Test2/Formatter/TAP.pm line 156.
Wide character in print at /home/sand/src/perl/repoperls/installed-perls/host/k93jammy/v5.39.2/6567/lib/5.39.2/Test2/Formatter/TAP.pm line 125.
# And as they land upon the shore => ÃÂnÃÂâÂÂÃÂÃÂâÂÂthõÃÂâÂÂlÃÂá¥ÂÃÂâÂÂá¥ÂÃÂþá¥ÂâÂÂtûõâÂÂsÃ»à ´ rõ
Wide character in print at /home/sand/src/perl/repoperls/installed-perls/host/k93jammy/v5.39.2/6567/lib/5.39.2/Test2/Formatter/TAP.pm line 156.
Wide character in print at /home/sand/src/perl/repoperls/installed-perls/host/k93jammy/v5.39.2/6567/lib/5.39.2/Test2/Formatter/TAP.pm line 125.
# And as they land upon the shore => áªá¥ÂÃÂâÂÂðÃÂâÂÂtûeyâÂÂâÂ
¼Ã°á¥ÂdâÂÂuⲣþnâÂÂtheâÂÂÃÂûorᥱ
Wide character in print at /home/sand/src/perl/repoperls/installed-perls/host/k93jammy/v5.39.2/6567/lib/5.39.2/Test2/Formatter/TAP.pm line 156.
Wide character in print at /home/sand/src/perl/repoperls/installed-perls/host/k93jammy/v5.39.2/6567/lib/5.39.2/Test2/Formatter/TAP.pm line 125.
# And as they land upon the shore => AnâÂ
¾âÂÂðsâÂÂtûᥱÃÂâÂÂâÂ
¼aá¥ÂâÂ
¾âÂÂá¥Ââ²£à ´ á¥ÂâÂÂthᥱâÂÂÃÂhorᥱ
Wide character in print at /home/sand/src/perl/repoperls/installed-perls/host/k93jammy/v5.39.2/6567/lib/5.39.2/Test2/Formatter/TAP.pm line 156.
Wide character in print at /home/sand/src/perl/repoperls/installed-perls/host/k93jammy/v5.39.2/6567/lib/5.39.2/Test2/Formatter/TAP.pm line 125.
# And as they land upon the shore => áªnâÂ
¾âÂÂasâÂÂtûᥱỿâÂÂland á¥Ââ²£onâÂÂtûᥱâÂÂÃÂhâ²Ârᥱ
Wide character in print at /home/sand/src/perl/repoperls/installed-perls/host/k93jammy/v5.39.2/6567/lib/5.39.2/Test2/Formatter/TAP.pm line 156.
Wide character in print at /home/sand/src/perl/repoperls/installed-perls/host/k93jammy/v5.39.2/6567/lib/5.39.2/Test2/Formatter/TAP.pm line 125.
# Tell them not to fear no more => âᥱâÂ
¼âÂ
¼Ã thᥱâÂ
¿âÂÂá¥ÂþtâÂÂtâ²ÂâÂÂfᥱarâÂÂ
nþâÂÂâÂ
¿orᥱ
Wide character in print at /home/sand/src/perl/repoperls/installed-perls/host/k93jammy/v5.39.2/6567/lib/5.39.2/Test2/Formatter/TAP.pm line 156.
Wide character in print at /home/sand/src/perl/repoperls/installed-perls/host/k93jammy/v5.39.2/6567/lib/5.39.2/Test2/Formatter/TAP.pm line 125.
# Tell them not to fear no more => á¢ᥱllâÂÂtûᥱmâÂÂá¥Ââ²ÂtâÂÂtâ²ÂàfᥱÃÂrâÂÂá¥ÂÿâÂÂâÂ
¿Ã¾re
Wide character in print at /home/sand/src/perl/repoperls/installed-perls/host/k93jammy/v5.39.2/6567/lib/5.39.2/Test2/Formatter/TAP.pm line 156.
Wide character in print at /home/sand/src/perl/repoperls/installed-perls/host/k93jammy/v5.39.2/6567/lib/5.39.2/Test2/Formatter/TAP.pm line 125.
# Tell them not to fear no more => äelâÂ
¼âÂÂ
theâÂ
¿âÂÂnâ²ÂtâÂÂ
tÿâÂÂfᥱarâÂÂá¥Ââ²ÂâÂÂmore
Wide character in print at /home/sand/src/perl/repoperls/installed-perls/host/k93jammy/v5.39.2/6567/lib/5.39.2/Test2/Formatter/TAP.pm line 156.
Wide character in print at /home/sand/src/perl/repoperls/installed-perls/host/k93jammy/v5.39.2/6567/lib/5.39.2/Test2/Formatter/TAP.pm line 125.
# Tell them not to fear no more => á¢elâÂ
¼âÂÂtûõmâÂÂá¥Âotâ¯toâÂÂfõÃÂrâÂÂá¥Âà ´ âÂ
¿à ´ rõ
Wide character in print at /home/sand/src/perl/repoperls/installed-perls/host/k93jammy/v5.39.2/6567/lib/5.39.2/Test2/Formatter/TAP.pm line 156.
Wide character in print at /home/sand/src/perl/repoperls/installed-perls/host/k93jammy/v5.39.2/6567/lib/5.39.2/Test2/Formatter/TAP.pm line 125.
# Tell them not to fear no more => äõlâÂ
¼ thᥱmâÂÂá¥ÂÿtâÂÂtoâÂÂ
fõÃÂrâÂÂnþâÂÂâÂ
¿Ã¿re
Wide character in print at /home/sand/src/perl/repoperls/installed-perls/host/k93jammy/v5.39.2/6567/lib/5.39.2/Test2/Formatter/TAP.pm line 156.
Wide character in print at /home/sand/src/perl/repoperls/installed-perls/host/k93jammy/v5.39.2/6567/lib/5.39.2/Test2/Formatter/TAP.pm line 125.
# Tell them not to fear no more => âõâÂ
¼lâÂÂtûemâÂÂ
nþtâÂÂtþâ¯fᥱÃÂrâÂÂá¥Âo mþre
Wide character in print at /home/sand/src/perl/repoperls/installed-perls/host/k93jammy/v5.39.2/6567/lib/5.39.2/Test2/Formatter/TAP.pm line 156.
Wide character in print at /home/sand/src/perl/repoperls/installed-perls/host/k93jammy/v5.39.2/6567/lib/5.39.2/Test2/Formatter/TAP.pm line 125.
# Tell them not to fear no more => âeâÂ
¼lâÂÂtûõâÂ
¿âÂÂnotâÂÂtoâÂÂfᥱar á¥ÂoâÂÂâÂ
¿à ´ rõ
Wide character in print at /home/sand/src/perl/repoperls/installed-perls/host/k93jammy/v5.39.2/6567/lib/5.39.2/Test2/Formatter/TAP.pm line 156.
Wide character in print at /home/sand/src/perl/repoperls/installed-perls/host/k93jammy/v5.39.2/6567/lib/5.39.2/Test2/Formatter/TAP.pm line 125.
# Tell them not to fear no more => âellâÂÂthᥱâÂ
¿âÂÂnà ´ tâÂÂtâ²ÂâÂÂfᥱÃÂrâÂÂá¥Âà ´ Ã âÂ
¿à ´ rᥱ
Wide character in print at /home/sand/src/perl/repoperls/installed-perls/host/k93jammy/v5.39.2/6567/lib/5.39.2/Test2/Formatter/TAP.pm line 156.
Wide character in print at /home/sand/src/perl/repoperls/installed-perls/host/k93jammy/v5.39.2/6567/lib/5.39.2/Test2/Formatter/TAP.pm line 125.
# Tell them not to fear no more => TõlâÂ
¼âÂÂtûemâÂÂnotâ¯tà ´ â¯fᥱarâÂÂá¥Ââ²Ââ¯mÿrõ
Wide character in print at /home/sand/src/perl/repoperls/installed-perls/host/k93jammy/v5.39.2/6567/lib/5.39.2/Test2/Formatter/TAP.pm line 156.
Wide character in print at /home/sand/src/perl/repoperls/installed-perls/host/k93jammy/v5.39.2/6567/lib/5.39.2/Test2/Formatter/TAP.pm line 125.
# Tell them not to fear no more => á¢ᥱâÂ
¼l tûõâÂ
¿Ã nà ´ tâÂÂ
tà ´ âÂÂfᥱarâÂÂnþâÂÂmà ´ re
Wide character in print at /home/sand/src/perl/repoperls/installed-perls/host/k93jammy/v5.39.2/6567/lib/5.39.2/Test2/Formatter/TAP.pm line 156.
Wide character in print at /home/sand/src/perl/repoperls/installed-perls/host/k93jammy/v5.39.2/6567/lib/5.39.2/Test2/Formatter/TAP.pm line 125.
# Say it loud and sing it proud today! => áÂÂÃÂÃÂâ¯ÃÂtâ¯âÂ
¼à ´ uÃÂâÂÂanâÂ
¾âÂÂ
sâÂ
°ngâÂÂitâÂÂ
ÃÂrâ²Âá¥ÂâÂ
¾âÂÂtþdaỿÃÂ
Wide character in print at /home/sand/src/perl/repoperls/installed-perls/host/k93jammy/v5.39.2/6567/lib/5.39.2/Test2/Formatter/TAP.pm line 156.
Wide character in print at /home/sand/src/perl/repoperls/installed-perls/host/k93jammy/v5.39.2/6567/lib/5.39.2/Test2/Formatter/TAP.pm line 125.
# Say it loud and sing it proud today! => áÂÂÃÂyâÂÂitâÂÂlà ´ udâÂÂÃÂnd ÃÂingâÂÂitâÂÂÃÂrâ²ÂuâÂ
¾â¯toâÂ
¾ayâµÂ
Wide character in print at /home/sand/src/perl/repoperls/installed-perls/host/k93jammy/v5.39.2/6567/lib/5.39.2/Test2/Formatter/TAP.pm line 156.
Wide character in print at /home/sand/src/perl/repoperls/installed-perls/host/k93jammy/v5.39.2/6567/lib/5.39.2/Test2/Formatter/TAP.pm line 125.
# Say it loud and sing it proud today! => áÂÂðÃÂâÂÂitâÂÂâÂ
¼Ã¿uàðnÃÂâÂÂsináâÂÂitâÂÂâ²£rà ´ udâÂÂtÿdðỿï¹Â
Wide character in print at /home/sand/src/perl/repoperls/installed-perls/host/k93jammy/v5.39.2/6567/lib/5.39.2/Test2/Formatter/TAP.pm line 156.
Wide character in print at /home/sand/src/perl/repoperls/installed-perls/host/k93jammy/v5.39.2/6567/lib/5.39.2/Test2/Formatter/TAP.pm line 125.
# Say it loud and sing it proud today! => ÃÂ
ÃÂyâÂÂitâÂÂlÿuÃÂâÂÂÃÂá¥ÂâÂ
¾âÂÂsiá¥ÂgâÂÂâÂ
°tâ¯ÃÂrà ´ uÃÂâÂÂtþâÂ
¾aỿâµÂ
Wide character in print at /home/sand/src/perl/repoperls/installed-perls/host/k93jammy/v5.39.2/6567/lib/5.39.2/Test2/Formatter/TAP.pm line 156.
Wide character in print at /home/sand/src/perl/repoperls/installed-perls/host/k93jammy/v5.39.2/6567/lib/5.39.2/Test2/Formatter/TAP.pm line 125.
# Say it loud and sing it proud today! => SaÃÂâÂÂâÂ
°tâÂÂlþá¥ÂÃÂâÂÂðá¥ÂÃÂâÂÂÃÂÃÂá¥ÂáâÂÂâÂ
°tâÂÂ
â²£rà ´ uâÂ
¾âÂÂtÿâÂ
¾Ã°á»¿ï¸Â
Wide character in print at /home/sand/src/perl/repoperls/installed-perls/host/k93jammy/v5.39.2/6567/lib/5.39.2/Test2/Formatter/TAP.pm line 156.
Wide character in print at /home/sand/src/perl/repoperls/installed-perls/host/k93jammy/v5.39.2/6567/lib/5.39.2/Test2/Formatter/TAP.pm line 125.
# Say it loud and sing it proud today! => SðỿâÂÂitàâÂ
¼â²ÂâªÃÂâ¯ÃÂá¥ÂâÂ
¾âÂÂÃÂÃÂngâÂÂâÂ
°tâÂÂÃÂroâªâÂ
¾âÂÂtâ²ÂdÃÂỿï¼Â
Wide character in print at /home/sand/src/perl/repoperls/installed-perls/host/k93jammy/v5.39.2/6567/lib/5.39.2/Test2/Formatter/TAP.pm line 156.
Wide character in print at /home/sand/src/perl/repoperls/installed-perls/host/k93jammy/v5.39.2/6567/lib/5.39.2/Test2/Formatter/TAP.pm line 125.
# Say it loud and sing it proud today! => áÂÂÃÂÃÂâÂÂÃÂtâÂÂâÂ
¼ouâÂ
¾âÂÂðnÃÂâÂÂÃÂÃÂá¥ÂgàitâÂÂÃÂrþá¥ÂâÂ
¾âÂÂtoâÂ
¾ÃÂỿâµÂ
Wide character in print at /home/sand/src/perl/repoperls/installed-perls/host/k93jammy/v5.39.2/6567/lib/5.39.2/Test2/Formatter/TAP.pm line 156.
Wide character in print at /home/sand/src/perl/repoperls/installed-perls/host/k93jammy/v5.39.2/6567/lib/5.39.2/Test2/Formatter/TAP.pm line 125.
# Say it loud and sing it proud today! => áÂÂðyâÂÂitâÂÂlâ²Âá¥ÂdâÂÂanâÂ
¾âÂÂsâÂ
°á¥ÂáâÂÂÃÂtâÂÂÃÂrþudâÂÂtÿdaỿÃÂ
Wide character in print at /home/sand/src/perl/repoperls/installed-perls/host/k93jammy/v5.39.2/6567/lib/5.39.2/Test2/Formatter/TAP.pm line 156.
Wide character in print at /home/sand/src/perl/repoperls/installed-perls/host/k93jammy/v5.39.2/6567/lib/5.39.2/Test2/Formatter/TAP.pm line 125.
# Say it loud and sing it proud today! => áÂÂðyâÂÂitâÂÂâÂ
¼oá¥ÂâÂ
¾âÂÂÃÂá¥ÂâÂ
¾ ÃÂÃÂnáâÂÂâÂ
°tâÂÂÃÂroâªdâÂÂtoâÂ
¾aỿï¹Â
Wide character in print at /home/sand/src/perl/repoperls/installed-perls/host/k93jammy/v5.39.2/6567/lib/5.39.2/Test2/Formatter/TAP.pm line 156.
Wide character in print at /home/sand/src/perl/repoperls/installed-perls/host/k93jammy/v5.39.2/6567/lib/5.39.2/Test2/Formatter/TAP.pm line 125.
# Say it loud and sing it proud today! => ÃÂ
aỿ itâÂÂlà ´ udâÂÂÃÂá¥ÂÃÂâÂÂsÃÂngâÂÂitâÂÂâ²£roâªÃÂâÂÂtÿâÂ
¾aÃÂ!
Wide character in print at /home/sand/src/perl/repoperls/installed-perls/host/k93jammy/v5.39.2/6567/lib/5.39.2/Test2/Formatter/TAP.pm line 156.
t/01-usage.t ...... ok
t/manifest.t ...... skipped: Author tests not required for installation
t/pod-coverage.t .. skipped: Author tests not required for installation
t/pod.t ........... skipped: Author tests not required for installation
All tests successful.
Files=5, Tests=85, 0 wallclock secs ( 0.03 usr 0.01 sys + 0.26 cusr 0.08 csys = 0.38 CPU)
Result: PASS
------------------------------
PREREQUISITES
------------------------------
Prerequisite modules loaded:
requires:
Module Need Have
------------------- ----- --------
perl 5.006 5.039002
build_requires:
Module Need Have
------------------- ----- --------
Test::More 0 1.302195
configure_requires:
Module Need Have
------------------- ----- --------
ExtUtils::MakeMaker 0 7.70
------------------------------
ENVIRONMENT AND OTHER CONTEXT
------------------------------
Environment variables:
AUTOMATED_TESTING = 1
LANG = en_US.UTF-8
LC_ADDRESS = de_DE.UTF-8
LC_IDENTIFICATION = de_DE.UTF-8
LC_MEASUREMENT = de_DE.UTF-8
LC_MONETARY = de_DE.UTF-8
LC_NAME = de_DE.UTF-8
LC_NUMERIC = de_DE.UTF-8
LC_PAPER = de_DE.UTF-8
LC_TELEPHONE = de_DE.UTF-8
LC_TIME = de_DE.UTF-8
PATH = /home/sand/bin:/usr/local/bin:/usr/local/sbin:/usr/sbin:/usr/bin:/sbin:/bin:/usr/games:/usr/local/games:/snap/bin:/usr/local/perl/bin:/usr/X11/bin
PERL = /tmp/basesmoker-reloperl-Dq7W/bin/perl
PERL5LIB = /tmp/loop_over_bdir-2467-5X_Rnc/EJBCA-CrlPublish-0.60-0/blib/arch:/tmp/loop_over_bdir-2467-5X_Rnc/EJBCA-CrlPublish-0.60-0/blib/lib:/tmp/loop_over_bdir-2467-5X_Rnc/Devel-Required-0.16-0/blib/arch:/tmp/loop_over_bdir-2467-5X_Rnc/Devel-Required-0.16-0/blib/lib:/tmp/loop_over_bdir-2467-5X_Rnc/Captive-Portal-4.10-0/blib/arch:/tmp/loop_over_bdir-2467-5X_Rnc/Captive-Portal-4.10-0/blib/lib:/tmp/loop_over_bdir-2467-5X_Rnc/RDF-NLP-SPARQLQuery-0.1-0/blib/arch:/tmp/loop_over_bdir-2467-5X_Rnc/RDF-NLP-SPARQLQuery-0.1-0/blib/lib:/tmp/loop_over_bdir-2467-5X_Rnc/mmds-1.902-0/blib/arch:/tmp/loop_over_bdir-2467-5X_Rnc/mmds-1.902-0/blib/lib:/tmp/loop_over_bdir-2467-5X_Rnc/ProjectBuilder-0.14.1-0/blib/arch:/tmp/loop_over_bdir-2467-5X_Rnc/ProjectBuilder-0.14.1-0/blib/lib:/tmp/loop_over_bdir-2467-5X_Rnc/Net-ISP-Balance-1.31-0/blib/arch:/tmp/loop_over_bdir-2467-5X_Rnc/Net-ISP-Balance-1.31-0/blib/lib
PERL5OPT =
PERL5_CPANPLUS_IS_RUNNING = 2475
PERL5_CPAN_IS_RUNNING = 2475
PERL_CANARY_STABILITY_NOPROMPT = 1
PERL_MM_USE_DEFAULT = 1
PERL_USE_UNSAFE_INC = 1
SHELL = /usr/bin/zsh
TERM = screen
Perl special variables (and OS-specific diagnostics, for MSWin32):
$^X = /tmp/basesmoker-reloperl-Dq7W/bin/perl
$UID/$EUID = 1005 / 1005
$GID = 1005 1005
$EGID = 1005 1005
Perl module toolchain versions installed:
Module Have
------------------- --------
CPAN 2.36
CPAN::Meta 2.150010
Cwd 3.90
ExtUtils::CBuilder 0.280239
ExtUtils::Command 7.70
ExtUtils::Install 2.22
ExtUtils::MakeMaker 7.70
ExtUtils::Manifest 1.75
ExtUtils::ParseXS 3.51
File::Spec 3.90
JSON 4.10
JSON::PP 4.16
Module::Build 0.4234
Module::Signature 0.88
Parse::CPAN::Meta 2.150010
Test2 1.302195
Test::Harness 3.47
Test::More 1.302195
YAML 1.30
YAML::Syck 1.34
version 0.9929
--
Summary of my perl5 (revision 5 version 39 subversion 2) configuration:
Commit id: e246fd63c3ad4034efc21113d44231047f6b2909
Platform:
osname=linux
osvers=6.2.0-26-generic
archname=x86_64-linux
uname='linux k93jammy 6.2.0-26-generic #26~22.04.1-ubuntu smp preempt_dynamic thu jul 13 16:27:29 utc 2 x86_64 x86_64 x86_64 gnulinux '
config_args='-Dprefix=/home/sand/src/perl/repoperls/installed-perls/host/k93jammy/v5.39.2/6567 -Dmyhostname=k93jammy -Dinstallusrbinperl=n -Uversiononly -Dusedevel -des -Ui_db -Dlibswanted=cl pthread socket inet nsl gdbm dbm malloc dl ld sun m crypt sec util c cposix posix ucb BSD gdbm_compat -Uuseithreads -Uuselongdouble -DEBUGGING=-g'
hint=recommended
useposix=true
d_sigaction=define
useithreads=undef
usemultiplicity=undef
use64bitint=define
use64bitall=define
uselongdouble=undef
usemymalloc=n
default_inc_excludes_dot=define
Compiler:
cc='cc'
ccflags ='-fwrapv -fno-strict-aliasing -pipe -fstack-protector-strong -I/usr/local/include -D_LARGEFILE_SOURCE -D_FILE_OFFSET_BITS=64'
optimize='-O2 -g'
cppflags='-fwrapv -fno-strict-aliasing -pipe -fstack-protector-strong -I/usr/local/include'
ccversion=''
gccversion='11.4.0'
gccosandvers=''
intsize=4
longsize=8
ptrsize=8
doublesize=8
byteorder=12345678
doublekind=3
d_longlong=define
longlongsize=8
d_longdbl=define
longdblsize=16
longdblkind=3
ivtype='long'
ivsize=8
nvtype='double'
nvsize=8
Off_t='off_t'
lseeksize=8
alignbytes=8
prototype=define
Linker and Libraries:
ld='cc'
ldflags =' -fstack-protector-strong -L/usr/local/lib'
libpth=/usr/local/lib /usr/lib/x86_64-linux-gnu /usr/lib /usr/lib64
libs=-lpthread -lnsl -ldl -lm -lcrypt -lutil -lc
perllibs=-lpthread -lnsl -ldl -lm -lcrypt -lutil -lc
libc=/lib/x86_64-linux-gnu/libc.so.6
so=so
useshrplib=false
libperl=libperl.a
gnulibc_version='2.35'
Dynamic Linking:
dlsrc=dl_dlopen.xs
dlext=so
d_dlsymun=undef
ccdlflags='-Wl,-E'
cccdlflags='-fPIC'
lddlflags='-shared -O2 -g -L/usr/local/lib -fstack-protector-strong'
Characteristics of this binary (from libperl):
Compile-time options:
HAS_LONG_DOUBLE
HAS_STRTOLD
HAS_TIMES
PERLIO_LAYERS
PERL_COPY_ON_WRITE
PERL_DONT_CREATE_GVSV
PERL_HASH_FUNC_SIPHASH13
PERL_HASH_USE_SBOX32
PERL_MALLOC_WRAP
PERL_OP_PARENT
PERL_PRESERVE_IVUV
PERL_USE_DEVEL
PERL_USE_SAFE_PUTENV
USE_64_BIT_ALL
USE_64_BIT_INT
USE_LARGE_FILES
USE_LOCALE
USE_LOCALE_COLLATE
USE_LOCALE_CTYPE
USE_LOCALE_NUMERIC
USE_LOCALE_TIME
USE_PERLIO
USE_PERL_ATOF
Built under linux
Compiled at Aug 21 2023 02:09:42
%ENV:
PERL="/tmp/basesmoker-reloperl-Dq7W/bin/perl"
PERL5LIB="/tmp/loop_over_bdir-2467-5X_Rnc/EJBCA-CrlPublish-0.60-0/blib/arch:/tmp/loop_over_bdir-2467-5X_Rnc/EJBCA-CrlPublish-0.60-0/blib/lib:/tmp/loop_over_bdir-2467-5X_Rnc/Devel-Required-0.16-0/blib/arch:/tmp/loop_over_bdir-2467-5X_Rnc/Devel-Required-0.16-0/blib/lib:/tmp/loop_over_bdir-2467-5X_Rnc/Captive-Portal-4.10-0/blib/arch:/tmp/loop_over_bdir-2467-5X_Rnc/Captive-Portal-4.10-0/blib/lib:/tmp/loop_over_bdir-2467-5X_Rnc/RDF-NLP-SPARQLQuery-0.1-0/blib/arch:/tmp/loop_over_bdir-2467-5X_Rnc/RDF-NLP-SPARQLQuery-0.1-0/blib/lib:/tmp/loop_over_bdir-2467-5X_Rnc/mmds-1.902-0/blib/arch:/tmp/loop_over_bdir-2467-5X_Rnc/mmds-1.902-0/blib/lib:/tmp/loop_over_bdir-2467-5X_Rnc/ProjectBuilder-0.14.1-0/blib/arch:/tmp/loop_over_bdir-2467-5X_Rnc/ProjectBuilder-0.14.1-0/blib/lib:/tmp/loop_over_bdir-2467-5X_Rnc/Net-ISP-Balance-1.31-0/blib/arch:/tmp/loop_over_bdir-2467-5X_Rnc/Net-ISP-Balance-1.31-0/blib/lib"
PERL5OPT=""
PERL5_CPANPLUS_IS_RUNNING="2475"
PERL5_CPAN_IS_RUNNING="2475"
PERL_CANARY_STABILITY_NOPROMPT="1"
PERL_MM_USE_DEFAULT="1"
PERL_USE_UNSAFE_INC="1"
@INC:
/tmp/loop_over_bdir-2467-5X_Rnc/EJBCA-CrlPublish-0.60-0/blib/arch
/tmp/loop_over_bdir-2467-5X_Rnc/EJBCA-CrlPublish-0.60-0/blib/lib
/tmp/loop_over_bdir-2467-5X_Rnc/Devel-Required-0.16-0/blib/arch
/tmp/loop_over_bdir-2467-5X_Rnc/Devel-Required-0.16-0/blib/lib
/tmp/loop_over_bdir-2467-5X_Rnc/Captive-Portal-4.10-0/blib/arch
/tmp/loop_over_bdir-2467-5X_Rnc/Captive-Portal-4.10-0/blib/lib
/tmp/loop_over_bdir-2467-5X_Rnc/RDF-NLP-SPARQLQuery-0.1-0/blib/arch
/tmp/loop_over_bdir-2467-5X_Rnc/RDF-NLP-SPARQLQuery-0.1-0/blib/lib
/tmp/loop_over_bdir-2467-5X_Rnc/mmds-1.902-0/blib/arch
/tmp/loop_over_bdir-2467-5X_Rnc/mmds-1.902-0/blib/lib
/tmp/loop_over_bdir-2467-5X_Rnc/ProjectBuilder-0.14.1-0/blib/arch
/tmp/loop_over_bdir-2467-5X_Rnc/ProjectBuilder-0.14.1-0/blib/lib
/tmp/loop_over_bdir-2467-5X_Rnc/Net-ISP-Balance-1.31-0/blib/arch
/tmp/loop_over_bdir-2467-5X_Rnc/Net-ISP-Balance-1.31-0/blib/lib
/home/sand/src/perl/repoperls/installed-perls/host/k93jammy/v5.39.2/6567/lib/site_perl/5.39.2/x86_64-linux
/home/sand/src/perl/repoperls/installed-perls/host/k93jammy/v5.39.2/6567/lib/site_perl/5.39.2
/home/sand/src/perl/repoperls/installed-perls/host/k93jammy/v5.39.2/6567/lib/5.39.2/x86_64-linux
/home/sand/src/perl/repoperls/installed-perls/host/k93jammy/v5.39.2/6567/lib/5.39.2
.