Report for autodie-2.29

Back
From: metabase:user:20a45eae-6c1a-1014-abaf-4bc2b30e56df
Subject: PASS autodie-2.29 v5.16.2 Windows (Cygwin)
Date: 2017-01-15T12:13:51Z

This distribution has been tested as part of the CPAN Testers
project, supporting the Perl programming language.  See
http://wiki.cpantesters.org/ for more information or email
questions to cpan-testers-discuss@perl.org


--
Dear Paul Jamieson Fenwick,

This is a computer-generated report for autodie-2.29
on perl 5.16.2, created by CPAN-Reporter-1.2018.

Thank you for uploading your work to CPAN.  Congratulations!
All tests were successful.

Sections of this report:

    * Tester comments
    * Program output
    * Prerequisites
    * Environment and other context

------------------------------
TESTER COMMENTS
------------------------------

Additional comments from tester:

this report is from an automated smoke testing program
and was not reviewed by a human for accuracy

------------------------------
PROGRAM OUTPUT
------------------------------

Output from '/usr/bin/make test':

PERL_DL_NONLAZY=1 /cygdrive/e/opt/perl5/cygwin_nt-10.0/2.6.1/x86_64/perl/5.16.2/cygwin/bin/perl.exe "-MExtUtils::Command::MM" "-e" "test_harness(0, 'blib/lib', 'blib/arch')" t/*.t
t/00-load.t ...................... ok
t/args.t ......................... ok
t/author-critic.t ................ skipped: these tests are for testing by the author
t/autodie.t ...................... ok
t/backcompat.t ................... ok
t/basic_exceptions.t ............. ok
t/binmode.t ...................... ok
t/blog_hints.t ................... ok
t/caller.t ....................... ok
t/chmod.t ........................ ok
t/chown.t ........................ ok
t/context.t ...................... ok
t/context_lexical.t .............. ok
t/core-trampoline-slurp.t ........ ok
t/crickey.t ...................... ok
t/critic.t ....................... skipped: Author test.  Set $ENV{AUTHOR_TESTING} to true to run.
t/dbmopen.t ...................... ok
t/eval_error.t ................... ok
t/exception_class.t .............. ok
t/exceptions.t ................... ok
t/exec.t ......................... ok
t/Fatal.t ........................ ok
t/filehandles.t .................. ok
t/fileno.t ....................... ok
t/flock.t ........................ ok
t/fork.t ......................... skipped: BSD::Resource required to test fork()
t/format-clobber.t ............... ok
# Sub::Identify is not loaded
t/hints.t ........................ ok
t/hints_insist.t ................. ok
t/hints_pod_examples.t ........... ok
t/hints_provider_does.t .......... ok
t/hints_provider_easy_does_it.t .. ok
t/hints_provider_isa.t ........... ok
t/import-into.t .................. skipped: Test needs Import::Into >= 1.002004
t/internal-backcompat.t .......... ok
t/internal.t ..................... ok
t/kill.t ......................... ok
t/kwalitee.t ..................... skipped: Author test.  Set $ENV{RELEASE_TESTING} to true to run.
t/lethal.t ....................... ok
t/lex58.t ........................ skipped: IPC::System::Simple required
t/mkdir.t ........................ ok
t/no_carp.t ...................... ok
t/open.t ......................... ok
t/pod-coverage.t ................. skipped: Author test.  Set $ENV{AUTHOR_TESTING} to true to run.
t/pod.t .......................... skipped: Author test.  Set $ENV{AUTHOR_TESTING} to true to run.
t/read.t ......................... ok
t/recv.t ......................... ok
t/release-pod-coverage.t ......... skipped: these tests are for release candidate testing
t/release-pod-syntax.t ........... skipped: these tests are for release candidate testing
t/repeat.t ....................... ok
t/rt-74246.t ..................... ok
t/scope_leak.t ................... ok
t/skip.t ......................... ok
t/socket.t ....................... skipped: Author test.  Set $ENV{AUTHOR_TESTING} to true to run.
t/string-eval-basic.t ............ ok
t/string-eval-leak.t ............. ok
t/sysopen.t ...................... ok
t/system.t ....................... skipped: IPC::System::Simple not installed
t/truncate.t ..................... ok
t/unlink.t ....................... ok
t/user-context.t ................. ok
t/usersub.t ...................... ok
t/utf8_open.t .................... ok
t/utime.t ........................ ok
t/version.t ...................... skipped: Release test.  Set $ENV{RELEASE_TESTING} to true to run.
t/version_tag.t .................. ok
All tests successful.
Files=66, Tests=495, 35 wallclock secs ( 0.12 usr  0.38 sys +  7.48 cusr 25.61 csys = 33.59 CPU)
Result: PASS

------------------------------
PREREQUISITES
------------------------------

Prerequisite modules loaded:

requires:

    Module              Need     Have    
    ------------------- -------- --------
    B                   0        1.35    
    Carp                0        1.26    
    constant            0        1.23    
    Exporter            5.57     5.66    
    ExtUtils::MakeMaker 0        6.63_02 
    Fcntl               0        1.11    
    File::Copy          0        2.23    
    File::Spec          0        3.39_02 
    File::Temp          0        0.22    
    FindBin             0        1.51    
    if                  0        0.0602  
    IO::Handle          0        1.33    
    lib                 0        0.63    
    overload            0        1.18    
    parent              0        0.225   
    perl                5.008004 5.016002
    POSIX               0        1.30    
    Scalar::Util        0        1.25    
    Socket              0        2.001   
    strict              0        1.07    
    Test::More          0        0.98    
    Tie::RefHash        0        1.39    
    warnings            0        1.13    

build_requires:

    Module              Need     Have    
    ------------------- -------- --------
    ExtUtils::MakeMaker 0        6.63_02 

configure_requires:

    Module              Need     Have    
    ------------------- -------- --------
    ExtUtils::MakeMaker 0        6.63_02 


------------------------------
ENVIRONMENT AND OTHER CONTEXT
------------------------------

Environment variables:

    AUTOMATED_TESTING = 1
    COMSPEC = C:\WINDOWS\system32\cmd.exe
    LD_LIBRARY_PATH = 
    NUMBER_OF_PROCESSORS = 8
    PATH = /opt/perl5/cygwin_nt-10.0/2.6.1/x86_64/bin/5.16.2/cygwin:/opt/perl5/cygwin_nt-10.0/2.6.1/x86_64/perl/5.16.2/cygwin/local/bin:/opt/perl5/cygwin_nt-10.0/2.6.1/x86_64/perl/5.16.2/cygwin/bin:/usr/local/bin:/usr/bin
    PERL5LIB = /opt/perl5/cygwin_nt-10.0/2.6.1/x86_64/cpan/5.16.2/cygwin/build/Term-ANSIColor-4.06-eTU0RO/blib/arch:/opt/perl5/cygwin_nt-10.0/2.6.1/x86_64/cpan/5.16.2/cygwin/build/Term-ANSIColor-4.06-eTU0RO/blib/lib:/opt/perl5/cygwin_nt-10.0/2.6.1/x86_64/cpan/5.16.2/cygwin/build/Thread-Queue-3.11-ZipVlW/blib/arch:/opt/perl5/cygwin_nt-10.0/2.6.1/x86_64/cpan/5.16.2/cygwin/build/Thread-Queue-3.11-ZipVlW/blib/lib:/opt/perl5/cygwin_nt-10.0/2.6.1/x86_64/cpan/5.16.2/cygwin/build/Memoize-1.03-gxyQZf/blib/arch:/opt/perl5/cygwin_nt-10.0/2.6.1/x86_64/cpan/5.16.2/cygwin/build/Memoize-1.03-gxyQZf/blib/lib:/opt/perl5/cygwin_nt-10.0/2.6.1/x86_64/perl/5.16.2/cygwin/local/lib/site_perl/5.16.2:/opt/perl5/cygwin_nt-10.0/2.6.1/x86_64/perl/5.16.2/cygwin/local/lib/5.16.2:/opt/perl5/cygwin_nt-10.0/2.6.1/x86_64/perl/5.16.2/cygwin/local/lib/perl5
    PERL5OPT = 
    PERL5_CPANPLUS_IS_RUNNING = 13020
    PERL5_CPAN_IS_RUNNING = 13020
    PERL_CPAN_REPORTER_CONFIG = /opt/perl5/cygwin_nt-10.0/2.6.1/x86_64/cpan/5.16.2/cygwin/reporter/config.ini
    PERL_CPAN_REPORTER_DIR = /opt/perl5/cygwin_nt-10.0/2.6.1/x86_64/cpan/5.16.2/cygwin/reporter
    PERL_EXTUTILS_AUTOINSTALL = 1
    PERL_MM_USE_DEFAULT = 1
    PERL_MY_PREFIX = /opt/perl5
    PERL_MY_SOURCE_DIR = /cygdrive/e/src/perl
    PERL_TEST_CRITIC = 1
    PERL_TEST_CRITIC = 1
    PERL_TEST_POD = 1
    PERL_TEST_POD = 1
    POD_TESTING = 1
    POD_TESTS = 1
    PROCESSOR_IDENTIFIER = Intel64 Family 6 Model 42 Stepping 7, GenuineIntel
    SHELL = /usr/bin/bash
    TEMP = /tmp
    TERM = xterm

Perl special variables (and OS-specific diagnostics, for MSWin32):

    $^X = /cygdrive/e/opt/perl5/cygwin_nt-10.0/2.6.1/x86_64/perl/5.16.2/cygwin/bin/perl
    $UID/$EUID = 197609 / 197609
    $GID = 197609 401408 545 4 66049 11 15 68380 113 66048 262180
    $EGID = 197609 401408 545 4 66049 11 15 68380 113 66048 262180

Perl module toolchain versions installed:

    Module              Have    
    ------------------- --------
    CPAN                1.9800  
    CPAN::Meta          2.120630
    Cwd                 3.39_02 
    ExtUtils::CBuilder  0.280206
    ExtUtils::Command   1.17    
    ExtUtils::Install   1.58    
    ExtUtils::MakeMaker 6.63_02 
    ExtUtils::Manifest  1.61    
    ExtUtils::ParseXS   3.16    
    File::Spec          3.39_02 
    JSON                n/a     
    JSON::PP            2.27200 
    Module::Build       0.39_01 
    Module::Signature   n/a     
    Parse::CPAN::Meta   1.4402  
    Test::Harness       3.23    
    Test::More          0.98    
    YAML                1.21    
    YAML::Syck          n/a     
    version             0.99    


--

Summary of my perl5 (revision 5 version 16 subversion 2) configuration:
   
  Platform:
    osname=cygwin, osvers=2.6.1(0.30553), archname=cygwin
    uname='cygwin_nt-10.0 rigel 2.6.1(0.30553) 2016-12-16 11:55 x86_64 cygwin '
    config_args='-de -Dmksymlinks -Dcc=gcc -Dld=g++ -Uinc_version_list -Uinstallusrbinperl -Uusethreads -Uusemultiplicity -Duse64bitint -Uuselongdouble -Dprefix=/opt/perl5/cygwin_nt-10.0/2.6.1/x86_64/perl/5.16.2/cygwin'
    hint=recommended, useposix=true, d_sigaction=define
    useithreads=undef, usemultiplicity=undef
    useperlio=define, d_sfio=undef, uselargefiles=define, usesocks=undef
    use64bitint=define, use64bitall=define, uselongdouble=undef
    usemymalloc=n, bincompat5005=undef
  Compiler:
    cc='gcc', ccflags ='-DPERL_USE_SAFE_PUTENV -U__STRICT_ANSI__ -fno-strict-aliasing -pipe -fstack-protector',
    optimize='-O3',
    cppflags='-DPERL_USE_SAFE_PUTENV -U__STRICT_ANSI__ -fno-strict-aliasing -pipe -fstack-protector'
    ccversion='', gccversion='5.4.0', gccosandvers=''
    intsize=4, longsize=8, ptrsize=8, doublesize=8, byteorder=12345678
    d_longlong=define, longlongsize=8, d_longdbl=define, longdblsize=16
    ivtype='long', ivsize=8, nvtype='double', nvsize=8, Off_t='off_t', lseeksize=8
    alignbytes=8, prototype=define
  Linker and Libraries:
    ld='g++', ldflags =' -Wl,--enable-auto-import -Wl,--export-all-symbols -Wl,--enable-auto-image-base -fstack-protector -L/usr/local/lib'
    libpth=/usr/local/lib /usr/lib /lib
    libs=-ldl -lcrypt
    perllibs=-ldl -lcrypt
    libc=/usr/lib/libc.a, so=dll, useshrplib=true, libperl=cygperl5_16_2.dll
    gnulibc_version=''
  Dynamic Linking:
    dlsrc=dl_dlopen.xs, dlext=dll, d_dlsymun=undef, ccdlflags=' '
    cccdlflags=' ', lddlflags=' --shared  -Wl,--enable-auto-import -Wl,--export-all-symbols -Wl,--enable-auto-image-base -L/usr/local/lib -fstack-protector'


Characteristics of this binary (from libperl): 
  Compile-time options: HAS_TIMES PERLIO_LAYERS PERL_DONT_CREATE_GVSV
                        PERL_PRESERVE_IVUV PERL_USE_SAFE_PUTENV
                        USE_64_BIT_ALL USE_64_BIT_INT USE_LARGE_FILES
                        USE_LOCALE USE_LOCALE_COLLATE USE_LOCALE_CTYPE
                        USE_LOCALE_NUMERIC USE_PERLIO USE_PERL_ATOF
  Built under cygwin
  Compiled at Dec 23 2016 15:17:36
  %ENV:
    PERL5LIB="/opt/perl5/cygwin_nt-10.0/2.6.1/x86_64/cpan/5.16.2/cygwin/build/Term-ANSIColor-4.06-eTU0RO/blib/arch:/opt/perl5/cygwin_nt-10.0/2.6.1/x86_64/cpan/5.16.2/cygwin/build/Term-ANSIColor-4.06-eTU0RO/blib/lib:/opt/perl5/cygwin_nt-10.0/2.6.1/x86_64/cpan/5.16.2/cygwin/build/Thread-Queue-3.11-ZipVlW/blib/arch:/opt/perl5/cygwin_nt-10.0/2.6.1/x86_64/cpan/5.16.2/cygwin/build/Thread-Queue-3.11-ZipVlW/blib/lib:/opt/perl5/cygwin_nt-10.0/2.6.1/x86_64/cpan/5.16.2/cygwin/build/Memoize-1.03-gxyQZf/blib/arch:/opt/perl5/cygwin_nt-10.0/2.6.1/x86_64/cpan/5.16.2/cygwin/build/Memoize-1.03-gxyQZf/blib/lib:/opt/perl5/cygwin_nt-10.0/2.6.1/x86_64/perl/5.16.2/cygwin/local/lib/site_perl/5.16.2:/opt/perl5/cygwin_nt-10.0/2.6.1/x86_64/perl/5.16.2/cygwin/local/lib/5.16.2:/opt/perl5/cygwin_nt-10.0/2.6.1/x86_64/perl/5.16.2/cygwin/local/lib/perl5"
    PERL5OPT=""
    PERL5_CPANPLUS_IS_RUNNING="13020"
    PERL5_CPAN_IS_RUNNING="13020"
    PERL_CPAN_REPORTER_CONFIG="/opt/perl5/cygwin_nt-10.0/2.6.1/x86_64/cpan/5.16.2/cygwin/reporter/config.ini"
    PERL_CPAN_REPORTER_DIR="/opt/perl5/cygwin_nt-10.0/2.6.1/x86_64/cpan/5.16.2/cygwin/reporter"
    PERL_EXTUTILS_AUTOINSTALL="1"
    PERL_MM_USE_DEFAULT="1"
    PERL_MY_PREFIX="/opt/perl5"
    PERL_MY_SOURCE_DIR="/cygdrive/e/src/perl"
    PERL_TEST_CRITIC="1"
    PERL_TEST_POD="1"
  @INC:
    /opt/perl5/cygwin_nt-10.0/2.6.1/x86_64/cpan/5.16.2/cygwin/build/Term-ANSIColor-4.06-eTU0RO/blib/arch
    /opt/perl5/cygwin_nt-10.0/2.6.1/x86_64/cpan/5.16.2/cygwin/build/Term-ANSIColor-4.06-eTU0RO/blib/lib
    /opt/perl5/cygwin_nt-10.0/2.6.1/x86_64/cpan/5.16.2/cygwin/build/Thread-Queue-3.11-ZipVlW/blib/arch
    /opt/perl5/cygwin_nt-10.0/2.6.1/x86_64/cpan/5.16.2/cygwin/build/Thread-Queue-3.11-ZipVlW/blib/lib
    /opt/perl5/cygwin_nt-10.0/2.6.1/x86_64/cpan/5.16.2/cygwin/build/Memoize-1.03-gxyQZf/blib/arch
    /opt/perl5/cygwin_nt-10.0/2.6.1/x86_64/cpan/5.16.2/cygwin/build/Memoize-1.03-gxyQZf/blib/lib
    /opt/perl5/cygwin_nt-10.0/2.6.1/x86_64/perl/5.16.2/cygwin/local/lib/site_perl/5.16.2/cygwin
    /opt/perl5/cygwin_nt-10.0/2.6.1/x86_64/perl/5.16.2/cygwin/local/lib/site_perl/5.16.2
    /opt/perl5/cygwin_nt-10.0/2.6.1/x86_64/perl/5.16.2/cygwin/local/lib/5.16.2/cygwin
    /opt/perl5/cygwin_nt-10.0/2.6.1/x86_64/perl/5.16.2/cygwin/local/lib/5.16.2
    /opt/perl5/cygwin_nt-10.0/2.6.1/x86_64/perl/5.16.2/cygwin/local/lib/perl5
    /opt/perl5/cygwin_nt-10.0/2.6.1/x86_64/perl/5.16.2/cygwin/lib/site_perl/5.16.2/cygwin
    /opt/perl5/cygwin_nt-10.0/2.6.1/x86_64/perl/5.16.2/cygwin/lib/site_perl/5.16.2
    /opt/perl5/cygwin_nt-10.0/2.6.1/x86_64/perl/5.16.2/cygwin/lib/5.16.2/cygwin
    /opt/perl5/cygwin_nt-10.0/2.6.1/x86_64/perl/5.16.2/cygwin/lib/5.16.2
    .