Report for Acme-Locals-0.0.1

Back
From: metabase:user:21427c7c-6c1b-1014-a310-4ed93fdd96d6
Subject: UNKNOWN Acme-Locals-0.0.1 v5.17.6 GNU/Linux
Date: 2012-12-12T00:24:03Z

This distribution has been tested as part of the CPAN Testers
project, supporting the Perl programming language.  See
http://wiki.cpantesters.org/ for more information or email
questions to cpan-testers-discuss@perl.org


--
Dear Ask Solem,

This is a computer-generated report for Acme-Locals-0.0.1
on perl 5.17.6, created by CPAN-Reporter-1.2007.

Thank you for uploading your work to CPAN.  However, attempting to
test your distribution gave an inconclusive result.

This could be because your distribution had an error during the make/build
stage, did not define tests, tests could not be found, because your tests were
interrupted before they finished, or because the results of the tests could not
be parsed.  You may wish to consult the CPAN Testers Wiki:

http://wiki.cpantesters.org/wiki/CPANAuthorNotes

Sections of this report:

    * Tester comments
    * Program output
    * Prerequisites
    * Environment and other context

------------------------------
TESTER COMMENTS
------------------------------

Additional comments from tester:

none provided

------------------------------
PROGRAM OUTPUT
------------------------------

Output from '/usr/bin/make test':

PERL_DL_NONLAZY=1 /home/jm/perl5/perlbrew/perls/perl-5.17.6/bin/perl5.17.6 "-MExtUtils::Command::MM" "-e" "test_harness(0, 'inc', 'blib/lib', 'blib/arch')" t/00-Kwalitee.t t/00-YAML-META_valid.t t/minimum_version.t t/perlcritic.t t/pod-coverage.t t/pod-spell.t t/pod.t
t/00-Kwalitee.t ......... skipped: Author test.  Set $ENV{CLASS_DOT_AUTHOR} to a true value to
t/00-YAML-META_valid.t .. skipped: Author test.  Set $ENV{CLASS_DOT_AUTHOR} to a true value to
t/minimum_version.t ..... skipped: Author test.  Set $ENV{CLASS_DOT_AUTHOR} to a true value to run.
t/perlcritic.t .......... skipped: Author test.  Set $ENV{CLASS_DOT_AUTHOR} to a true value to run.
t/pod-coverage.t ........ skipped: Author test.  Set $ENV{CLASS_DOT_AUTHOR} to a true value to run.
t/pod-spell.t ........... skipped: Author test.  Set $ENV{CLASS_DOT_AUTHOR} to a true value to run.
t/pod.t ................. skipped: Author test.  Set $ENV{CLASS_DOT_AUTHOR} to a true value to run.
Files=7, Tests=0,  1 wallclock secs ( 0.08 usr  0.02 sys +  0.45 cusr  0.06 csys =  0.61 CPU)
Result: NOTESTS

------------------------------
PREREQUISITES
------------------------------

Prerequisite modules loaded:

requires:

    Module              Need Have   
    ------------------- ---- -------
    PadWalker           0    1.96   
    Params::Util        0    1.07   
    Scalar::Util        1.14 1.25   
    Test::Simple        0.42 0.98   
    version             0    0.9901 

build_requires:

    Module              Need Have   
    ------------------- ---- -------
    ExtUtils::MakeMaker 0    6.63_02


------------------------------
ENVIRONMENT AND OTHER CONTEXT
------------------------------

Environment variables:

    LANG = pl_PL.UTF-8
    LC_COLLATE = pl_PL.UTF-8
    LC_MESSAGES = POSIX
    PATH = /home/jm/perl5/perlbrew/bin:/home/jm/perl5/perlbrew/perls/perl-5.17.6/bin:/home/jm/perl5/perlbrew/bin:/usr/local/bin:/usr/bin:/bin:/usr/games:/usr/lib/kde4/libexec:/usr/lib/qt/bin:.
    PERL5LIB = 
    PERL5OPT = 
    PERL5_CPANPLUS_IS_RUNNING = 22914
    PERL5_CPAN_IS_RUNNING = 22914
    PERLBREW_BASHRC_VERSION = 0.55
    PERLBREW_HOME = /home/jm/.perlbrew
    PERLBREW_MANPATH = /home/jm/perl5/perlbrew/perls/perl-5.17.6/man
    PERLBREW_PATH = /home/jm/perl5/perlbrew/bin:/home/jm/perl5/perlbrew/perls/perl-5.17.6/bin
    PERLBREW_PERL = perl-5.17.6
    PERLBREW_ROOT = /home/jm/perl5/perlbrew
    PERLBREW_VERSION = 0.58
    SHELL = /bin/bash
    TERM = xterm

Perl special variables (and OS-specific diagnostics, for MSWin32):

    $^X = /home/jm/perl5/perlbrew/perls/perl-5.17.6/bin/perl5.17.6
    $UID/$EUID = 1000 / 1000
    $GID = 100 6 10 17 18 19 83 84 93 94 100 1000
    $EGID = 100 6 10 17 18 19 83 84 93 94 100 1000

Perl module toolchain versions installed:

    Module              Have    
    ------------------- --------
    CPAN                1.99_51 
    CPAN::Meta          2.120921
    Cwd                 3.39_02 
    ExtUtils::CBuilder  0.280209
    ExtUtils::Command   1.17    
    ExtUtils::Install   1.58    
    ExtUtils::MakeMaker 6.63_02 
    ExtUtils::Manifest  1.62    
    ExtUtils::ParseXS   3.18    
    File::Spec          3.39_02 
    JSON                2.53    
    JSON::PP            2.27200 
    Module::Build       0.4003  
    Module::Signature   n/a     
    Parse::CPAN::Meta   1.4404  
    Test::Harness       3.25_01 
    Test::More          0.98    
    YAML                0.84    
    YAML::Syck          n/a     
    version             0.9901  


--

Summary of my perl5 (revision 5 version 17 subversion 6) configuration:
   
  Platform:
    osname=linux, osvers=3.2.29-smp, archname=i686-linux
    uname='linux darkstar 3.2.29-smp #2 smp mon sep 17 13:16:43 cdt 2012 i686 intel(r) celeron(r) cpu 3.06ghz genuineintel gnulinux '
    config_args='-de -Dprefix=/home/jm/perl5/perlbrew/perls/perl-5.17.6 -Dmad -Doptimize=-march=i486 -mtune=i686 -O2 -Dusedevel -Aeval:scriptdir=/home/jm/perl5/perlbrew/perls/perl-5.17.6/bin'
    hint=recommended, useposix=true, d_sigaction=define
    useithreads=undef, usemultiplicity=undef
    useperlio=define, d_sfio=undef, uselargefiles=define, usesocks=undef
    use64bitint=undef, use64bitall=undef, uselongdouble=undef
    usemymalloc=n, bincompat5005=undef
  Compiler:
    cc='cc', ccflags ='-fno-strict-aliasing -pipe -fstack-protector -I/usr/local/include -D_LARGEFILE_SOURCE -D_FILE_OFFSET_BITS=64',
    optimize='-march=i486 -mtune=i686 -O2',
    cppflags='-fno-strict-aliasing -pipe -fstack-protector -I/usr/local/include'
    ccversion='', gccversion='4.7.1', gccosandvers=''
    intsize=4, longsize=4, ptrsize=4, doublesize=8, byteorder=1234
    d_longlong=define, longlongsize=8, d_longdbl=define, longdblsize=12
    ivtype='long', ivsize=4, nvtype='double', nvsize=8, Off_t='off_t', lseeksize=8
    alignbytes=4, prototype=define
  Linker and Libraries:
    ld='cc', ldflags =' -fstack-protector -L/usr/local/lib'
    libpth=/usr/local/lib /lib /usr/lib
    libs=-lnsl -lgdbm -ldb -ldl -lm -lcrypt -lutil -lc
    perllibs=-lnsl -ldl -lm -lcrypt -lutil -lc
    libc=/lib/libc-2.15.so, so=so, useshrplib=false, libperl=libperl.a
    gnulibc_version='2.15'
  Dynamic Linking:
    dlsrc=dl_dlopen.xs, dlext=so, d_dlsymun=undef, ccdlflags='-Wl,-E'
    cccdlflags='-fPIC', lddlflags='-shared -march=i486 -mtune=i686 -O2 -L/usr/local/lib -fstack-protector'


Characteristics of this binary (from libperl): 
  Compile-time options: HAS_TIMES PERLIO_LAYERS PERL_DONT_CREATE_GVSV
                        PERL_MAD PERL_MALLOC_WRAP PERL_PRESERVE_IVUV
                        PERL_USE_DEVEL USE_LARGE_FILES USE_LOCALE
                        USE_LOCALE_COLLATE USE_LOCALE_CTYPE
                        USE_LOCALE_NUMERIC USE_PERLIO USE_PERL_ATOF
  Built under linux
  Compiled at Nov 24 2012 22:26:28
  %ENV:
    PERL5LIB=""
    PERL5OPT=""
    PERL5_CPANPLUS_IS_RUNNING="22914"
    PERL5_CPAN_IS_RUNNING="22914"
    PERLBREW_BASHRC_VERSION="0.55"
    PERLBREW_HOME="/home/jm/.perlbrew"
    PERLBREW_MANPATH="/home/jm/perl5/perlbrew/perls/perl-5.17.6/man"
    PERLBREW_PATH="/home/jm/perl5/perlbrew/bin:/home/jm/perl5/perlbrew/perls/perl-5.17.6/bin"
    PERLBREW_PERL="perl-5.17.6"
    PERLBREW_ROOT="/home/jm/perl5/perlbrew"
    PERLBREW_VERSION="0.58"
  @INC:
    /home/jm/perl5/perlbrew/perls/perl-5.17.6/lib/site_perl/5.17.6/i686-linux
    /home/jm/perl5/perlbrew/perls/perl-5.17.6/lib/site_perl/5.17.6
    /home/jm/perl5/perlbrew/perls/perl-5.17.6/lib/5.17.6/i686-linux
    /home/jm/perl5/perlbrew/perls/perl-5.17.6/lib/5.17.6
    .