Report for Data-FormValidator-4.81

Back
From: metabase:user:320bfe00-2aae-11df-837a-5e0a49663a4f
Subject: PASS Data-FormValidator-4.81 v5.18.0 GNU/Linux
Date: 2013-07-19T12:32:10Z

This distribution has been tested as part of the CPAN Testers
project, supporting the Perl programming language.  See
http://wiki.cpantesters.org/ for more information or email
questions to cpan-testers-discuss@perl.org


--
Dear Mark Stosberg,

This is a computer-generated report for Data-FormValidator-4.81
on perl 5.18.0, created by CPAN-Reporter-1.2010.

Thank you for uploading your work to CPAN.  Congratulations!
All tests were successful.

Sections of this report:

    * Tester comments
    * Program output
    * Prerequisites
    * Environment and other context

------------------------------
TESTER COMMENTS
------------------------------

Additional comments from tester:

this report is from an automated smoke testing program
and was not reviewed by a human for accuracy

------------------------------
PROGRAM OUTPUT
------------------------------

Output from './Build test':

Smartmatch is experimental at (eval 7) line 7.
Smartmatch is experimental at (eval 7) line 14.
Smartmatch is experimental at (eval 9) line 7.
Smartmatch is experimental at (eval 9) line 14.
Smartmatch is experimental at (eval 11) line 7.
Smartmatch is experimental at (eval 11) line 14.
Smartmatch is experimental at (eval 13) line 10.
Smartmatch is experimental at (eval 13) line 20.
t/00_base.t .............................. ok
Smartmatch is experimental at (eval 6) line 7.
Smartmatch is experimental at (eval 6) line 14.
Smartmatch is experimental at (eval 8) line 7.
Smartmatch is experimental at (eval 8) line 14.
Smartmatch is experimental at (eval 10) line 7.
Smartmatch is experimental at (eval 10) line 14.
Smartmatch is experimental at (eval 12) line 10.
Smartmatch is experimental at (eval 12) line 20.
t/02_code_ref.t .......................... ok
Smartmatch is experimental at (eval 6) line 7.
Smartmatch is experimental at (eval 6) line 14.
Smartmatch is experimental at (eval 8) line 7.
Smartmatch is experimental at (eval 8) line 14.
Smartmatch is experimental at (eval 10) line 7.
Smartmatch is experimental at (eval 10) line 14.
Smartmatch is experimental at (eval 12) line 10.
Smartmatch is experimental at (eval 12) line 20.
t/03_dependency.t ........................ ok
Smartmatch is experimental at (eval 6) line 7.
Smartmatch is experimental at (eval 6) line 14.
Smartmatch is experimental at (eval 8) line 7.
Smartmatch is experimental at (eval 8) line 14.
Smartmatch is experimental at (eval 10) line 7.
Smartmatch is experimental at (eval 10) line 14.
Smartmatch is experimental at (eval 12) line 10.
Smartmatch is experimental at (eval 12) line 20.
t/04_arrayify_undef.t .................... ok
Smartmatch is experimental at (eval 6) line 7.
Smartmatch is experimental at (eval 6) line 14.
Smartmatch is experimental at (eval 8) line 7.
Smartmatch is experimental at (eval 8) line 14.
Smartmatch is experimental at (eval 10) line 7.
Smartmatch is experimental at (eval 10) line 14.
Smartmatch is experimental at (eval 12) line 10.
Smartmatch is experimental at (eval 12) line 20.
t/05_valid_ip_address.t .................. ok
Smartmatch is experimental at (eval 6) line 7.
Smartmatch is experimental at (eval 6) line 14.
Smartmatch is experimental at (eval 8) line 7.
Smartmatch is experimental at (eval 8) line 14.
Smartmatch is experimental at (eval 10) line 7.
Smartmatch is experimental at (eval 10) line 14.
Smartmatch is experimental at (eval 12) line 10.
Smartmatch is experimental at (eval 12) line 20.
t/06_regexp_map.t ........................ ok
Smartmatch is experimental at (eval 6) line 7.
Smartmatch is experimental at (eval 6) line 14.
Smartmatch is experimental at (eval 8) line 7.
Smartmatch is experimental at (eval 8) line 14.
Smartmatch is experimental at (eval 10) line 7.
Smartmatch is experimental at (eval 10) line 14.
Smartmatch is experimental at (eval 12) line 10.
Smartmatch is experimental at (eval 12) line 20.
t/09_require_some.t ...................... ok
Smartmatch is experimental at (eval 6) line 7.
Smartmatch is experimental at (eval 6) line 14.
Smartmatch is experimental at (eval 8) line 7.
Smartmatch is experimental at (eval 8) line 14.
Smartmatch is experimental at (eval 10) line 7.
Smartmatch is experimental at (eval 10) line 14.
Smartmatch is experimental at (eval 12) line 10.
Smartmatch is experimental at (eval 12) line 20.
t/11_procedural_match.t .................. ok
Smartmatch is experimental at (eval 6) line 7.
Smartmatch is experimental at (eval 6) line 14.
Smartmatch is experimental at (eval 8) line 7.
Smartmatch is experimental at (eval 8) line 14.
Smartmatch is experimental at (eval 10) line 7.
Smartmatch is experimental at (eval 10) line 14.
Smartmatch is experimental at (eval 12) line 10.
Smartmatch is experimental at (eval 12) line 20.
t/13_validator_packages.t ................ ok
Smartmatch is experimental at (eval 6) line 7.
Smartmatch is experimental at (eval 6) line 14.
Smartmatch is experimental at (eval 8) line 7.
Smartmatch is experimental at (eval 8) line 14.
Smartmatch is experimental at (eval 10) line 7.
Smartmatch is experimental at (eval 10) line 14.
Smartmatch is experimental at (eval 12) line 10.
Smartmatch is experimental at (eval 12) line 20.
t/15_literal_param_constraints.t ......... ok
Smartmatch is experimental at (eval 7) line 7.
Smartmatch is experimental at (eval 7) line 14.
Smartmatch is experimental at (eval 9) line 7.
Smartmatch is experimental at (eval 9) line 14.
Smartmatch is experimental at (eval 11) line 7.
Smartmatch is experimental at (eval 11) line 14.
Smartmatch is experimental at (eval 13) line 10.
Smartmatch is experimental at (eval 13) line 20.
t/16_cgi_object.t ........................ ok
Smartmatch is experimental at (eval 6) line 7.
Smartmatch is experimental at (eval 6) line 14.
Smartmatch is experimental at (eval 8) line 7.
Smartmatch is experimental at (eval 8) line 14.
Smartmatch is experimental at (eval 10) line 7.
Smartmatch is experimental at (eval 10) line 14.
Smartmatch is experimental at (eval 12) line 10.
Smartmatch is experimental at (eval 12) line 20.
t/17_multi_valued_keys.t ................. ok
Smartmatch is experimental at (eval 6) line 7.
Smartmatch is experimental at (eval 6) line 14.
Smartmatch is experimental at (eval 8) line 7.
Smartmatch is experimental at (eval 8) line 14.
Smartmatch is experimental at (eval 10) line 7.
Smartmatch is experimental at (eval 10) line 14.
Smartmatch is experimental at (eval 12) line 10.
Smartmatch is experimental at (eval 12) line 20.
t/18_constraint_refs.t ................... ok
Smartmatch is experimental at (eval 6) line 7.
Smartmatch is experimental at (eval 6) line 14.
Smartmatch is experimental at (eval 8) line 7.
Smartmatch is experimental at (eval 8) line 14.
Smartmatch is experimental at (eval 10) line 7.
Smartmatch is experimental at (eval 10) line 14.
Smartmatch is experimental at (eval 12) line 10.
Smartmatch is experimental at (eval 12) line 20.
t/19_refs_as_values.t .................... ok
Smartmatch is experimental at (eval 6) line 7.
Smartmatch is experimental at (eval 6) line 14.
Smartmatch is experimental at (eval 8) line 7.
Smartmatch is experimental at (eval 8) line 14.
Smartmatch is experimental at (eval 10) line 7.
Smartmatch is experimental at (eval 10) line 14.
Smartmatch is experimental at (eval 12) line 10.
Smartmatch is experimental at (eval 12) line 20.
t/20_careful_exception_handling.t ........ ok
Smartmatch is experimental at (eval 6) line 7.
Smartmatch is experimental at (eval 6) line 14.
Smartmatch is experimental at (eval 8) line 7.
Smartmatch is experimental at (eval 8) line 14.
Smartmatch is experimental at (eval 10) line 7.
Smartmatch is experimental at (eval 10) line 14.
Smartmatch is experimental at (eval 12) line 10.
Smartmatch is experimental at (eval 12) line 20.
t/21_multiple_fields.t ................... ok
Smartmatch is experimental at (eval 6) line 7.
Smartmatch is experimental at (eval 6) line 14.
Smartmatch is experimental at (eval 8) line 7.
Smartmatch is experimental at (eval 8) line 14.
Smartmatch is experimental at (eval 10) line 7.
Smartmatch is experimental at (eval 10) line 14.
Smartmatch is experimental at (eval 12) line 10.
Smartmatch is experimental at (eval 12) line 20.
t/25_results.t ........................... ok
Smartmatch is experimental at (eval 6) line 7.
Smartmatch is experimental at (eval 6) line 14.
Smartmatch is experimental at (eval 8) line 7.
Smartmatch is experimental at (eval 8) line 14.
Smartmatch is experimental at (eval 10) line 7.
Smartmatch is experimental at (eval 10) line 14.
Smartmatch is experimental at (eval 12) line 10.
Smartmatch is experimental at (eval 12) line 20.
t/26_qr.t ................................ ok
Smartmatch is experimental at (eval 6) line 7.
Smartmatch is experimental at (eval 6) line 14.
Smartmatch is experimental at (eval 8) line 7.
Smartmatch is experimental at (eval 8) line 14.
Smartmatch is experimental at (eval 10) line 7.
Smartmatch is experimental at (eval 10) line 14.
Smartmatch is experimental at (eval 12) line 10.
Smartmatch is experimental at (eval 12) line 20.
t/27_qualify_ref_happy_death.t ........... ok
Smartmatch is experimental at (eval 6) line 7.
Smartmatch is experimental at (eval 6) line 14.
Smartmatch is experimental at (eval 8) line 7.
Smartmatch is experimental at (eval 8) line 14.
Smartmatch is experimental at (eval 10) line 7.
Smartmatch is experimental at (eval 10) line 14.
Smartmatch is experimental at (eval 12) line 10.
Smartmatch is experimental at (eval 12) line 20.
t/28_defaults_for_new.t .................. ok
Smartmatch is experimental at (eval 6) line 7.
Smartmatch is experimental at (eval 6) line 14.
Smartmatch is experimental at (eval 8) line 7.
Smartmatch is experimental at (eval 8) line 14.
Smartmatch is experimental at (eval 10) line 7.
Smartmatch is experimental at (eval 10) line 14.
Smartmatch is experimental at (eval 12) line 10.
Smartmatch is experimental at (eval 12) line 20.
t/30_filter_definedness.t ................ ok
Smartmatch is experimental at (eval 7) line 7.
Smartmatch is experimental at (eval 7) line 14.
Smartmatch is experimental at (eval 9) line 7.
Smartmatch is experimental at (eval 9) line 14.
Smartmatch is experimental at (eval 11) line 7.
Smartmatch is experimental at (eval 11) line 14.
Smartmatch is experimental at (eval 13) line 10.
Smartmatch is experimental at (eval 13) line 20.
t/FV_length.t ............................ ok
Smartmatch is experimental at (eval 6) line 7.
Smartmatch is experimental at (eval 6) line 14.
Smartmatch is experimental at (eval 8) line 7.
Smartmatch is experimental at (eval 8) line 14.
Smartmatch is experimental at (eval 10) line 7.
Smartmatch is experimental at (eval 10) line 14.
Smartmatch is experimental at (eval 12) line 10.
Smartmatch is experimental at (eval 12) line 20.
t/any_errors.t ........................... ok
Smartmatch is experimental at (eval 6) line 7.
Smartmatch is experimental at (eval 6) line 14.
Smartmatch is experimental at (eval 8) line 7.
Smartmatch is experimental at (eval 8) line 14.
Smartmatch is experimental at (eval 10) line 7.
Smartmatch is experimental at (eval 10) line 14.
Smartmatch is experimental at (eval 12) line 10.
Smartmatch is experimental at (eval 12) line 20.
t/check_profile_syntax.t ................. ok
Smartmatch is experimental at (eval 6) line 7.
Smartmatch is experimental at (eval 6) line 14.
Smartmatch is experimental at (eval 8) line 7.
Smartmatch is experimental at (eval 8) line 14.
Smartmatch is experimental at (eval 10) line 7.
Smartmatch is experimental at (eval 10) line 14.
Smartmatch is experimental at (eval 12) line 10.
Smartmatch is experimental at (eval 12) line 20.
t/closure_msgs.t ......................... ok
Smartmatch is experimental at (eval 6) line 7.
Smartmatch is experimental at (eval 6) line 14.
Smartmatch is experimental at (eval 8) line 7.
Smartmatch is experimental at (eval 8) line 14.
Smartmatch is experimental at (eval 10) line 7.
Smartmatch is experimental at (eval 10) line 14.
Smartmatch is experimental at (eval 12) line 10.
Smartmatch is experimental at (eval 12) line 20.
t/constraint_method.t .................... ok
Smartmatch is experimental at (eval 7) line 7.
Smartmatch is experimental at (eval 7) line 14.
Smartmatch is experimental at (eval 9) line 7.
Smartmatch is experimental at (eval 9) line 14.
Smartmatch is experimental at (eval 11) line 7.
Smartmatch is experimental at (eval 11) line 14.
Smartmatch is experimental at (eval 13) line 10.
Smartmatch is experimental at (eval 13) line 20.
t/constraint_method_string.t ............. ok
Smartmatch is experimental at (eval 6) line 7.
Smartmatch is experimental at (eval 6) line 14.
Smartmatch is experimental at (eval 8) line 7.
Smartmatch is experimental at (eval 8) line 14.
Smartmatch is experimental at (eval 10) line 7.
Smartmatch is experimental at (eval 10) line 14.
Smartmatch is experimental at (eval 12) line 10.
Smartmatch is experimental at (eval 12) line 20.
t/constraint_method_zero.t ............... ok
Smartmatch is experimental at (eval 6) line 7.
Smartmatch is experimental at (eval 6) line 14.
Smartmatch is experimental at (eval 8) line 7.
Smartmatch is experimental at (eval 8) line 14.
Smartmatch is experimental at (eval 10) line 7.
Smartmatch is experimental at (eval 10) line 14.
Smartmatch is experimental at (eval 12) line 10.
Smartmatch is experimental at (eval 12) line 20.
t/constraint_regexp_map_profile_reuse.t .. ok
Smartmatch is experimental at (eval 6) line 7.
Smartmatch is experimental at (eval 6) line 14.
Smartmatch is experimental at (eval 8) line 7.
Smartmatch is experimental at (eval 8) line 14.
Smartmatch is experimental at (eval 10) line 7.
Smartmatch is experimental at (eval 10) line 14.
Smartmatch is experimental at (eval 12) line 10.
Smartmatch is experimental at (eval 12) line 20.
t/constraints_builtin.t .................. ok
Smartmatch is experimental at (eval 6) line 7.
Smartmatch is experimental at (eval 6) line 14.
Smartmatch is experimental at (eval 8) line 7.
Smartmatch is experimental at (eval 8) line 14.
Smartmatch is experimental at (eval 10) line 7.
Smartmatch is experimental at (eval 10) line 14.
Smartmatch is experimental at (eval 12) line 10.
Smartmatch is experimental at (eval 12) line 20.
t/constraints_builtin_closure.t .......... ok
Smartmatch is experimental at (eval 6) line 7.
Smartmatch is experimental at (eval 6) line 14.
Smartmatch is experimental at (eval 8) line 7.
Smartmatch is experimental at (eval 8) line 14.
Smartmatch is experimental at (eval 10) line 7.
Smartmatch is experimental at (eval 10) line 14.
Smartmatch is experimental at (eval 12) line 10.
Smartmatch is experimental at (eval 12) line 20.
t/constraints_factory.t .................. ok
Smartmatch is experimental at (eval 6) line 7.
Smartmatch is experimental at (eval 6) line 14.
Smartmatch is experimental at (eval 8) line 7.
Smartmatch is experimental at (eval 8) line 14.
Smartmatch is experimental at (eval 10) line 7.
Smartmatch is experimental at (eval 10) line 14.
Smartmatch is experimental at (eval 12) line 10.
Smartmatch is experimental at (eval 12) line 20.
t/constraints_invalid_once_only.t ........ ok
Smartmatch is experimental at (eval 6) line 7.
Smartmatch is experimental at (eval 6) line 14.
Smartmatch is experimental at (eval 8) line 7.
Smartmatch is experimental at (eval 8) line 14.
Smartmatch is experimental at (eval 10) line 7.
Smartmatch is experimental at (eval 10) line 14.
Smartmatch is experimental at (eval 12) line 10.
Smartmatch is experimental at (eval 12) line 20.
t/constraints_num_values.t ............... ok
Smartmatch is experimental at (eval 6) line 7.
Smartmatch is experimental at (eval 6) line 14.
Smartmatch is experimental at (eval 8) line 7.
Smartmatch is experimental at (eval 8) line 14.
Smartmatch is experimental at (eval 10) line 7.
Smartmatch is experimental at (eval 10) line 14.
Smartmatch is experimental at (eval 12) line 10.
Smartmatch is experimental at (eval 12) line 20.
t/constraints_regexp_map_interaction.t ... ok
Smartmatch is experimental at (eval 6) line 7.
Smartmatch is experimental at (eval 6) line 14.
Smartmatch is experimental at (eval 8) line 7.
Smartmatch is experimental at (eval 8) line 14.
Smartmatch is experimental at (eval 10) line 7.
Smartmatch is experimental at (eval 10) line 14.
Smartmatch is experimental at (eval 12) line 10.
Smartmatch is experimental at (eval 12) line 20.
t/constraints_reuse.t .................... ok
Smartmatch is experimental at (eval 3) line 7.
Smartmatch is experimental at (eval 3) line 14.
Smartmatch is experimental at (eval 5) line 7.
Smartmatch is experimental at (eval 5) line 14.
Smartmatch is experimental at (eval 7) line 7.
Smartmatch is experimental at (eval 7) line 14.
Smartmatch is experimental at (eval 9) line 10.
Smartmatch is experimental at (eval 9) line 20.
t/credit_card.t .......................... ok
Smartmatch is experimental at (eval 6) line 7.
Smartmatch is experimental at (eval 6) line 14.
Smartmatch is experimental at (eval 8) line 7.
Smartmatch is experimental at (eval 8) line 14.
Smartmatch is experimental at (eval 10) line 7.
Smartmatch is experimental at (eval 10) line 14.
Smartmatch is experimental at (eval 12) line 10.
Smartmatch is experimental at (eval 12) line 20.
t/dates.t ................................ ok
Smartmatch is experimental at (eval 6) line 7.
Smartmatch is experimental at (eval 6) line 14.
Smartmatch is experimental at (eval 8) line 7.
Smartmatch is experimental at (eval 8) line 14.
Smartmatch is experimental at (eval 10) line 7.
Smartmatch is experimental at (eval 10) line 14.
Smartmatch is experimental at (eval 12) line 10.
Smartmatch is experimental at (eval 12) line 20.
t/dates_closure.t ........................ ok
Smartmatch is experimental at (eval 6) line 7.
Smartmatch is experimental at (eval 6) line 14.
Smartmatch is experimental at (eval 8) line 7.
Smartmatch is experimental at (eval 8) line 14.
Smartmatch is experimental at (eval 10) line 7.
Smartmatch is experimental at (eval 10) line 14.
Smartmatch is experimental at (eval 12) line 10.
Smartmatch is experimental at (eval 12) line 20.
t/dependency_coderef.t ................... ok
Smartmatch is experimental at (eval 6) line 7.
Smartmatch is experimental at (eval 6) line 14.
Smartmatch is experimental at (eval 8) line 7.
Smartmatch is experimental at (eval 8) line 14.
Smartmatch is experimental at (eval 10) line 7.
Smartmatch is experimental at (eval 10) line 14.
Smartmatch is experimental at (eval 12) line 10.
Smartmatch is experimental at (eval 12) line 20.
t/dependency_groups.t .................... ok
Smartmatch is experimental at (eval 6) line 7.
Smartmatch is experimental at (eval 6) line 14.
Smartmatch is experimental at (eval 8) line 7.
Smartmatch is experimental at (eval 8) line 14.
Smartmatch is experimental at (eval 10) line 7.
Smartmatch is experimental at (eval 10) line 14.
Smartmatch is experimental at (eval 12) line 10.
Smartmatch is experimental at (eval 12) line 20.
t/filter_constraints.t ................... ok
"my" variable $replacer masks earlier declaration in same scope at t/filters_builtin.t line 17.
t/filters_builtin.t ...................... ok
Smartmatch is experimental at (eval 6) line 7.
Smartmatch is experimental at (eval 6) line 14.
Smartmatch is experimental at (eval 8) line 7.
Smartmatch is experimental at (eval 8) line 14.
Smartmatch is experimental at (eval 10) line 7.
Smartmatch is experimental at (eval 10) line 14.
Smartmatch is experimental at (eval 12) line 10.
Smartmatch is experimental at (eval 12) line 20.
t/filters_shouldnt_modify.t .............. ok
Smartmatch is experimental at (eval 6) line 7.
Smartmatch is experimental at (eval 6) line 14.
Smartmatch is experimental at (eval 8) line 7.
Smartmatch is experimental at (eval 8) line 14.
Smartmatch is experimental at (eval 10) line 7.
Smartmatch is experimental at (eval 10) line 14.
Smartmatch is experimental at (eval 12) line 10.
Smartmatch is experimental at (eval 12) line 20.
t/get_filtered_data.t .................... ok
Smartmatch is experimental at (eval 6) line 7.
Smartmatch is experimental at (eval 6) line 14.
Smartmatch is experimental at (eval 8) line 7.
Smartmatch is experimental at (eval 8) line 14.
Smartmatch is experimental at (eval 10) line 7.
Smartmatch is experimental at (eval 10) line 14.
Smartmatch is experimental at (eval 12) line 10.
Smartmatch is experimental at (eval 12) line 20.
t/get_input_data.t ....................... ok
Smartmatch is experimental at (eval 6) line 7.
Smartmatch is experimental at (eval 6) line 14.
Smartmatch is experimental at (eval 8) line 7.
Smartmatch is experimental at (eval 8) line 14.
Smartmatch is experimental at (eval 10) line 7.
Smartmatch is experimental at (eval 10) line 14.
Smartmatch is experimental at (eval 12) line 10.
Smartmatch is experimental at (eval 12) line 20.
t/missing_optional.t ..................... ok
Smartmatch is experimental at (eval 6) line 7.
Smartmatch is experimental at (eval 6) line 14.
Smartmatch is experimental at (eval 8) line 7.
Smartmatch is experimental at (eval 8) line 14.
Smartmatch is experimental at (eval 10) line 7.
Smartmatch is experimental at (eval 10) line 14.
Smartmatch is experimental at (eval 12) line 10.
Smartmatch is experimental at (eval 12) line 20.
t/msgs.t ................................. ok
Smartmatch is experimental at (eval 3) line 7.
Smartmatch is experimental at (eval 3) line 14.
Smartmatch is experimental at (eval 5) line 7.
Smartmatch is experimental at (eval 5) line 14.
Smartmatch is experimental at (eval 7) line 7.
Smartmatch is experimental at (eval 7) line 14.
Smartmatch is experimental at (eval 9) line 10.
Smartmatch is experimental at (eval 9) line 20.
t/multiple_constraints.t ................. ok
Smartmatch is experimental at (eval 6) line 7.
Smartmatch is experimental at (eval 6) line 14.
Smartmatch is experimental at (eval 8) line 7.
Smartmatch is experimental at (eval 8) line 14.
Smartmatch is experimental at (eval 10) line 7.
Smartmatch is experimental at (eval 10) line 14.
Smartmatch is experimental at (eval 12) line 10.
Smartmatch is experimental at (eval 12) line 20.
t/params_not_mentioned.t ................. ok
t/pod.t .................................. ok
Smartmatch is experimental at (eval 6) line 7.
Smartmatch is experimental at (eval 6) line 14.
Smartmatch is experimental at (eval 8) line 7.
Smartmatch is experimental at (eval 8) line 14.
Smartmatch is experimental at (eval 10) line 7.
Smartmatch is experimental at (eval 10) line 14.
Smartmatch is experimental at (eval 12) line 10.
Smartmatch is experimental at (eval 12) line 20.
t/procedural_valid.t ..................... ok
Smartmatch is experimental at (eval 6) line 7.
Smartmatch is experimental at (eval 6) line 14.
Smartmatch is experimental at (eval 8) line 7.
Smartmatch is experimental at (eval 8) line 14.
Smartmatch is experimental at (eval 10) line 7.
Smartmatch is experimental at (eval 10) line 14.
Smartmatch is experimental at (eval 12) line 10.
Smartmatch is experimental at (eval 12) line 20.
t/profile_checking.t ..................... ok
Smartmatch is experimental at (eval 6) line 7.
Smartmatch is experimental at (eval 6) line 14.
Smartmatch is experimental at (eval 8) line 7.
Smartmatch is experimental at (eval 8) line 14.
Smartmatch is experimental at (eval 10) line 7.
Smartmatch is experimental at (eval 10) line 14.
Smartmatch is experimental at (eval 12) line 10.
Smartmatch is experimental at (eval 12) line 20.
t/regexp_common.t ........................ ok
Smartmatch is experimental at (eval 6) line 7.
Smartmatch is experimental at (eval 6) line 14.
Smartmatch is experimental at (eval 8) line 7.
Smartmatch is experimental at (eval 8) line 14.
Smartmatch is experimental at (eval 10) line 7.
Smartmatch is experimental at (eval 10) line 14.
Smartmatch is experimental at (eval 12) line 10.
Smartmatch is experimental at (eval 12) line 20.
t/regexp_common_closure.t ................ ok
Smartmatch is experimental at (eval 6) line 7.
Smartmatch is experimental at (eval 6) line 14.
Smartmatch is experimental at (eval 8) line 7.
Smartmatch is experimental at (eval 8) line 14.
Smartmatch is experimental at (eval 10) line 7.
Smartmatch is experimental at (eval 10) line 14.
Smartmatch is experimental at (eval 12) line 10.
Smartmatch is experimental at (eval 12) line 20.
t/rename_builtin_constraints.t ........... ok
Smartmatch is experimental at (eval 6) line 7.
Smartmatch is experimental at (eval 6) line 14.
Smartmatch is experimental at (eval 8) line 7.
Smartmatch is experimental at (eval 8) line 14.
Smartmatch is experimental at (eval 10) line 7.
Smartmatch is experimental at (eval 10) line 14.
Smartmatch is experimental at (eval 12) line 10.
Smartmatch is experimental at (eval 12) line 20.
t/results_success.t ...................... ok
Smartmatch is experimental at (eval 6) line 7.
Smartmatch is experimental at (eval 6) line 14.
Smartmatch is experimental at (eval 8) line 7.
Smartmatch is experimental at (eval 8) line 14.
Smartmatch is experimental at (eval 10) line 7.
Smartmatch is experimental at (eval 10) line 14.
Smartmatch is experimental at (eval 12) line 10.
Smartmatch is experimental at (eval 12) line 20.
t/simple.t ............................... ok
Smartmatch is experimental at (eval 6) line 7.
Smartmatch is experimental at (eval 6) line 14.
Smartmatch is experimental at (eval 8) line 7.
Smartmatch is experimental at (eval 8) line 14.
Smartmatch is experimental at (eval 10) line 7.
Smartmatch is experimental at (eval 10) line 14.
Smartmatch is experimental at (eval 12) line 10.
Smartmatch is experimental at (eval 12) line 20.
t/tt_and_overload.t ...................... ok
Smartmatch is experimental at (eval 6) line 7.
Smartmatch is experimental at (eval 6) line 14.
Smartmatch is experimental at (eval 8) line 7.
Smartmatch is experimental at (eval 8) line 14.
Smartmatch is experimental at (eval 10) line 7.
Smartmatch is experimental at (eval 10) line 14.
Smartmatch is experimental at (eval 12) line 10.
Smartmatch is experimental at (eval 12) line 20.
t/undefined_arrayref.t ................... ok
Smartmatch is experimental at (eval 6) line 7.
Smartmatch is experimental at (eval 6) line 14.
Smartmatch is experimental at (eval 8) line 7.
Smartmatch is experimental at (eval 8) line 14.
Smartmatch is experimental at (eval 10) line 7.
Smartmatch is experimental at (eval 10) line 14.
Smartmatch is experimental at (eval 12) line 10.
Smartmatch is experimental at (eval 12) line 20.
t/unknown.t .............................. ok
Smartmatch is experimental at (eval 6) line 7.
Smartmatch is experimental at (eval 6) line 14.
Smartmatch is experimental at (eval 8) line 7.
Smartmatch is experimental at (eval 8) line 14.
Smartmatch is experimental at (eval 10) line 7.
Smartmatch is experimental at (eval 10) line 14.
Smartmatch is experimental at (eval 12) line 10.
Smartmatch is experimental at (eval 12) line 20.
t/untaint.t .............................. ok
Smartmatch is experimental at (eval 12) line 7.
Smartmatch is experimental at (eval 12) line 14.
Smartmatch is experimental at (eval 14) line 7.
Smartmatch is experimental at (eval 14) line 14.
Smartmatch is experimental at (eval 16) line 7.
Smartmatch is experimental at (eval 16) line 14.
Smartmatch is experimental at (eval 18) line 10.
Smartmatch is experimental at (eval 18) line 20.
# Adding CGI::Simple tests
# testing with CGI.pm version: 3.63
# testing with CGI::Simple version: 1.113
# Running tests with CGI
# Running tests with CGI::Simple
t/upload.t ............................... ok
Smartmatch is experimental at (eval 12) line 7.
Smartmatch is experimental at (eval 12) line 14.
Smartmatch is experimental at (eval 14) line 7.
Smartmatch is experimental at (eval 14) line 14.
Smartmatch is experimental at (eval 16) line 7.
Smartmatch is experimental at (eval 16) line 14.
Smartmatch is experimental at (eval 18) line 10.
Smartmatch is experimental at (eval 18) line 20.
# testing with CGI.pm version: 3.63
t/upload_closure.t ....................... ok
t/upload_mime_types.t .................... ok
All tests successful.
Files=65, Tests=631, 13 wallclock secs ( 0.21 usr  0.06 sys +  4.11 cusr  0.55 csys =  4.93 CPU)
Result: PASS

------------------------------
PREREQUISITES
------------------------------

Prerequisite modules loaded:

requires:

    Module          Need  Have      
    --------------- ----- ----------
    Date::Calc      5     6.3       
    Email::Valid    0     0.190     
    File::MMagic    1.17  1.30      
    Image::Size     0     3.232     
    MIME::Types     1.005 1.38      
    overload        0     1.22      
    perl            5.008 5.018000  
    Perl6::Junction 1.1   1.50000   
    Regexp::Common  0     2013031301
    Scalar::Util    0     1.27      
    Test::More      0     0.98      

build_requires:

    Module          Need  Have      
    --------------- ----- ----------
    CGI             3.48  3.63      

configure_requires:

    Module          Need  Have      
    --------------- ----- ----------
    Module::Build   0.38  0.4007    


------------------------------
ENVIRONMENT AND OTHER CONTEXT
------------------------------

Environment variables:

    AUTOMATED_TESTING = 1
    LANG = en_US.UTF-8
    LANGUAGE = en_US:en
    PATH = /usr/lib/ccache:/home/sand/bin:/usr/local/bin:/usr/bin:/bin:/usr/bin/X11:/usr/games:/usr/local/perl/bin:/usr/X11/bin:/sbin:/usr/sbin
    PERL5LIB = 
    PERL5OPT = 
    PERL5_CPANPLUS_IS_RUNNING = 12465
    PERL5_CPAN_IS_RUNNING = 12465
    PERL_MM_USE_DEFAULT = 1
    SHELL = /usr/bin/zsh
    TERM = screen

Perl special variables (and OS-specific diagnostics, for MSWin32):

    $^X = /home/sand/src/perl/repoperls/installed-perls/perl/v5.18.0/127e/bin/perl
    $UID/$EUID = 1005 / 1005
    $GID = 1005 1005
    $EGID = 1005 1005

Perl module toolchain versions installed:

    Module              Have    
    ------------------- --------
    CPAN                2.00    
    CPAN::Meta          2.120921
    Cwd                 3.40    
    ExtUtils::CBuilder  0.280210
    ExtUtils::Command   1.17    
    ExtUtils::Install   1.59    
    ExtUtils::MakeMaker 6.69_08 
    ExtUtils::Manifest  1.63    
    ExtUtils::ParseXS   3.18    
    File::Spec          3.40    
    JSON                2.59    
    JSON::PP            2.27202 
    Module::Build       0.4007  
    Module::Signature   0.73    
    Parse::CPAN::Meta   1.4405  
    Test::Harness       3.28    
    Test::More          0.98    
    YAML                0.84    
    YAML::Syck          1.27    
    version             0.9902  


--

Summary of my perl5 (revision 5 version 18 subversion 0) configuration:
  Commit id: a9acda3b5f74585852a57b51b724804ac586cb0b
  Platform:
    osname=linux, osvers=3.9-1-amd64, archname=x86_64-linux-ld
    uname='linux k83 3.9-1-amd64 #1 smp debian 3.9.8-1 x86_64 gnulinux '
    config_args='-Dprefix=/home/sand/src/perl/repoperls/installed-perls/perl/v5.18.0/127e -Dmyhostname=k83 -Dinstallusrbinperl=n -Uversiononly -Dusedevel -des -Ui_db -Uuseithreads -Duselongdouble -DDEBUGGING=-g'
    hint=recommended, useposix=true, d_sigaction=define
    useithreads=undef, usemultiplicity=undef
    useperlio=define, d_sfio=undef, uselargefiles=define, usesocks=undef
    use64bitint=define, use64bitall=define, uselongdouble=define
    usemymalloc=n, bincompat5005=undef
  Compiler:
    cc='cc', ccflags ='-fno-strict-aliasing -pipe -fstack-protector -I/usr/local/include -D_LARGEFILE_SOURCE -D_FILE_OFFSET_BITS=64',
    optimize='-O2 -g',
    cppflags='-fno-strict-aliasing -pipe -fstack-protector -I/usr/local/include'
    ccversion='', gccversion='4.8.1', gccosandvers=''
    intsize=4, longsize=8, ptrsize=8, doublesize=8, byteorder=12345678
    d_longlong=define, longlongsize=8, d_longdbl=define, longdblsize=16
    ivtype='long', ivsize=8, nvtype='long double', nvsize=16, Off_t='off_t', lseeksize=8
    alignbytes=16, prototype=define
  Linker and Libraries:
    ld='cc', ldflags =' -fstack-protector -L/usr/local/lib'
    libpth=/usr/local/lib /lib/x86_64-linux-gnu /lib/../lib /usr/lib/x86_64-linux-gnu /usr/lib/../lib /lib /usr/lib
    libs=-lnsl -lgdbm -ldb -ldl -lm -lcrypt -lutil -lc -lgdbm_compat
    perllibs=-lnsl -ldl -lm -lcrypt -lutil -lc
    libc=, so=so, useshrplib=false, libperl=libperl.a
    gnulibc_version='2.17'
  Dynamic Linking:
    dlsrc=dl_dlopen.xs, dlext=so, d_dlsymun=undef, ccdlflags='-Wl,-E'
    cccdlflags='-fPIC', lddlflags='-shared -O2 -g -L/usr/local/lib -fstack-protector'


Characteristics of this binary (from libperl): 
  Compile-time options: HAS_TIMES PERLIO_LAYERS PERL_DONT_CREATE_GVSV
                        PERL_HASH_FUNC_ONE_AT_A_TIME_HARD PERL_MALLOC_WRAP
                        PERL_PRESERVE_IVUV PERL_SAWAMPERSAND PERL_USE_DEVEL
                        USE_64_BIT_ALL USE_64_BIT_INT USE_LARGE_FILES
                        USE_LOCALE USE_LOCALE_COLLATE USE_LOCALE_CTYPE
                        USE_LOCALE_NUMERIC USE_LONG_DOUBLE USE_PERLIO
                        USE_PERL_ATOF
  Built under linux
  Compiled at Jul  3 2013 00:59:57
  %ENV:
    PERL5LIB=""
    PERL5OPT=""
    PERL5_CPANPLUS_IS_RUNNING="12465"
    PERL5_CPAN_IS_RUNNING="12465"
    PERL_MM_USE_DEFAULT="1"
  @INC:
    /home/sand/src/perl/repoperls/installed-perls/perl/v5.18.0/127e/lib/site_perl/5.18.0/x86_64-linux-ld
    /home/sand/src/perl/repoperls/installed-perls/perl/v5.18.0/127e/lib/site_perl/5.18.0
    /home/sand/src/perl/repoperls/installed-perls/perl/v5.18.0/127e/lib/5.18.0/x86_64-linux-ld
    /home/sand/src/perl/repoperls/installed-perls/perl/v5.18.0/127e/lib/5.18.0
    .