Back
From: metabase:user:30ae4450-2aae-11df-837a-5e0a49663a4f
Subject: PASS Data-Comparable-1.100840 v5.14.2 Windows (Cygwin)
Date: 2013-03-30T14:43:26Z
This distribution has been tested as part of the CPAN Testers
project, supporting the Perl programming language. See
http://wiki.cpantesters.org/ for more information or email
questions to cpan-testers-discuss@perl.org
--
Dear Marcel Gruenauer,
This is a computer-generated report for Data-Comparable-1.100840
on perl 5.14.2, created by CPAN-Reporter-1.2006.
Thank you for uploading your work to CPAN. Congratulations!
All tests were successful.
Sections of this report:
* Tester comments
* Program output
* Prerequisites
* Environment and other context
------------------------------
TESTER COMMENTS
------------------------------
Additional comments from tester:
this report is from an automated smoke testing program
and was not reviewed by a human for accuracy
------------------------------
PROGRAM OUTPUT
------------------------------
Output from '/usr/bin/make test':
PERL_DL_NONLAZY=1 /usr/bin/perl.exe "-MExtUtils::Command::MM" "-e" "test_harness(0, 'blib/lib', 'blib/arch')" t/*.t
t/00-compile.t ............... ok
# Testing with Perl 5.014002, /usr/bin/perl
# Carp version is 1.26
# Data::Dumper version is 2.130_02
# Data::Inherited version is 1.100860
# English version is 1.04
# ExtUtils::MakeMaker version is 6.64
# File::Find version is 1.19
# File::Temp version is 0.22
# FindBin version is 1.50
# Scalar::Util version is 1.27
# Test::More version is 0.98
# UNIVERSAL::require version is 0.13
# YAML version is 0.80
# constant version is 1.21
# parent version is 0.225
t/000-report-versions.t ...... ok
t/01_all.t ................... ok
t/author-critic.t ............ skipped: these tests are for testing by the author
t/release-check-changes.t .... skipped: these tests are for release candidate testing
t/release-dist-manifest.t .... skipped: these tests are for release candidate testing
t/release-has-version.t ...... skipped: these tests are for release candidate testing
t/release-kwalitee.t ......... skipped: these tests are for release candidate testing
t/release-meta-yaml.t ........ skipped: these tests are for release candidate testing
t/release-minimum-version.t .. skipped: these tests are for release candidate testing
t/release-pod-coverage.t ..... skipped: these tests are for release candidate testing
t/release-pod-spell.t ........ skipped: these tests are for release candidate testing
t/release-pod-syntax.t ....... skipped: these tests are for release candidate testing
t/release-portability.t ...... skipped: these tests are for release candidate testing
t/release-synopsis.t ......... skipped: these tests are for release candidate testing
All tests successful.
Files=15, Tests=19, 2 wallclock secs ( 0.03 usr 0.11 sys + 1.10 cusr 0.55 csys = 1.79 CPU)
Result: PASS
------------------------------
PREREQUISITES
------------------------------
Prerequisite modules loaded:
requires:
Module Need Have
------------------- ---- --------
Carp 0 1.26
constant 0 1.21
Data::Dumper 0 2.130_02
Data::Inherited 0 1.100860
English 0 1.04
File::Find 0 1.19
File::Temp 0 0.22
FindBin 0 1.50
parent 0 0.225
Scalar::Util 0 1.27
Test::More 0.88 0.98
UNIVERSAL::require 0 0.13
YAML 0 0.80
configure_requires:
Module Need Have
------------------- ---- --------
ExtUtils::MakeMaker 6.11 6.64
------------------------------
ENVIRONMENT AND OTHER CONTEXT
------------------------------
Environment variables:
AUTOMATED_TESTING = 1
COMSPEC = C:\WINDOWS\system32\cmd.exe
LANG = ru_RU.UTF-8
NUMBER_OF_PROCESSORS = 1
PATH = /usr/local/bin:/usr/bin:/cygdrive/c/WINDOWS/system32:/cygdrive/c/WINDOWS:/cygdrive/c/WINDOWS/System32/Wbem
PERL5LIB =
PERL5OPT =
PERL5_CPANPLUS_IS_RUNNING = 3240
PERL5_CPAN_IS_RUNNING = 3240
PERL5_CPAN_IS_RUNNING_IN_RECURSION = 1788,3240
PERL_EXTUTILS_AUTOINSTALL = --defaultdeps
PERL_MM_USE_DEFAULT = 1
PROCESSOR_IDENTIFIER = x86 Family 16 Model 5 Stepping 3, AuthenticAMD
SHELL = /bin/bash
TEMP = /tmp
TERM = xterm
Perl special variables (and OS-specific diagnostics, for MSWin32):
$^X = /usr/bin/perl
$UID/$EUID = 1003 / 1003
$GID = 513 0 544 545 513
$EGID = 513 0 544 545 513
Perl module toolchain versions installed:
Module Have
------------------- --------
CPAN 1.9800
CPAN::Meta 2.120921
Cwd 3.40
ExtUtils::CBuilder 0.280203
ExtUtils::Command 1.17
ExtUtils::Install 1.56
ExtUtils::MakeMaker 6.64
ExtUtils::Manifest 1.60
ExtUtils::ParseXS 3.18
File::Spec 3.40
JSON 2.53
JSON::PP 2.27200
Module::Build 0.4003
Module::Signature 0.68
Parse::CPAN::Meta 1.4404
Test::Harness 3.23
Test::More 0.98
YAML 0.80
YAML::Syck 1.22
version 0.9902
--
Summary of my perl5 (revision 5 version 14 subversion 2) configuration:
Platform:
osname=cygwin, osvers=1.7.15(0.26053), archname=cygwin-thread-multi-64int
uname='cygwin_nt-5.1 winxp 1.7.15(0.26053) 2012-05-09 10:25 i686 cygwin '
config_args='-de -Dlibperl=cygperl5_14.dll -Dcc=gcc-4 -Dld=g++-4 -Darchname=i686-cygwin-threads-64int -Dmksymlinks -Dusethreads -Accflags=-g'
hint=recommended, useposix=true, d_sigaction=define
useithreads=define, usemultiplicity=define
useperlio=define, d_sfio=undef, uselargefiles=define, usesocks=undef
use64bitint=define, use64bitall=undef, uselongdouble=undef
usemymalloc=n, bincompat5005=undef
Compiler:
cc='gcc-4', ccflags ='-DPERL_USE_SAFE_PUTENV -U__STRICT_ANSI__ -g -fno-strict-aliasing -pipe -fstack-protector',
optimize='-O3',
cppflags='-DPERL_USE_SAFE_PUTENV -U__STRICT_ANSI__ -g -fno-strict-aliasing -pipe -fstack-protector'
ccversion='', gccversion='4.5.3', gccosandvers=''
intsize=4, longsize=4, ptrsize=4, doublesize=8, byteorder=12345678
d_longlong=define, longlongsize=8, d_longdbl=define, longdblsize=12
ivtype='long long', ivsize=8, nvtype='double', nvsize=8, Off_t='off_t', lseeksize=8
alignbytes=8, prototype=define
Linker and Libraries:
ld='g++-4', ldflags =' -Wl,--enable-auto-import -Wl,--export-all-symbols -Wl,--enable-auto-image-base -fstack-protector -L/usr/local/lib'
libpth=/usr/local/lib /usr/lib /lib
libs=-lgdbm -ldb -ldl -lcrypt -lgdbm_compat
perllibs=-ldl -lcrypt
libc=/usr/lib/libc.a, so=dll, useshrplib=true, libperl=cygperl5_14.dll
gnulibc_version=''
Dynamic Linking:
dlsrc=dl_dlopen.xs, dlext=dll, d_dlsymun=undef, ccdlflags=' '
cccdlflags=' ', lddlflags=' --shared -Wl,--enable-auto-import -Wl,--export-all-symbols -Wl,--enable-auto-image-base -L/usr/local/lib -fstack-protector'
Characteristics of this binary (from libperl):
Compile-time options: MULTIPLICITY PERL_DONT_CREATE_GVSV
PERL_IMPLICIT_CONTEXT PERL_PRESERVE_IVUV
PERL_USE_SAFE_PUTENV USE_64_BIT_INT USE_ITHREADS
USE_LARGE_FILES USE_PERLIO USE_PERL_ATOF
USE_REENTRANT_API
Locally applied patches:
Bug#55162 File::Spec::case_tolerant performance
CYG07 $vendorarch/auto/.rebase
CYG15 static Win32CORE
CYG17 cyg-1.7 paths-utf8
0c612ce82 Fix building static extensions on cygwin, -UUSEIMPORTLIB
1bac5ecc1 Fix 64-bit threading sv.c: S_anonymise_cv_maybe
Cygwin::sync_winenv added
Built under cygwin
Compiled at Jul 12 2012 14:17:21
%ENV:
PERL5LIB=""
PERL5OPT=""
PERL5_CPANPLUS_IS_RUNNING="3240"
PERL5_CPAN_IS_RUNNING="3240"
PERL5_CPAN_IS_RUNNING_IN_RECURSION="1788,3240"
PERL_EXTUTILS_AUTOINSTALL="--defaultdeps"
PERL_MM_USE_DEFAULT="1"
@INC:
/usr/lib/perl5/site_perl/5.14/i686-cygwin-threads-64int
/usr/lib/perl5/site_perl/5.14
/usr/lib/perl5/vendor_perl/5.14/i686-cygwin-threads-64int
/usr/lib/perl5/vendor_perl/5.14
/usr/lib/perl5/5.14/i686-cygwin-threads-64int
/usr/lib/perl5/5.14
/usr/lib/perl5/site_perl/5.10
/usr/lib/perl5/vendor_perl/5.10
/usr/lib/perl5/site_perl/5.8
.