Alien-libpid v0.033 Perl 5 v5.8.8 x86_64-linux

Status
Pass
From
Andreas J. König (ANDK)
Dist
Alien-libpid v0.033
Platform
Perl 5 v5.8.8 x86_64-linux
Date
2019-01-19 17:54:14
ID
3bde37ee-1c13-11e9-81ee-a55bae8d74de
This distribution has been tested as part of the CPAN Testers
project, supporting the Perl programming language.  See
http://wiki.cpantesters.org/ for more information or email
questions to cpan-testers-discuss@perl.org


--
Dear Ahmad Fatoum,

This is a computer-generated report for Alien-libpid-0.033
on perl 5.8.8, created by CPAN-Reporter-1.2018.

Thank you for uploading your work to CPAN.  Congratulations!
All tests were successful.

Sections of this report:

    * Tester comments
    * Program output
    * Prerequisites
    * Environment and other context

------------------------------
TESTER COMMENTS
------------------------------

Additional comments from tester:

this report is from an automated smoke testing program
and was not reviewed by a human for accuracy

------------------------------
PROGRAM OUTPUT
------------------------------

Output from '/usr/bin/make test':

"/home/sand/src/perl/repoperls/installed-perls/host/k93stretch/perl-5.8.8/21a6/bin/perl" -MAlien::Build::MM=cmd -e test
Useless use of string ne in void context at /tmp/loop_over_bdir-28597-C8VOjC/Alien-libpid-0.033-0/alienfile line 29.
Alien::Build::Plugin::PkgConfig::Negotiate> Using PkgConfig plugin: PkgConfig::CommandLine
PERL_DL_NONLAZY=1 "/home/sand/src/perl/repoperls/installed-perls/host/k93stretch/perl-5.8.8/21a6/bin/perl" "-MExtUtils::Command::MM" "-MTest::Harness" "-e" "undef *Test::Harness::Switches; test_harness(0, 'blib/lib', 'blib/arch')" t/*.t
t/00-compile.t ......... ok
# 
# Versions for all modules listed in MYMETA.json (including optional ones):
# 
# === Configure Requires ===
# 
#     Module                             Want Have
#     ---------------------------------- ---- ----
#     Alien::Build                       0.32 1.50
#     Alien::Build::MM                   0.32 1.50
#     Alien::Build::Plugin::Build::CMake 0.99 1.50
#     ExtUtils::MakeMaker                6.52 7.34
# 
# === Build Requires ===
# 
#     Module                                        Want  Have
#     -------------------------------------------- ----- -----
#     Alien::Build                                  0.32  1.50
#     Alien::Build::MM                              0.32  1.50
#     Alien::Build::Plugin::Gather::IsolateDynamic  0.48  1.50
#     Alien::cmake3                                 0.02  0.04
#     Archive::Tar                                   any  2.32
#     Config                                         any undef
#     ExtUtils::MakeMaker                           6.52  7.34
#     HTTP::Tiny                                   0.044 0.076
#     IO::Socket::SSL                               1.56 2.060
#     IO::Zlib                                       any  1.10
#     Net::SSLeay                                   1.49  1.85
#     URI                                            any  1.74
# 
# === Test Requires ===
# 
#     Module              Want     Have
#     ------------------- ---- --------
#     ExtUtils::MakeMaker 6.52     7.34
#     File::Spec           any     3.75
#     IO::Handle           any     1.25
#     IPC::Open3           any     1.02
#     Test2::Bundle::More  any 0.000118
#     Test::Alien         0.05     1.50
#     Test::More           any 1.302160
# 
# === Test Recommends ===
# 
#     Module         Want     Have
#     ---------- -------- --------
#     CPAN::Meta 2.120900 2.150010
# 
# === Runtime Requires ===
# 
#     Module        Want  Have
#     ------------ ----- -----
#     Alien::Base  0.038  1.50
#     Alien::Build  0.25  1.50
#     parent         any 0.237
#     strict         any  1.03
#     warnings       any  1.05
# 
t/00-report-prereqs.t .. ok
t/init.t ............... ok
All tests successful.
Files=3, Tests=5,  1 wallclock secs ( 0.02 usr  0.02 sys +  0.71 cusr  0.21 csys =  0.96 CPU)
Result: PASS

------------------------------
PREREQUISITES
------------------------------

Prerequisite modules loaded:

requires:

    Module                                       Need  Have    
    -------------------------------------------- ----- --------
    Alien::Base                                  0.038 1.50    
    Alien::Build                                 0.25  1.50    
    parent                                       0     0.237   
    perl                                         5.008 5.008008
    strict                                       0     1.03    
    warnings                                     0     1.05    

build_requires:

    Module                                       Need  Have    
    -------------------------------------------- ----- --------
    Alien::Build                                 0.32  1.50    
    Alien::Build::MM                             0.32  1.50    
    Alien::Build::Plugin::Gather::IsolateDynamic 0.48  1.50    
    Alien::cmake3                                0.02  0.04    
    Archive::Tar                                 0     2.32    
    Config                                       0     0       
    ExtUtils::MakeMaker                          6.52  7.34    
    File::Spec                                   0     3.75    
    HTTP::Tiny                                   0.044 0.076   
    IO::Handle                                   0     1.25    
    IO::Socket::SSL                              1.56  2.060   
    IO::Zlib                                     0     1.10    
    IPC::Open3                                   0     1.02    
    Net::SSLeay                                  1.49  1.85    
    Test2::Bundle::More                          0     0.000118
    Test::Alien                                  0.05  1.50    
    Test::More                                   0     1.302160
    URI                                          0     1.74    

configure_requires:

    Module                                       Need  Have    
    -------------------------------------------- ----- --------
    Alien::Build                                 0.32  1.50    
    Alien::Build::MM                             0.32  1.50    
    Alien::Build::Plugin::Build::CMake           0.99  1.50    
    ExtUtils::MakeMaker                          6.52  7.34    


------------------------------
ENVIRONMENT AND OTHER CONTEXT
------------------------------

Environment variables:

    AUTOMATED_TESTING = 1
    LANG = C
    PATH = /home/sand/bin:/usr/local/bin:/usr/bin:/bin:/usr/games:/usr/local/perl/bin:/usr/X11/bin:/sbin:/usr/sbin
    PERL5LIB = /tmp/loop_over_bdir-28597-C8VOjC/Alien-cmake3-0.04-0/blib/arch:/tmp/loop_over_bdir-28597-C8VOjC/Alien-cmake3-0.04-0/blib/lib:/tmp/loop_over_bdir-28597-C8VOjC/Sort-Versions-1.62-0/blib/arch:/tmp/loop_over_bdir-28597-C8VOjC/Sort-Versions-1.62-0/blib/lib:/tmp/loop_over_bdir-28597-C8VOjC/Alien-Build-1.50-0/blib/arch:/tmp/loop_over_bdir-28597-C8VOjC/Alien-Build-1.50-0/blib/lib:/tmp/loop_over_bdir-28597-C8VOjC/Text-ParseWords-3.30-0/blib/arch:/tmp/loop_over_bdir-28597-C8VOjC/Text-ParseWords-3.30-0/blib/lib:/tmp/loop_over_bdir-28597-C8VOjC/File-chdir-0.1010-0/blib/arch:/tmp/loop_over_bdir-28597-C8VOjC/File-chdir-0.1010-0/blib/lib:/tmp/loop_over_bdir-28597-C8VOjC/FFI-CheckLib-0.23-0/blib/arch:/tmp/loop_over_bdir-28597-C8VOjC/FFI-CheckLib-0.23-0/blib/lib:/tmp/loop_over_bdir-28597-C8VOjC/Test2-Suite-0.000118-0/blib/arch:/tmp/loop_over_bdir-28597-C8VOjC/Test2-Suite-0.000118-0/blib/lib:/tmp/loop_over_bdir-28597-C8VOjC/Test-Simple-1.302160-0/blib/arch:/tmp/loop_over_bdir-28597-C8VOjC/Test-Simple-1.302160-0/blib/lib:/tmp/loop_over_bdir-28597-C8VOjC/Term-Table-0.013-0/blib/arch:/tmp/loop_over_bdir-28597-C8VOjC/Term-Table-0.013-0/blib/lib:/tmp/loop_over_bdir-28597-C8VOjC/Sub-Info-0.002-0/blib/arch:/tmp/loop_over_bdir-28597-C8VOjC/Sub-Info-0.002-0/blib/lib:/tmp/loop_over_bdir-28597-C8VOjC/Scope-Guard-0.21-0/blib/arch:/tmp/loop_over_bdir-28597-C8VOjC/Scope-Guard-0.21-0/blib/lib:/tmp/loop_over_bdir-28597-C8VOjC/Importer-0.025-0/blib/arch:/tmp/loop_over_bdir-28597-C8VOjC/Importer-0.025-0/blib/lib
    PERL5OPT = 
    PERL5_CPANPLUS_IS_RUNNING = 12394
    PERL5_CPAN_IS_RUNNING = 12394
    PERL_CANARY_STABILITY_NOPROMPT = 1
    PERL_MM_USE_DEFAULT = 1
    PERL_USE_UNSAFE_INC = 1
    SHELL = /usr/bin/zsh
    TERM = screen

Perl special variables (and OS-specific diagnostics, for MSWin32):

    $^X = /home/sand/src/perl/repoperls/installed-perls/host/k93stretch/perl-5.8.8/21a6/bin/perl
    $UID/$EUID = 1005 / 1005
    $GID = 1005 1005
    $EGID = 1005 1005

Perl module toolchain versions installed:

    Module              Have    
    ------------------- --------
    CPAN                2.21    
    CPAN::Meta          2.150010
    Cwd                 3.75    
    ExtUtils::CBuilder  0.280230
    ExtUtils::Command   7.34    
    ExtUtils::Install   2.06    
    ExtUtils::MakeMaker 7.34    
    ExtUtils::Manifest  1.70    
    ExtUtils::ParseXS   3.35    
    File::Spec          3.75    
    JSON                4.00    
    JSON::PP            2.97001 
    Module::Build       0.4224  
    Module::Signature   0.83    
    Parse::CPAN::Meta   2.150010
    Test::Harness       3.42    
    Test::More          1.302160
    YAML                1.27    
    YAML::Syck          1.31    
    version             0.9924  


--

Summary of my perl5 (revision 5 version 8 subversion 8) configuration:
  Platform:
    osname=linux, osvers=4.9.0-8-amd64, archname=x86_64-linux
    uname='linux k93stretch 4.9.0-8-amd64 #1 smp debian 4.9.130-2 (2018-10-27) x86_64 gnulinux '
    config_args='-Dprefix=/home/sand/src/perl/repoperls/installed-perls/host/k93stretch/perl-5.8.8/21a6 -Dmyhostname=k93stretch -Dinstallusrbinperl=n -Uversiononly -Dusedevel -des -Ui_db -Dlibswanted=cl pthread socket inet nsl gdbm dbm malloc dl ld sun m crypt sec util c cposix posix ucb BSD gdbm_compat -Uuseithreads -Uuselongdouble -Doptimize=-g'
    hint=recommended, useposix=true, d_sigaction=define
    usethreads=undef use5005threads=undef useithreads=undef usemultiplicity=undef
    useperlio=define d_sfio=undef uselargefiles=define usesocks=undef
    use64bitint=define use64bitall=define uselongdouble=undef
    usemymalloc=n, bincompat5005=undef
  Compiler:
    cc='cc', ccflags ='-DDEBUGGING -fno-strict-aliasing -pipe -Wdeclaration-after-statement -I/usr/local/include -D_LARGEFILE_SOURCE -D_FILE_OFFSET_BITS=64',
    optimize='-g',
    cppflags='-DDEBUGGING -fno-strict-aliasing -pipe -Wdeclaration-after-statement -I/usr/local/include'
    ccversion='', gccversion='6.3.0 20170516', gccosandvers=''
    intsize=4, longsize=8, ptrsize=8, doublesize=8, byteorder=12345678
    d_longlong=define, longlongsize=8, d_longdbl=define, longdblsize=16
    ivtype='long', ivsize=8, nvtype='double', nvsize=8, Off_t='off_t', lseeksize=8
    alignbytes=8, prototype=define
  Linker and Libraries:
    ld='cc', ldflags =' -L/usr/local/lib'
    libpth=/usr/local/lib /lib/x86_64-linux-gnu /lib/../lib /usr/lib/x86_64-linux-gnu /usr/lib/../lib /lib /usr/lib
    libs=-lpthread -lnsl -ldl -lm -lcrypt -lutil -lc
    perllibs=-lpthread -lnsl -ldl -lm -lcrypt -lutil -lc
    libc=libc-2.24.so, so=so, useshrplib=false, libperl=libperl.a
    gnulibc_version='2.24'
  Dynamic Linking:
    dlsrc=dl_dlopen.xs, dlext=so, d_dlsymun=undef, ccdlflags='-Wl,-E'
    cccdlflags='-fpic', lddlflags='-shared -L/usr/local/lib'


Characteristics of this binary (from libperl): 
  Compile-time options: DEBUGGING PERL_MALLOC_WRAP USE_64_BIT_ALL
                        USE_64_BIT_INT USE_LARGE_FILES USE_PERLIO
  Built under linux
  Compiled at Nov 14 2018 03:14:46
  %ENV:
    PERL5LIB="/tmp/loop_over_bdir-28597-C8VOjC/Alien-cmake3-0.04-0/blib/arch:/tmp/loop_over_bdir-28597-C8VOjC/Alien-cmake3-0.04-0/blib/lib:/tmp/loop_over_bdir-28597-C8VOjC/Sort-Versions-1.62-0/blib/arch:/tmp/loop_over_bdir-28597-C8VOjC/Sort-Versions-1.62-0/blib/lib:/tmp/loop_over_bdir-28597-C8VOjC/Alien-Build-1.50-0/blib/arch:/tmp/loop_over_bdir-28597-C8VOjC/Alien-Build-1.50-0/blib/lib:/tmp/loop_over_bdir-28597-C8VOjC/Text-ParseWords-3.30-0/blib/arch:/tmp/loop_over_bdir-28597-C8VOjC/Text-ParseWords-3.30-0/blib/lib:/tmp/loop_over_bdir-28597-C8VOjC/File-chdir-0.1010-0/blib/arch:/tmp/loop_over_bdir-28597-C8VOjC/File-chdir-0.1010-0/blib/lib:/tmp/loop_over_bdir-28597-C8VOjC/FFI-CheckLib-0.23-0/blib/arch:/tmp/loop_over_bdir-28597-C8VOjC/FFI-CheckLib-0.23-0/blib/lib:/tmp/loop_over_bdir-28597-C8VOjC/Test2-Suite-0.000118-0/blib/arch:/tmp/loop_over_bdir-28597-C8VOjC/Test2-Suite-0.000118-0/blib/lib:/tmp/loop_over_bdir-28597-C8VOjC/Test-Simple-1.302160-0/blib/arch:/tmp/loop_over_bdir-28597-C8VOjC/Test-Simple-1.302160-0/blib/lib:/tmp/loop_over_bdir-28597-C8VOjC/Term-Table-0.013-0/blib/arch:/tmp/loop_over_bdir-28597-C8VOjC/Term-Table-0.013-0/blib/lib:/tmp/loop_over_bdir-28597-C8VOjC/Sub-Info-0.002-0/blib/arch:/tmp/loop_over_bdir-28597-C8VOjC/Sub-Info-0.002-0/blib/lib:/tmp/loop_over_bdir-28597-C8VOjC/Scope-Guard-0.21-0/blib/arch:/tmp/loop_over_bdir-28597-C8VOjC/Scope-Guard-0.21-0/blib/lib:/tmp/loop_over_bdir-28597-C8VOjC/Importer-0.025-0/blib/arch:/tmp/loop_over_bdir-28597-C8VOjC/Importer-0.025-0/blib/lib"
    PERL5OPT=""
    PERL5_CPANPLUS_IS_RUNNING="12394"
    PERL5_CPAN_IS_RUNNING="12394"
    PERL_CANARY_STABILITY_NOPROMPT="1"
    PERL_MM_USE_DEFAULT="1"
    PERL_USE_UNSAFE_INC="1"
  @INC:
    /tmp/loop_over_bdir-28597-C8VOjC/Alien-cmake3-0.04-0/blib/arch
    /tmp/loop_over_bdir-28597-C8VOjC/Alien-cmake3-0.04-0/blib/lib
    /tmp/loop_over_bdir-28597-C8VOjC/Sort-Versions-1.62-0/blib/arch
    /tmp/loop_over_bdir-28597-C8VOjC/Sort-Versions-1.62-0/blib/lib
    /tmp/loop_over_bdir-28597-C8VOjC/Alien-Build-1.50-0/blib/arch
    /tmp/loop_over_bdir-28597-C8VOjC/Alien-Build-1.50-0/blib/lib
    /tmp/loop_over_bdir-28597-C8VOjC/Text-ParseWords-3.30-0/blib/arch
    /tmp/loop_over_bdir-28597-C8VOjC/Text-ParseWords-3.30-0/blib/lib
    /tmp/loop_over_bdir-28597-C8VOjC/File-chdir-0.1010-0/blib/arch
    /tmp/loop_over_bdir-28597-C8VOjC/File-chdir-0.1010-0/blib/lib
    /tmp/loop_over_bdir-28597-C8VOjC/FFI-CheckLib-0.23-0/blib/arch
    /tmp/loop_over_bdir-28597-C8VOjC/FFI-CheckLib-0.23-0/blib/lib
    /tmp/loop_over_bdir-28597-C8VOjC/Test2-Suite-0.000118-0/blib/arch
    /tmp/loop_over_bdir-28597-C8VOjC/Test2-Suite-0.000118-0/blib/lib
    /tmp/loop_over_bdir-28597-C8VOjC/Test-Simple-1.302160-0/blib/arch
    /tmp/loop_over_bdir-28597-C8VOjC/Test-Simple-1.302160-0/blib/lib
    /tmp/loop_over_bdir-28597-C8VOjC/Term-Table-0.013-0/blib/arch
    /tmp/loop_over_bdir-28597-C8VOjC/Term-Table-0.013-0/blib/lib
    /tmp/loop_over_bdir-28597-C8VOjC/Sub-Info-0.002-0/blib/arch
    /tmp/loop_over_bdir-28597-C8VOjC/Sub-Info-0.002-0/blib/lib
    /tmp/loop_over_bdir-28597-C8VOjC/Scope-Guard-0.21-0/blib/arch
    /tmp/loop_over_bdir-28597-C8VOjC/Scope-Guard-0.21-0/blib/lib
    /tmp/loop_over_bdir-28597-C8VOjC/Importer-0.025-0/blib/arch
    /tmp/loop_over_bdir-28597-C8VOjC/Importer-0.025-0/blib/lib
    /home/sand/src/perl/repoperls/installed-perls/host/k93stretch/perl-5.8.8/21a6/lib/5.8.8/x86_64-linux
    /home/sand/src/perl/repoperls/installed-perls/host/k93stretch/perl-5.8.8/21a6/lib/5.8.8
    /home/sand/src/perl/repoperls/installed-perls/host/k93stretch/perl-5.8.8/21a6/lib/site_perl/5.8.8/x86_64-linux
    /home/sand/src/perl/repoperls/installed-perls/host/k93stretch/perl-5.8.8/21a6/lib/site_perl/5.8.8
    /home/sand/src/perl/repoperls/installed-perls/host/k93stretch/perl-5.8.8/21a6/lib/site_perl
    .