Promise-XS v0.20 Perl 5 v5.26.1 MSWin32-x64-multi-thread
- Status
- Pass
- From
- twata
- Dist
-
Promise-XS v0.20
- Platform
- Perl 5 v5.26.1 MSWin32-x64-multi-thread
- Date
- 2023-05-12 15:03:47
- ID
- 3bde3e0a-6fd8-1014-ae25-f1e4efaa1848
This distribution has been tested as part of the CPAN Testers
project, supporting the Perl programming language. See
http://wiki.cpantesters.org/ for more information or email
questions to cpan-testers-discuss@perl.org
--
Dear Felipe Gasper,
This is a computer-generated report for Promise-XS-0.20
on perl 5.26.1, created by CPAN-Reporter-1.2018.
Thank you for uploading your work to CPAN. Congratulations!
All tests were successful.
Sections of this report:
* Tester comments
* Program output
* Prerequisites
* Environment and other context
------------------------------
TESTER COMMENTS
------------------------------
Additional comments from tester:
none provided
------------------------------
PROGRAM OUTPUT
------------------------------
Output from 'c:\Strawberry\c\bin\gmake.exe test':
"C:\Strawberry\perl\bin\perl.exe" -MExtUtils::Command::MM -e cp_nonempty -- XS.bs blib\arch\auto\Promise\XS\XS.bs 644
"C:\Strawberry\perl\bin\perl.exe" "-MExtUtils::Command::MM" "-MTest::Harness" "-e" "undef *Test::Harness::Switches; test_harness(0, 'blib\lib', 'blib\arch')" t/*.t
t/alias.t ........................ ok
# AnyEvent 7.17
t/anyevent.t ..................... ok
t/aplus.t ........................ ok
# Future::AsyncAwait 0.65
Promise::XS::Promise: Unhandled rejection: Late oopsie
Promise::XS::Promise: Unhandled rejection: Oopsie
t/async_await.t .................. ok
t/async_await__several_awaits.t .. ok
t/async_await__simple.t .......... ok
t/async_await_hold_ref.t ......... ok
# Future::AsyncAwait 0.65
t/async_await_version.t .......... ok
t/await_wait__anyevent.t ......... ok
t/await_wait__ioasync.t .......... skipped: CanâÂÂt run test: Can't locate IO/Async/Loop.pm in @INC (you may need to install the IO::Async::Loop module) (@INC contains: C:/Strawberry/cpan/build/Promise-XS-0.20-0/t/lib C:\Strawberry\cpan\build\Promise-XS-0.20-0\blib\lib C:\Strawberry\cpan\build\Promise-XS-0.20-0\blib\arch C:\home\bathtub1\perl5\lib\perl5/5.26.1/MSWin32-x64-multi-thread C:\home\bathtub1\perl5\lib\perl5/5.26.1 C:\home\bathtub1\perl5\lib\perl5/MSWin32-x64-multi-thread C:\home\bathtub1\perl5\lib\perl5 C:/Strawberry/perl/site/lib C:/Strawberry/perl/vendor/lib C:/Strawberry/perl/lib .) at (eval 9) line 1.
t/await_wait__mojo.t ............. ok
t/detect_memory_leaks.t .......... ok
t/finally.t ...................... ok
t/infinite_recursion.t ........... ok
t/ioasync.t ...................... skipped: Can't locate IO/Async/Loop.pm in @INC (you may need to install the IO::Async::Loop module) (@INC contains: C:\Strawberry\cpan\build\Promise-XS-0.20-0\blib\lib C:\Strawberry\cpan\build\Promise-XS-0.20-0\blib\arch C:\home\bathtub1\perl5\lib\perl5/5.26.1/MSWin32-x64-multi-thread C:\home\bathtub1\perl5\lib\perl5/5.26.1/MSWin32-x64-multi-thread C:\home\bathtub1\perl5\lib\perl5/5.26.1 C:\home\bathtub1\perl5\lib\perl5/MSWin32-x64-multi-thread C:\home\bathtub1\perl5\lib\perl5/5.26.1/MSWin32-x64-multi-thread C:\home\bathtub1\perl5\lib\perl5/5.26.1 C:\home\bathtub1\perl5\lib\perl5/MSWin32-x64-multi-thread C:\home\bathtub1\perl5\lib\perl5 C:\home\bathtub1\perl5\lib\perl5/5.26.1/MSWin32-x64-multi-thread C:\home\bathtub1\perl5\lib\perl5/5.26.1 C:\home\bathtub1\perl5\lib\perl5/MSWin32-x64-multi-thread C:\home\bathtub1\perl5\lib\perl5 C:/Strawberry/perl/site/lib C:/Strawberry/perl/vendor/lib C:/Strawberry/perl/lib .) at t/ioasync.t line 7.
# Mojolicious 9.31
t/mojo.t ......................... ok
t/multi_return.t ................. ok
t/no_leak_stashed_ref.t .......... ok
t/oserror.t ...................... ok
t/promise_all_race.t ............. ok
t/reject_undef.t ................. ok
t/subclass.t ..................... ok
t/sync.t ......................... ok
t/unhandled_rejection.t .......... ok
Useless assignment to a temporary at t/XSPromises.t line 62.
t/XSPromises.t ................... ok
All tests successful.
Files=25, Tests=189, 12 wallclock secs ( 0.09 usr + 0.03 sys = 0.12 CPU)
Result: PASS
------------------------------
PREREQUISITES
------------------------------
Prerequisite modules loaded:
build_requires:
Module Need Have
----------------------------- ---- --------
ExtUtils::MakeMaker 0 7.70
File::Temp 0 0.2311
Test::Deep 0 1.204
Test::FailWarnings 0 0.008
Test::More 0 1.302194
configure_requires:
Module Need Have
----------------------------- ---- --------
ExtUtils::MakeMaker::CPANfile 0.09 0.09
------------------------------
ENVIRONMENT AND OTHER CONTEXT
------------------------------
Environment variables:
COMSPEC = C:\WINDOWS\system32\cmd.exe
NONINTERACTIVE_TESTING = 1
NUMBER_OF_PROCESSORS = 4
PATH = C:\home\bathtub1\perl5\bin;C:\WINDOWS\system32;C:\WINDOWS;C:\WINDOWS\System32\Wbem;C:\WINDOWS\System32\WindowsPowerShell\v1.0\;C:\Strawberry\c\bin;C:\Strawberry\perl\site\bin;C:\Strawberry\perl\bin
PERL5LIB = C:\home\bathtub1\perl5\lib\perl5
PERL5OPT =
PERL5_CPANPLUS_IS_RUNNING = 8824
PERL5_CPAN_IS_RUNNING = 8824
PERL_LOCAL_LIB_ROOT = C:\home\bathtub1\perl5
PERL_MB_OPT = --install_base "C:\\home\\bathtub1\\perl5"
PERL_MM_OPT = INSTALL_BASE=C:\\home\\bathtub1\\perl5
PERL_MM_USE_DEFAULT = 1
PERL_USE_UNSAFE_INC = 1
PROCESSOR_IDENTIFIER = Intel64 Family 6 Model 58 Stepping 9, GenuineIntel
TEMP = C:\Users\USER\AppData\Local\Temp
TERM = dumb
Perl special variables (and OS-specific diagnostics, for MSWin32):
$^X = C:\Strawberry\perl\bin\perl.exe
$UID/$EUID = 0 / 0
$GID = 0
$EGID = 0
Win32::GetOSName = Win8.1
Win32::GetOSVersion = , 6, 3, 9600, 2, 0, 0, 256, 1
Win32::FsType = NTFS
Win32::IsAdminUser = 0
Perl module toolchain versions installed:
Module Have
------------------- --------
CPAN 2.34
CPAN::Meta 2.150010
Cwd 3.75
ExtUtils::CBuilder 0.280236
ExtUtils::Command 7.70
ExtUtils::Install 2.22
ExtUtils::MakeMaker 7.70
ExtUtils::Manifest 1.73
ExtUtils::ParseXS 3.44
File::Spec 3.75
JSON 4.10
JSON::PP 4.16
Module::Build 0.42_33
Module::Signature 0.88
Parse::CPAN::Meta 2.150010
Test::Harness 3.44
Test::More 1.302194
YAML 1.23
YAML::Syck 1.34
version 0.9929
--
Summary of my perl5 (revision 5 version 26 subversion 1) configuration:
Platform:
osname=MSWin32
osvers=6.3
archname=MSWin32-x64-multi-thread
uname='Win32 strawberry-perl 5.26.1.1 #1 Sun Sep 24 05:32:33 2017 x64'
config_args='undef'
hint=recommended
useposix=true
d_sigaction=undef
useithreads=define
usemultiplicity=define
use64bitint=define
use64bitall=undef
uselongdouble=undef
usemymalloc=n
default_inc_excludes_dot=define
bincompat5005=undef
Compiler:
cc='gcc'
ccflags =' -s -O2 -DWIN32 -DWIN64 -DCONSERVATIVE -D__USE_MINGW_ANSI_STDIO -DPERL_TEXTMODE_SCRIPTS -DPERL_IMPLICIT_CONTEXT -DPERL_IMPLICIT_SYS -DUSE_PERLIO -fwrapv -fno-strict-aliasing -mms-bitfields'
optimize='-s -O2'
cppflags='-DWIN32'
ccversion=''
gccversion='7.1.0'
gccosandvers=''
intsize=4
longsize=4
ptrsize=8
doublesize=8
byteorder=12345678
doublekind=3
d_longlong=define
longlongsize=8
d_longdbl=define
longdblsize=16
longdblkind=3
ivtype='long long'
ivsize=8
nvtype='double'
nvsize=8
Off_t='long long'
lseeksize=8
alignbytes=8
prototype=define
Linker and Libraries:
ld='g++'
ldflags ='-s -L"c:\Strawberry\perl\lib\CORE" -L"c:\Strawberry\c\lib"'
libpth=c:\Strawberry\c\lib c:\Strawberry\c\x86_64-w64-mingw32\lib c:\Strawberry\c\lib\gcc\x86_64-w64-mingw32\7.1.0
libs= -lmoldname -lkernel32 -luser32 -lgdi32 -lwinspool -lcomdlg32 -ladvapi32 -lshell32 -lole32 -loleaut32 -lnetapi32 -luuid -lws2_32 -lmpr -lwinmm -lversion -lodbc32 -lodbccp32 -lcomctl32
perllibs= -lmoldname -lkernel32 -luser32 -lgdi32 -lwinspool -lcomdlg32 -ladvapi32 -lshell32 -lole32 -loleaut32 -lnetapi32 -luuid -lws2_32 -lmpr -lwinmm -lversion -lodbc32 -lodbccp32 -lcomctl32
libc=
so=dll
useshrplib=true
libperl=libperl526.a
gnulibc_version=''
Dynamic Linking:
dlsrc=dl_win32.xs
dlext=xs.dll
d_dlsymun=undef
ccdlflags=' '
cccdlflags=' '
lddlflags='-mdll -s -L"c:\Strawberry\perl\lib\CORE" -L"c:\Strawberry\c\lib"'
Characteristics of this binary (from libperl):
Compile-time options:
HAS_TIMES
HAVE_INTERP_INTERN
MULTIPLICITY
PERLIO_LAYERS
PERL_COPY_ON_WRITE
PERL_DONT_CREATE_GVSV
PERL_IMPLICIT_CONTEXT
PERL_IMPLICIT_SYS
PERL_MALLOC_WRAP
PERL_OP_PARENT
PERL_PRESERVE_IVUV
USE_64_BIT_INT
USE_ITHREADS
USE_LARGE_FILES
USE_LOCALE
USE_LOCALE_COLLATE
USE_LOCALE_CTYPE
USE_LOCALE_NUMERIC
USE_LOCALE_TIME
USE_PERLIO
USE_PERL_ATOF
Built under MSWin32
Compiled at Sep 24 2017 05:47:34
%ENV:
PERL5LIB="C:\home\bathtub1\perl5\lib\perl5"
PERL5_CPANPLUS_IS_RUNNING="8824"
PERL5_CPAN_IS_RUNNING="8824"
PERL_LOCAL_LIB_ROOT="C:\home\bathtub1\perl5"
PERL_MB_OPT="--install_base "C:\\home\\bathtub1\\perl5""
PERL_MM_OPT="INSTALL_BASE=C:\\home\\bathtub1\\perl5"
PERL_MM_USE_DEFAULT="1"
PERL_USE_UNSAFE_INC="1"
@INC:
C:\home\bathtub1\perl5\lib\perl5/5.26.1/MSWin32-x64-multi-thread
C:\home\bathtub1\perl5\lib\perl5/5.26.1
C:\home\bathtub1\perl5\lib\perl5/MSWin32-x64-multi-thread
C:\home\bathtub1\perl5\lib\perl5
C:/Strawberry/perl/site/lib
C:/Strawberry/perl/vendor/lib
C:/Strawberry/perl/lib
.