PadWalker v2.5 Perl 5 v5.40.0 x86_64-linux
- Status
- Pass
- From
- Dist
-
PadWalker v2.5
- Platform
- Perl 5 v5.40.0 x86_64-linux
- Date
- 2024-07-01 15:04:37
- ID
- 3be7e7b6-37bb-11ef-9a30-f135f4396f0a
This distribution has been tested as part of the CPAN Testers
project, supporting the Perl programming language. See
http://wiki.cpantesters.org/ for more information or email
questions to cpan-testers-discuss@perl.org
--
Dear Robin Houston,
This is a computer-generated report for PadWalker-2.5
on perl 5.40.0, created by CPAN-Reporter-1.2019.
Thank you for uploading your work to CPAN. Congratulations!
All tests were successful.
Sections of this report:
* Tester comments
* Program output
* Prerequisites
* Environment and other context
------------------------------
TESTER COMMENTS
------------------------------
Additional comments from tester:
none provided
------------------------------
PROGRAM OUTPUT
------------------------------
Output from '/usr/bin/make test':
"/home/mc7244/perl5/perlbrew/perls/perl-5.40.0/bin/perl" -MExtUtils::Command::MM -e 'cp_nonempty' -- PadWalker.bs blib/arch/auto/PadWalker/PadWalker.bs 644
PERL_DL_NONLAZY=1 "/home/mc7244/perl5/perlbrew/perls/perl-5.40.0/bin/perl" "-MExtUtils::Command::MM" "-MTest::Harness" "-e" "undef *Test::Harness::Switches; test_harness(0, 'blib/lib', 'blib/arch')" t/*.t
"my" variable $blah masks earlier declaration in same scope at t/closure.t line 57.
t/closure.t ... ok
"my" variable $x masks earlier declaration in same scope at t/dm.t line 58.
"our" variable $x masks earlier declaration in same scope at t/dm.t line 63.
t/dm.t ........ ok
t/foo.t ....... ok
"my" variable $h masks earlier declaration in same scope at t/our.t line 12.
t/our.t ....... ok
t/recurse.t ... ok
t/sub.t ....... ok
t/test.t ...... ok
t/tt.t ........ ok
"my" variable $foo masks earlier declaration in same scope at t/var_name.t line 13.
t/var_name.t .. ok
All tests successful.
Files=9, Tests=82, 0 wallclock secs ( 0.02 usr 0.01 sys + 0.03 cusr 0.01 csys = 0.07 CPU)
Result: PASS
------------------------------
PREREQUISITES
------------------------------
Prerequisite modules loaded:
requires:
Module Need Have
------------------- -------- --------
perl 5.008001 5.040000
build_requires:
Module Need Have
------------------- -------- --------
ExtUtils::MakeMaker 0 7.70
configure_requires:
Module Need Have
------------------- -------- --------
ExtUtils::MakeMaker 0 7.70
------------------------------
ENVIRONMENT AND OTHER CONTEXT
------------------------------
Environment variables:
LANG = it_IT.UTF-8
NONINTERACTIVE_TESTING = 1
PATH = /home/mc7244/perl5/perlbrew/bin:/home/mc7244/perl5/perlbrew/perls/perl-5.40.0/bin:/home/mc7244/.local/bin:/home/mc7244/.local/bin:/home/mc7244/.local/bin:/usr/local/sbin:/usr/local/bin:/usr/sbin:/usr/bin:/sbin:/bin:/usr/games:/usr/local/games:/snap/bin
PERL5LIB =
PERL5OPT =
PERL5_CPANPLUS_IS_RUNNING = 100526
PERL5_CPAN_IS_RUNNING = 100526
PERLBREW_HOME = /home/mc7244/.perlbrew
PERLBREW_MANPATH = /home/mc7244/perl5/perlbrew/perls/perl-5.40.0/man
PERLBREW_PATH = /home/mc7244/perl5/perlbrew/bin:/home/mc7244/perl5/perlbrew/perls/perl-5.40.0/bin
PERLBREW_PERL = perl-5.40.0
PERLBREW_ROOT = /home/mc7244/perl5/perlbrew
PERLBREW_SHELLRC_VERSION = 0.94
PERLBREW_VERSION = 0.94
PERL_MM_USE_DEFAULT = 1
PERL_USE_UNSAFE_INC = 1
SHELL = /bin/bash
TERM = xterm-256color
Perl special variables (and OS-specific diagnostics, for MSWin32):
$^X = /home/mc7244/perl5/perlbrew/perls/perl-5.40.0/bin/perl
$UID/$EUID = 1000 / 1000
$GID = 1000 4 27 124 1000
$EGID = 1000 4 27 124 1000
Perl module toolchain versions installed:
Module Have
------------------- --------
CPAN 2.36
CPAN::Meta 2.150010
Cwd 3.90
ExtUtils::CBuilder 0.280240
ExtUtils::Command 7.70
ExtUtils::Install 2.22
ExtUtils::MakeMaker 7.70
ExtUtils::Manifest 1.75
ExtUtils::ParseXS 3.51
File::Spec 3.90
JSON 4.10
JSON::PP 4.16
Module::Build 0.4234
Module::Signature n/a
Parse::CPAN::Meta 2.150010
Test2 1.302199
Test::Harness 3.48
Test::More 1.302199
YAML n/a
YAML::Syck n/a
version 0.9930
--
Summary of my perl5 (revision 5 version 40 subversion 0) configuration:
Platform:
osname=linux
osvers=6.9.3-76060903-generic
archname=x86_64-linux
uname='linux stone 6.9.3-76060903-generic #202405300957~1718348209~22.04~7817b67 smp preempt_dynamic mon j x86_64 x86_64 x86_64 gnulinux '
config_args='-de -Dprefix=/home/mc7244/perl5/perlbrew/perls/perl-5.40.0 -Aeval:scriptdir=/home/mc7244/perl5/perlbrew/perls/perl-5.40.0/bin'
hint=recommended
useposix=true
d_sigaction=define
useithreads=undef
usemultiplicity=undef
use64bitint=define
use64bitall=define
uselongdouble=undef
usemymalloc=n
default_inc_excludes_dot=define
Compiler:
cc='cc'
ccflags ='-fwrapv -fno-strict-aliasing -pipe -fstack-protector-strong -I/usr/local/include -D_LARGEFILE_SOURCE -D_FILE_OFFSET_BITS=64'
optimize='-O2'
cppflags='-fwrapv -fno-strict-aliasing -pipe -fstack-protector-strong -I/usr/local/include'
ccversion=''
gccversion='11.4.0'
gccosandvers=''
intsize=4
longsize=8
ptrsize=8
doublesize=8
byteorder=12345678
doublekind=3
d_longlong=define
longlongsize=8
d_longdbl=define
longdblsize=16
longdblkind=3
ivtype='long'
ivsize=8
nvtype='double'
nvsize=8
Off_t='off_t'
lseeksize=8
alignbytes=8
prototype=define
Linker and Libraries:
ld='cc'
ldflags =' -fstack-protector-strong -L/usr/local/lib'
libpth=/usr/local/lib /usr/lib/x86_64-linux-gnu /usr/lib /usr/lib64
libs=-lpthread -ldl -lm -lcrypt -lutil -lc
perllibs=-lpthread -ldl -lm -lcrypt -lutil -lc
libc=/lib/x86_64-linux-gnu/libc.so.6
so=so
useshrplib=false
libperl=libperl.a
gnulibc_version='2.35'
Dynamic Linking:
dlsrc=dl_dlopen.xs
dlext=so
d_dlsymun=undef
ccdlflags='-Wl,-E'
cccdlflags='-fPIC'
lddlflags='-shared -O2 -L/usr/local/lib -fstack-protector-strong'
Characteristics of this binary (from libperl):
Compile-time options:
HAS_LONG_DOUBLE
HAS_STRTOLD
HAS_TIMES
PERLIO_LAYERS
PERL_COPY_ON_WRITE
PERL_DONT_CREATE_GVSV
PERL_HASH_FUNC_SIPHASH13
PERL_HASH_USE_SBOX32
PERL_MALLOC_WRAP
PERL_OP_PARENT
PERL_PRESERVE_IVUV
PERL_USE_SAFE_PUTENV
USE_64_BIT_ALL
USE_64_BIT_INT
USE_LARGE_FILES
USE_LOCALE
USE_LOCALE_COLLATE
USE_LOCALE_CTYPE
USE_LOCALE_NUMERIC
USE_LOCALE_TIME
USE_PERLIO
USE_PERL_ATOF
Built under linux
Compiled at Jun 28 2024 09:37:08
%ENV:
PERL5LIB=""
PERL5OPT=""
PERL5_CPANPLUS_IS_RUNNING="100526"
PERL5_CPAN_IS_RUNNING="100526"
PERLBREW_HOME="/home/mc7244/.perlbrew"
PERLBREW_MANPATH="/home/mc7244/perl5/perlbrew/perls/perl-5.40.0/man"
PERLBREW_PATH="/home/mc7244/perl5/perlbrew/bin:/home/mc7244/perl5/perlbrew/perls/perl-5.40.0/bin"
PERLBREW_PERL="perl-5.40.0"
PERLBREW_ROOT="/home/mc7244/perl5/perlbrew"
PERLBREW_SHELLRC_VERSION="0.94"
PERLBREW_VERSION="0.94"
PERL_MM_USE_DEFAULT="1"
PERL_USE_UNSAFE_INC="1"
@INC:
/home/mc7244/perl5/perlbrew/perls/perl-5.40.0/lib/site_perl/5.40.0/x86_64-linux
/home/mc7244/perl5/perlbrew/perls/perl-5.40.0/lib/site_perl/5.40.0
/home/mc7244/perl5/perlbrew/perls/perl-5.40.0/lib/5.40.0/x86_64-linux
/home/mc7244/perl5/perlbrew/perls/perl-5.40.0/lib/5.40.0
.