Net-HTTP v6.23 Perl 5 v5.40.2 darwin-2level

Status
Pass
From
Dagfinn Ilmari Mannsåker
Dist
Net-HTTP v6.23
Platform
Perl 5 v5.40.2 darwin-2level
Date
2025-04-22 17:28:41
ID
3c0c93c8-1f9f-11f0-90fc-c70887c906c3
This distribution has been tested as part of the CPAN Testers
project, supporting the Perl programming language.  See
http://wiki.cpantesters.org/ for more information or email
questions to cpan-testers-discuss@perl.org


--
Dear OALDERS,

This is a computer-generated report for Net-HTTP-6.23
on perl 5.40.2, created by App::cpanminus::reporter 0.22 (1.7048).

Thank you for uploading your work to CPAN.  Congratulations!
All tests were successful.

Sections of this report:

    * Tester comments
    * Program output
    * Prerequisites
    * Environment and other context

------------------------------
TESTER COMMENTS
------------------------------

Additional comments from tester:

none provided

------------------------------
PROGRAM OUTPUT
------------------------------

Output from '':

Building and testing Net-HTTP-6.23
cp lib/Net/HTTPS.pm blib/lib/Net/HTTPS.pm
cp lib/Net/HTTP/NB.pm blib/lib/Net/HTTP/NB.pm
cp lib/Net/HTTP/Methods.pm blib/lib/Net/HTTP/Methods.pm
cp lib/Net/HTTP.pm blib/lib/Net/HTTP.pm
PERL_DL_NONLAZY=1 "/Users/ilmari/perl5/perlbrew/perls/40.2/bin/perl" "-MExtUtils::Command::MM" "-MTest::Harness" "-e" "undef *Test::Harness::Switches; test_harness(0, 'blib/lib', 'blib/arch')" t/*.t
# 
# Versions for all modules listed in MYMETA.json (including optional ones):
# 
# === Configure Requires ===
# 
#     Module              Want Have
#     ------------------- ---- ----
#     ExtUtils::MakeMaker  any 7.70
# 
# === Configure Suggests ===
# 
#     Module      Want Have
#     -------- ------- ----
#     JSON::PP 2.27300 4.16
# 
# === Build Requires ===
# 
#     Module              Want Have
#     ------------------- ---- ----
#     ExtUtils::MakeMaker  any 7.70
# 
# === Test Requires ===
# 
#     Module              Want     Have
#     ------------------- ---- --------
#     Data::Dumper         any    2.189
#     ExtUtils::MakeMaker  any     7.70
#     File::Spec           any     3.91
#     IO::Select           any     1.55
#     Socket               any    2.038
#     Test::More           any 1.302199
# 
# === Test Recommends ===
# 
#     Module         Want     Have
#     ---------- -------- --------
#     CPAN::Meta 2.120900 2.150010
# 
# === Runtime Requires ===
# 
#     Module                     Want     Have
#     ---------------------- -------- --------
#     Carp                        any     1.54
#     Compress::Raw::Zlib         any    2.212
#     IO::Socket::INET            any     1.55
#     IO::Uncompress::Gunzip      any    2.212
#     URI                         any     5.31
#     base                        any     2.27
#     perl                   5.006002 5.040002
#     strict                      any     1.13
#     warnings                    any     1.70
# 
# === Runtime Suggests ===
# 
#     Module             Want    Have
#     ----------------- ----- -------
#     IO::Socket          any    1.55
#     IO::Socket::INET6   any missing
#     IO::Socket::IP      any    0.42
#     IO::Socket::SSL   2.012 missing
#     Symbol              any    1.09
# 
t/00-report-prereqs.t .. ok
t/http-nb.t ............ ok
t/http.t ............... ok
t/live-https.t ......... skipped: IO::Socket::SSL or Net::SSL not available
t/live.t ............... ok
t/socket-class.t ....... ok
All tests successful.
Files=6, Tests=63,  1 wallclock secs ( 0.02 usr  0.01 sys +  0.22 cusr  0.05 csys =  0.30 CPU)
Result: PASS

------------------------------
PREREQUISITES
------------------------------

Prerequisite modules loaded:

    No requirements found

------------------------------
ENVIRONMENT AND OTHER CONTEXT
------------------------------

Environment variables:

    LANG = en_GB.UTF-8
    LC_TERMINAL = iTerm2
    LC_TERMINAL_VERSION = 3.5.13
    PATH = /Users/ilmari/.perlbrew/libs/40.2@std/bin:/Users/ilmari/perl5/perlbrew/bin:/Users/ilmari/perl5/perlbrew/perls/40.2/bin:/Users/ilmari/.volta/bin:/Users/ilmari/.rd/bin:/Users/ilmari/.bun/bin:/Users/ilmari/.volta/bin:/Users/ilmari/.rd/bin:/Users/ilmari/.cargo/bin:/Users/ilmari/.pyenv/shims:/Users/ilmari/.local/bin:/Users/ilmari/go/bin:/opt/homebrew/opt/coreutils/libexec/gnubin:/opt/homebrew/opt/unzip/bin:/opt/homebrew/bin:/opt/homebrew/sbin:/usr/local/bin:/System/Cryptexes/App/usr/bin:/usr/bin:/bin:/usr/sbin:/sbin:/var/run/com.apple.security.cryptexd/codex.system/bootstrap/usr/local/bin:/var/run/com.apple.security.cryptexd/codex.system/bootstrap/usr/bin:/var/run/com.apple.security.cryptexd/codex.system/bootstrap/usr/appleinternal/bin:/usr/local/sbin:/Applications/iTerm.app/Contents/Resources/utilities
    PERL5LIB = /Users/ilmari/.perlbrew/libs/40.2@std/lib/perl5
    PERLBREW_HOME = /Users/ilmari/.perlbrew
    PERLBREW_LIB = std
    PERLBREW_MANPATH = /Users/ilmari/.perlbrew/libs/40.2@std/man:/Users/ilmari/perl5/perlbrew/perls/40.2/man
    PERLBREW_PATH = /Users/ilmari/.perlbrew/libs/40.2@std/bin:/Users/ilmari/perl5/perlbrew/bin:/Users/ilmari/perl5/perlbrew/perls/40.2/bin
    PERLBREW_PERL = 40.2
    PERLBREW_ROOT = /Users/ilmari/perl5/perlbrew
    PERLBREW_SHELLRC_VERSION = 1.00
    PERLBREW_VERSION = 1.00
    PERL_LOCAL_LIB_ROOT = /Users/ilmari/.perlbrew/libs/40.2@std
    PERL_MB_OPT = --install_base /Users/ilmari/.perlbrew/libs/40.2@std
    PERL_MM_OPT = INSTALL_BASE=/Users/ilmari/.perlbrew/libs/40.2@std
    SHELL = /opt/homebrew/bin/bash
    TERM = xterm-256color
    TMPDIR = /var/folders/s3/rjxz_y393b10cp8hdzrtwkdw0000gn/T/

Perl special variables (and OS-specific diagnostics, for MSWin32):

    EGID = 20 20 12 61 79 80 81 98 702 33 100 204 250 395 398 399 400
    EUID = 501
    EXECUTABLE_NAME = /Users/ilmari/perl5/perlbrew/perls/40.2/bin/perl
    GID = 20 20 12 61 79 80 81 98 702 33 100 204 250 395 398 399 400
    UID = 501

Perl module toolchain versions installed:

    Module              Have    
    ------------------- --------
    CPAN                2.36    
    CPAN::Meta          2.150010
    Cwd                 3.91    
    ExtUtils::CBuilder  0.280240
    ExtUtils::Command   7.70    
    ExtUtils::Install   2.22    
    ExtUtils::MakeMaker 7.70    
    ExtUtils::Manifest  1.75    
    ExtUtils::ParseXS   3.51    
    File::Spec          3.91    
    JSON                n/a     
    JSON::PP            4.16    
    Module::Build       0.4234  
    Module::Signature   n/a     
    Parse::CPAN::Meta   2.150010
    Test::Harness       3.48    
    Test::More          1.302199
    YAML                n/a     
    YAML::Syck          n/a     
    version             0.9930  


--

Summary of my perl5 (revision 5 version 40 subversion 2) configuration:
   
  Platform:
    osname=darwin
    osvers=24.4.0
    archname=darwin-2level
    uname='darwin hf-jhk6c61rw9 24.4.0 darwin kernel version 24.4.0: fri apr 11 18:33:47 pdt 2025; root:xnu-11417.101.15~117release_arm64_t6030 arm64 arm darwin '
    config_args='-de -Dprefix=/Users/ilmari/perl5/perlbrew/perls/40.2 -Duseshrplib -Dman1dir=none -Dman3dir=none -Accflags=-DNO_LOCALE_COLLATE -Aeval:scriptdir=/Users/ilmari/perl5/perlbrew/perls/40.2/bin'
    hint=recommended
    useposix=true
    d_sigaction=define
    useithreads=undef
    usemultiplicity=undef
    use64bitint=define
    use64bitall=define
    uselongdouble=undef
    usemymalloc=n
    default_inc_excludes_dot=define
  Compiler:
    cc='cc'
    ccflags ='-fno-common -DPERL_DARWIN -mmacosx-version-min=15.4 -DNO_THREAD_SAFE_QUERYLOCALE -DNO_POSIX_2008_LOCALE -DNO_LOCALE_COLLATE -fno-strict-aliasing -pipe -fstack-protector-strong'
    optimize='-O3'
    cppflags='-fno-common -DPERL_DARWIN -mmacosx-version-min=15.4 -DNO_THREAD_SAFE_QUERYLOCALE -DNO_POSIX_2008_LOCALE -DNO_LOCALE_COLLATE -fno-strict-aliasing -pipe -fstack-protector-strong'
    ccversion=''
    gccversion='Apple LLVM 17.0.0 (clang-1700.0.13.3)'
    gccosandvers=''
    intsize=4
    longsize=8
    ptrsize=8
    doublesize=8
    byteorder=12345678
    doublekind=3
    d_longlong=define
    longlongsize=8
    d_longdbl=define
    longdblsize=8
    longdblkind=0
    ivtype='long'
    ivsize=8
    nvtype='double'
    nvsize=8
    Off_t='off_t'
    lseeksize=8
    alignbytes=8
    prototype=define
  Linker and Libraries:
    ld='cc'
    ldflags =' -mmacosx-version-min=15.4 -fstack-protector-strong'
    libpth=/Library/Developer/CommandLineTools/usr/lib/clang/17/lib /Library/Developer/CommandLineTools/SDKs/MacOSX15.4.sdk/usr/lib /Library/Developer/CommandLineTools/usr/lib /usr/lib
    libs= 
    perllibs=
    libc=
    so=dylib
    useshrplib=true
    libperl=libperl.dylib
    gnulibc_version=''
  Dynamic Linking:
    dlsrc=dl_dlopen.xs
    dlext=bundle
    d_dlsymun=undef
    ccdlflags=' '
    cccdlflags=' '
    lddlflags=' -mmacosx-version-min=15.4 -bundle -undefined dynamic_lookup -fstack-protector-strong'


Characteristics of this binary (from libperl): 
  Compile-time options:
    HAS_LONG_DOUBLE
    HAS_STRTOLD
    HAS_TIMES
    PERLIO_LAYERS
    PERL_COPY_ON_WRITE
    PERL_DONT_CREATE_GVSV
    PERL_HASH_FUNC_SIPHASH13
    PERL_HASH_USE_SBOX32
    PERL_MALLOC_WRAP
    PERL_OP_PARENT
    PERL_PRESERVE_IVUV
    PERL_USE_SAFE_PUTENV
    USE_64_BIT_ALL
    USE_64_BIT_INT
    USE_LARGE_FILES
    USE_LOCALE
    USE_LOCALE_CTYPE
    USE_LOCALE_NUMERIC
    USE_LOCALE_TIME
    USE_PERLIO
    USE_PERL_ATOF
  Built under darwin
  Compiled at Apr 22 2025 17:19:50
  %ENV:
    PERL5LIB="/Users/ilmari/.perlbrew/libs/40.2@std/lib/perl5"
    PERLBREW_HOME="/Users/ilmari/.perlbrew"
    PERLBREW_LIB="std"
    PERLBREW_MANPATH="/Users/ilmari/.perlbrew/libs/40.2@std/man:/Users/ilmari/perl5/perlbrew/perls/40.2/man"
    PERLBREW_PATH="/Users/ilmari/.perlbrew/libs/40.2@std/bin:/Users/ilmari/perl5/perlbrew/bin:/Users/ilmari/perl5/perlbrew/perls/40.2/bin"
    PERLBREW_PERL="40.2"
    PERLBREW_ROOT="/Users/ilmari/perl5/perlbrew"
    PERLBREW_SHELLRC_VERSION="1.00"
    PERLBREW_VERSION="1.00"
    PERL_LOCAL_LIB_ROOT="/Users/ilmari/.perlbrew/libs/40.2@std"
    PERL_MB_OPT="--install_base /Users/ilmari/.perlbrew/libs/40.2@std"
    PERL_MM_OPT="INSTALL_BASE=/Users/ilmari/.perlbrew/libs/40.2@std"
  @INC:
    /Users/ilmari/.perlbrew/libs/40.2@std/lib/perl5/darwin-2level
    /Users/ilmari/.perlbrew/libs/40.2@std/lib/perl5
    /Users/ilmari/perl5/perlbrew/perls/40.2/lib/site_perl/5.40.2/darwin-2level
    /Users/ilmari/perl5/perlbrew/perls/40.2/lib/site_perl/5.40.2
    /Users/ilmari/perl5/perlbrew/perls/40.2/lib/5.40.2/darwin-2level
    /Users/ilmari/perl5/perlbrew/perls/40.2/lib/5.40.2