Data-Record-Serialize-Encode-csv v0.03 Perl 5 v5.36.3 x86_64-linux-thread-multi-quadmath

Status
Pass
From
Andreas J. König (ANDK)
Dist
Data-Record-Serialize-Encode-csv v0.03
Platform
Perl 5 v5.36.3 x86_64-linux-thread-multi-quadmath
Date
2025-03-09 17:16:27
ID
3c0e50d0-fd0a-11ef-bc2d-8c8a4ba30a9f
This distribution has been tested as part of the CPAN Testers
project, supporting the Perl programming language.  See
http://wiki.cpantesters.org/ for more information or email
questions to cpan-testers-discuss@perl.org


--
Dear Diab Jerius,

This is a computer-generated report for Data-Record-Serialize-Encode-csv-0.03
on perl 5.36.3, created by CPAN-Reporter-1.2019.

Thank you for uploading your work to CPAN.  Congratulations!
All tests were successful.

Sections of this report:

    * Tester comments
    * Program output
    * Prerequisites
    * Environment and other context

------------------------------
TESTER COMMENTS
------------------------------

Additional comments from tester:

this report is from an automated smoke testing program
and was not reviewed by a human for accuracy

------------------------------
PROGRAM OUTPUT
------------------------------

Output from './Build test':

t/00-compile.t ........... ok
# 
# Versions for all modules listed in MYMETA.json (including optional ones):
# 
# === Configure Requires ===
# 
#     Module               Want  Have
#     ------------------- ----- -----
#     Module::Build::Tiny 0.034 0.047
# 
# === Test Requires ===
# 
#     Module                       Want     Have
#     ------------------------- ------- --------
#     Data::Record::Serialize      1.01     2.01
#     ExtUtils::MakeMaker           any     7.70
#     File::Slurper                 any    0.014
#     File::Spec                    any     3.84
#     File::Spec::Functions         any     3.84
#     IO::Handle                    any     1.48
#     IPC::Open3                    any     1.22
#     Test2::Plugin::NoWarnings     any     0.09
#     Test2::V0                     any 1.302207
#     Test::More                    any 1.302207
#     perl                      5.01000 5.036003
#     strict                        any     1.12
#     warnings                      any     1.58
# 
# === Test Recommends ===
# 
#     Module         Want     Have
#     ---------- -------- --------
#     CPAN::Meta 2.120900 2.150010
# 
# === Runtime Requires ===
# 
#     Module                                           Want     Have
#     -------------------------------------------- -------- --------
#     Data::Record::Serialize                          1.01     2.01
#     Data::Record::Serialize::Error                   1.01     2.01
#     Data::Record::Serialize::Role::Encode             any     2.01
#     Data::Record::Serialize::Role::EncodeAndSink     1.01     2.01
#     Data::Record::Serialize::Role::Sink::Stream      1.01     2.01
#     Moo::Role                                    2.003004 2.005005
#     Text::CSV                                         any     2.04
#     Types::Common::String                             any 2.004000
#     Types::Standard                              1.010003 2.004000
#     namespace::clean                                  any     0.27
#     perl                                          5.01000 5.036003
# 
t/00-report-prereqs.t .... ok
t/encoders/csv.t ......... ok
t/encoders/csv_stream.t .. ok
All tests successful.
Files=4, Tests=8,  5 wallclock secs ( 0.04 usr  0.01 sys +  1.52 cusr  0.29 csys =  1.86 CPU)
Result: PASS

------------------------------
PREREQUISITES
------------------------------

Prerequisite modules loaded:

requires:

    Module                                       Need     Have    
    -------------------------------------------- -------- --------
    Data::Record::Serialize                      1.01     2.01    
    Data::Record::Serialize::Error               1.01     2.01    
    Data::Record::Serialize::Role::Encode        0        2.01    
    Data::Record::Serialize::Role::EncodeAndSink 1.01     2.01    
    Data::Record::Serialize::Role::Sink::Stream  1.01     2.01    
    Moo::Role                                    2.003004 2.005005
    namespace::clean                             0        0.27    
    perl                                         5.01000  5.036003
    Text::CSV                                    0        2.04    
    Types::Common::String                        0        2.004000
    Types::Standard                              1.010003 2.004000

build_requires:

    Module                                       Need     Have    
    -------------------------------------------- -------- --------
    Data::Record::Serialize                      1.01     2.01    
    ExtUtils::MakeMaker                          0        7.70    
    File::Slurper                                0        0.014   
    File::Spec                                   0        3.84    
    File::Spec::Functions                        0        3.84    
    IO::Handle                                   0        1.48    
    IPC::Open3                                   0        1.22    
    perl                                         5.01000  5.036003
    strict                                       0        1.12    
    Test2::Plugin::NoWarnings                    0        0.09    
    Test2::V0                                    0        1.302207
    Test::More                                   0        1.302207
    warnings                                     0        1.58    

configure_requires:

    Module                                       Need     Have    
    -------------------------------------------- -------- --------
    Module::Build::Tiny                          0.034    0.047   


------------------------------
ENVIRONMENT AND OTHER CONTEXT
------------------------------

Environment variables:

    AUTOMATED_TESTING = 1
    LANG = en_US.UTF-8
    LANGUAGE = en_US:en
    PATH = /home/sand/bin:/usr/local/bin:/usr/bin:/bin:/usr/games:/usr/local/perl/bin:/usr/X11/bin:/sbin:/usr/sbin
    PERL5LIB = 
    PERL5OPT = 
    PERL5_CPANPLUS_IS_RUNNING = 4068170
    PERL5_CPAN_IS_RUNNING = 4068170
    PERL_CANARY_STABILITY_NOPROMPT = 1
    PERL_MM_USE_DEFAULT = 1
    PERL_USE_UNSAFE_INC = 1
    SHELL = /usr/bin/zsh
    TERM = screen

Perl special variables (and OS-specific diagnostics, for MSWin32):

    $^X = /home/sand/src/perl/repoperls/installed-perls/host/k93msid/v5.36.3/db45/bin/perl
    $UID/$EUID = 1005 / 1005
    $GID = 1005 1005
    $EGID = 1005 1005

Perl module toolchain versions installed:

    Module              Have    
    ------------------- --------
    CPAN                2.36    
    CPAN::Meta          2.150010
    Cwd                 3.84    
    ExtUtils::CBuilder  0.280236
    ExtUtils::Command   7.70    
    ExtUtils::Install   2.20    
    ExtUtils::MakeMaker 7.70    
    ExtUtils::Manifest  1.75    
    ExtUtils::ParseXS   3.51    
    File::Spec          3.84    
    JSON                4.10    
    JSON::PP            4.16    
    Module::Build       0.4234  
    Module::Signature   0.88    
    Parse::CPAN::Meta   2.150010
    Test2               1.302207
    Test::Harness       3.50    
    Test::More          1.302207
    YAML                1.30    
    YAML::Syck          1.34    
    version             0.9930  


--

Summary of my perl5 (revision 5 version 36 subversion 3) configuration:
  Commit id: d456446ba5b8fba87f3f26fa700eb749c622e434
  Platform:
    osname=linux
    osvers=6.5.0-4-amd64
    archname=x86_64-linux-thread-multi-quadmath
    uname='linux k93msid 6.5.0-4-amd64 #1 smp preempt_dynamic debian 6.5.10-1 (2023-11-03) x86_64 gnulinux '
    config_args='-Dprefix=/home/sand/src/perl/repoperls/installed-perls/host/k93msid/v5.36.3/db45 -Dmyhostname=k93msid -Dinstallusrbinperl=n -Uversiononly -Dusedevel -des -Ui_db -Dlibswanted=cl pthread socket inet nsl gdbm dbm malloc dl ld sun m crypt sec util c cposix posix ucb BSD gdbm_compat -Duseithreads -Uuselongdouble -DEBUGGING=both -Dusequadmath'
    hint=recommended
    useposix=true
    d_sigaction=define
    useithreads=define
    usemultiplicity=define
    use64bitint=define
    use64bitall=define
    uselongdouble=undef
    usemymalloc=n
    default_inc_excludes_dot=define
  Compiler:
    cc='cc'
    ccflags ='-D_REENTRANT -D_GNU_SOURCE -fwrapv -DDEBUGGING -fno-strict-aliasing -pipe -fstack-protector-strong -I/usr/local/include -D_LARGEFILE_SOURCE -D_FILE_OFFSET_BITS=64 -D_FORTIFY_SOURCE=2'
    optimize='-O2 -g'
    cppflags='-D_REENTRANT -D_GNU_SOURCE -fwrapv -DDEBUGGING -fno-strict-aliasing -pipe -fstack-protector-strong -I/usr/local/include'
    ccversion=''
    gccversion='13.2.0'
    gccosandvers=''
    intsize=4
    longsize=8
    ptrsize=8
    doublesize=8
    byteorder=12345678
    doublekind=3
    d_longlong=define
    longlongsize=8
    d_longdbl=define
    longdblsize=16
    longdblkind=3
    ivtype='long'
    ivsize=8
    nvtype='__float128'
    nvsize=16
    Off_t='off_t'
    lseeksize=8
    alignbytes=16
    prototype=define
  Linker and Libraries:
    ld='cc'
    ldflags =' -fstack-protector-strong -L/usr/local/lib'
    libpth=/usr/local/lib /usr/lib/x86_64-linux-gnu /usr/lib /usr/lib64
    libs=-lpthread -lnsl -ldl -lm -lcrypt -lutil -lc -lquadmath
    perllibs=-lpthread -lnsl -ldl -lm -lcrypt -lutil -lc -lquadmath
    libc=/lib/x86_64-linux-gnu/libc.so.6
    so=so
    useshrplib=false
    libperl=libperl.a
    gnulibc_version='2.37'
  Dynamic Linking:
    dlsrc=dl_dlopen.xs
    dlext=so
    d_dlsymun=undef
    ccdlflags='-Wl,-E'
    cccdlflags='-fPIC'
    lddlflags='-shared -O2 -g -L/usr/local/lib -fstack-protector-strong'


Characteristics of this binary (from libperl): 
  Compile-time options:
    DEBUGGING
    HAS_TIMES
    MULTIPLICITY
    PERLIO_LAYERS
    PERL_COPY_ON_WRITE
    PERL_DONT_CREATE_GVSV
    PERL_MALLOC_WRAP
    PERL_OP_PARENT
    PERL_PRESERVE_IVUV
    PERL_TRACK_MEMPOOL
    PERL_USE_DEVEL
    USE_64_BIT_ALL
    USE_64_BIT_INT
    USE_ITHREADS
    USE_LARGE_FILES
    USE_LOCALE
    USE_LOCALE_COLLATE
    USE_LOCALE_CTYPE
    USE_LOCALE_NUMERIC
    USE_LOCALE_TIME
    USE_PERLIO
    USE_PERL_ATOF
    USE_QUADMATH
    USE_REENTRANT_API
    USE_THREAD_SAFE_LOCALE
  Built under linux
  Compiled at Nov 30 2023 08:14:29
  %ENV:
    PERL5LIB=""
    PERL5OPT=""
    PERL5_CPANPLUS_IS_RUNNING="4068170"
    PERL5_CPAN_IS_RUNNING="4068170"
    PERL_CANARY_STABILITY_NOPROMPT="1"
    PERL_MM_USE_DEFAULT="1"
    PERL_USE_UNSAFE_INC="1"
  @INC:
    /home/sand/src/perl/repoperls/installed-perls/host/k93msid/v5.36.3/db45/lib/site_perl/5.36.3/x86_64-linux-thread-multi-quadmath
    /home/sand/src/perl/repoperls/installed-perls/host/k93msid/v5.36.3/db45/lib/site_perl/5.36.3
    /home/sand/src/perl/repoperls/installed-perls/host/k93msid/v5.36.3/db45/lib/5.36.3/x86_64-linux-thread-multi-quadmath
    /home/sand/src/perl/repoperls/installed-perls/host/k93msid/v5.36.3/db45/lib/5.36.3
    .