Report for MRS-Client-0.600100

Back
From: metabase:user:d2c9f356-b46f-11df-9a90-20a83c0b7757
Subject: PASS MRS-Client-0.600100 v5.15.8 SunOS/Solaris
Date: 2012-03-14T12:07:13Z

This distribution has been tested as part of the CPAN Testers
project, supporting the Perl programming language.  See
http://wiki.cpantesters.org/ for more information or email
questions to cpan-testers-discuss@perl.org


--
Dear Martin Senger,

This is a computer-generated report for MRS-Client-0.600100
on perl 5.15.8, created by CPAN-Reporter-1.2005.

Thank you for uploading your work to CPAN.  Congratulations!
All tests were successful.

Sections of this report:

    * Tester comments
    * Program output
    * Prerequisites
    * Environment and other context

------------------------------
TESTER COMMENTS
------------------------------

Additional comments from tester:

this report is from an automated smoke testing program
and was not reviewed by a human for accuracy

------------------------------
PROGRAM OUTPUT
------------------------------

Output from '/usr/local/bin/make test':

PERL_DL_NONLAZY=1 /export/home/cpant4/perl5/perlbrew/perls/perl-5.15.8/bin/perl5.15.8 "-MExtUtils::Command::MM" "-e" "test_harness(0, 'blib/lib', 'blib/arch')" t/*.t
t/00-compile.t .......... ok
# Testing MRS::Client 0.600100, Perl v5.15.8, /export/home/cpant4/perl5/perlbrew/perls/perl-5.15.8/bin/perl5.15.8
t/00-load.t ............. ok
# Data manipulation
t/01-data.t ............. ok
# Setting host and endpoints
t/02-endpoint.t ......... ok
# Calling MRS services
t/03-network.t .......... ok
# Manipulation of hyperlinks
t/04-links.t ............ ok
t/author-critic.t ....... skipped: these tests are for testing by the author
t/author-pod-spell.t .... skipped: these tests are for testing by the author
t/release-distmeta.t .... skipped: these tests are for release candidate testing
t/release-eol.t ......... skipped: these tests are for release candidate testing
t/release-no-tabs.t ..... skipped: these tests are for release candidate testing
t/release-pod-syntax.t .. skipped: these tests are for release candidate testing
All tests successful.
Files=12, Tests=143,  4 wallclock secs ( 0.07 usr  0.03 sys +  3.04 cusr  0.51 csys =  3.65 CPU)
Result: PASS

------------------------------
PREREQUISITES
------------------------------

Prerequisite modules loaded:

requires:

    Module                            Need Have   
    --------------------------------- ---- -------
    base                              0    2.18   
    Carp                              0    1.25   
    constant                          0    1.23   
    File::Basename                    0    2.84   
    FindBin                           0    1.51   
    Getopt::Std                       0    1.07   
    Math::BigInt                      0    1.998  
    overload                          0    1.18   
    strict                            0    1.06   
    vars                              0    1.02   
    warnings                          0    1.13   
    XML::Compile::SOAP11              2.26 2.26   
    XML::Compile::Transport::SOAPHTTP 0    2.26   
    XML::Compile::WSDL11              0    2.26   

build_requires:

    Module                            Need Have   
    --------------------------------- ---- -------
    English                           0    1.05   
    File::Find                        0    1.20   
    File::Spec                        0    3.39_02
    File::Temp                        0    0.22   
    Test::More                        0    0.98   
    Test::Requires                    0    0.06   

configure_requires:

    Module                            Need Have   
    --------------------------------- ---- -------
    ExtUtils::MakeMaker               6.30 6.63_02


------------------------------
ENVIRONMENT AND OTHER CONTEXT
------------------------------

Environment variables:

    AUTOMATED_TESTING = 1
    LANG = C
    LD_LIBRARY_PATH = /usr/local/lib:
    MANPATH_WITHOUT_PERLBREW = 
    PATH = /export/home/cpant4/perl5/perlbrew/bin:/export/home/cpant4/perl5/perlbrew/perls/perl-5.15.8/bin:/export/home/cpant4/perl5/bin:/usr/local/bin:/usr/bin
    PATH_WITHOUT_PERLBREW = /export/home/cpant4/perl5/bin:/usr/local/bin:/usr/bin
    PERL5LIB = /export/home/cpant4/.cpan/build/XML-Compile-SOAP-2.26-uhLp_3/blib/arch:/export/home/cpant4/.cpan/build/XML-Compile-SOAP-2.26-uhLp_3/blib/lib:/export/home/cpant4/.cpan/build/XML-Compile-Cache-0.991-EtyOPv/blib/arch:/export/home/cpant4/.cpan/build/XML-Compile-Cache-0.991-EtyOPv/blib/lib:/export/home/cpant4/.cpan/build/XML-LibXML-Simple-0.91-TJPQyZ/blib/arch:/export/home/cpant4/.cpan/build/XML-LibXML-Simple-0.91-TJPQyZ/blib/lib:/export/home/cpant4/.cpan/build/XML-Compile-1.25-Z7k7FI/blib/arch:/export/home/cpant4/.cpan/build/XML-Compile-1.25-Z7k7FI/blib/lib:/export/home/cpant4/.cpan/build/XML-Compile-Tester-0.06-qwpxhU/blib/arch:/export/home/cpant4/.cpan/build/XML-Compile-Tester-0.06-qwpxhU/blib/lib:/export/home/cpant4/.cpan/build/Log-Report-0.94-dahx65/blib/arch:/export/home/cpant4/.cpan/build/Log-Report-0.94-dahx65/blib/lib
    PERL5OPT = 
    PERL5_CPANPLUS_IS_RUNNING = 18508
    PERL5_CPAN_IS_RUNNING = 18508
    PERL5_CPAN_IS_RUNNING_IN_RECURSION = 9692,18508
    PERLBREW_BASHRC_VERSION = 0.41
    PERLBREW_HOME = /export/home/cpant4/.perlbrew
    PERLBREW_MANPATH = /export/home/cpant4/perl5/perlbrew/perls/perl-5.15.8/man
    PERLBREW_PATH = /export/home/cpant4/perl5/perlbrew/bin:/export/home/cpant4/perl5/perlbrew/perls/perl-5.15.8/bin
    PERLBREW_PERL = perl-5.15.8
    PERLBREW_ROOT = /export/home/cpant4/perl5/perlbrew
    PERLBREW_VERSION = 0.41
    PERL_CR_SMOKER_CURRENT = MRS-Client-0.600100
    PERL_EXTUTILS_AUTOINSTALL = --defaultdeps
    PERL_MM_USE_DEFAULT = 1
    SHELL = /bin/bash
    TERM = xterm

Perl special variables (and OS-specific diagnostics, for MSWin32):

    $^X = /export/home/cpant4/perl5/perlbrew/perls/perl-5.15.8/bin/perl5.15.8
    $UID/$EUID = 104 / 104
    $GID = 1 1
    $EGID = 1 1

Perl module toolchain versions installed:

    Module              Have    
    ------------------- --------
    CPAN                1.9800  
    CPAN::Meta          2.120630
    Cwd                 3.39_02 
    ExtUtils::CBuilder  0.280205
    ExtUtils::Command   1.17    
    ExtUtils::Install   1.58    
    ExtUtils::MakeMaker 6.63_02 
    ExtUtils::Manifest  1.61    
    ExtUtils::ParseXS   3.16    
    File::Spec          3.39_02 
    JSON                2.53    
    JSON::PP            2.27200 
    Module::Build       0.40    
    Module::Signature   n/a     
    Parse::CPAN::Meta   1.4402  
    Test::Harness       3.23    
    Test::More          0.98    
    YAML                0.80    
    YAML::Syck          1.20    
    version             0.96    


--

Summary of my perl5 (revision 5 version 15 subversion 8) configuration:
   
  Platform:
    osname=solaris, osvers=2.10, archname=i86pc-solaris-64int
    uname='sunos vmrz0046 5.10 generic_141445-09 i86pc i386 i86pc solaris '
    config_args='-de -Dprefix=/export/home/cpant4/perl5/perlbrew/perls/perl-5.15.8 -Dcc=gcc -Duse64bitint -Dusedevel -Dusedevel'
    hint=recommended, useposix=true, d_sigaction=define
    useithreads=undef, usemultiplicity=undef
    useperlio=define, d_sfio=undef, uselargefiles=define, usesocks=undef
    use64bitint=define, use64bitall=undef, uselongdouble=undef
    usemymalloc=n, bincompat5005=undef
  Compiler:
    cc='gcc', ccflags ='-DPTR_IS_LONG -fno-strict-aliasing -pipe -I/usr/local/include -D_LARGEFILE_SOURCE -D_FILE_OFFSET_BITS=64 -DPERL_USE_SAFE_PUTENV -DPERL_USE_SAFE_PUTENV',
    optimize='-O',
    cppflags='-DPTR_IS_LONG -fno-strict-aliasing -pipe -I/usr/local/include'
    ccversion='', gccversion='3.4.6', gccosandvers='solaris2.10'
    intsize=4, longsize=4, ptrsize=4, doublesize=8, byteorder=12345678
    d_longlong=define, longlongsize=8, d_longdbl=define, longdblsize=12
    ivtype='long long', ivsize=8, nvtype='double', nvsize=8, Off_t='off_t', lseeksize=8
    alignbytes=4, prototype=define
  Linker and Libraries:
    ld='gcc', ldflags =' -L/usr/local/lib '
    libpth=/usr/local/lib /usr/lib /usr/ccs/lib
    libs=-lsocket -lnsl -lgdbm -ldl -lm -lc
    perllibs=-lsocket -lnsl -ldl -lm -lc
    libc=/lib/libc.so, so=so, useshrplib=false, libperl=libperl.a
    gnulibc_version=''
  Dynamic Linking:
    dlsrc=dl_dlopen.xs, dlext=so, d_dlsymun=undef, ccdlflags=' '
    cccdlflags='-fPIC', lddlflags='-G -L/usr/local/lib'


Characteristics of this binary (from libperl): 
  Compile-time options: HAS_TIMES PERLIO_LAYERS PERL_DONT_CREATE_GVSV
                        PERL_MALLOC_WRAP PERL_PRESERVE_IVUV PERL_USE_DEVEL
                        PERL_USE_SAFE_PUTENV USE_64_BIT_INT USE_LARGE_FILES
                        USE_LOCALE USE_LOCALE_COLLATE USE_LOCALE_CTYPE
                        USE_LOCALE_NUMERIC USE_PERLIO USE_PERL_ATOF
  Built under solaris
  Compiled at Mar  6 2012 01:11:29
  %ENV:
    PERL5LIB="/export/home/cpant4/.cpan/build/XML-Compile-SOAP-2.26-uhLp_3/blib/arch:/export/home/cpant4/.cpan/build/XML-Compile-SOAP-2.26-uhLp_3/blib/lib:/export/home/cpant4/.cpan/build/XML-Compile-Cache-0.991-EtyOPv/blib/arch:/export/home/cpant4/.cpan/build/XML-Compile-Cache-0.991-EtyOPv/blib/lib:/export/home/cpant4/.cpan/build/XML-LibXML-Simple-0.91-TJPQyZ/blib/arch:/export/home/cpant4/.cpan/build/XML-LibXML-Simple-0.91-TJPQyZ/blib/lib:/export/home/cpant4/.cpan/build/XML-Compile-1.25-Z7k7FI/blib/arch:/export/home/cpant4/.cpan/build/XML-Compile-1.25-Z7k7FI/blib/lib:/export/home/cpant4/.cpan/build/XML-Compile-Tester-0.06-qwpxhU/blib/arch:/export/home/cpant4/.cpan/build/XML-Compile-Tester-0.06-qwpxhU/blib/lib:/export/home/cpant4/.cpan/build/Log-Report-0.94-dahx65/blib/arch:/export/home/cpant4/.cpan/build/Log-Report-0.94-dahx65/blib/lib"
    PERL5OPT=""
    PERL5_CPANPLUS_IS_RUNNING="18508"
    PERL5_CPAN_IS_RUNNING="18508"
    PERL5_CPAN_IS_RUNNING_IN_RECURSION="9692,18508"
    PERLBREW_BASHRC_VERSION="0.41"
    PERLBREW_HOME="/export/home/cpant4/.perlbrew"
    PERLBREW_MANPATH="/export/home/cpant4/perl5/perlbrew/perls/perl-5.15.8/man"
    PERLBREW_PATH="/export/home/cpant4/perl5/perlbrew/bin:/export/home/cpant4/perl5/perlbrew/perls/perl-5.15.8/bin"
    PERLBREW_PERL="perl-5.15.8"
    PERLBREW_ROOT="/export/home/cpant4/perl5/perlbrew"
    PERLBREW_VERSION="0.41"
    PERL_CR_SMOKER_CURRENT="MRS-Client-0.600100"
    PERL_EXTUTILS_AUTOINSTALL="--defaultdeps"
    PERL_MM_USE_DEFAULT="1"
  @INC:
    /export/home/cpant4/.cpan/build/XML-Compile-SOAP-2.26-uhLp_3/blib/arch
    /export/home/cpant4/.cpan/build/XML-Compile-SOAP-2.26-uhLp_3/blib/lib
    /export/home/cpant4/.cpan/build/XML-Compile-Cache-0.991-EtyOPv/blib/arch
    /export/home/cpant4/.cpan/build/XML-Compile-Cache-0.991-EtyOPv/blib/lib
    /export/home/cpant4/.cpan/build/XML-LibXML-Simple-0.91-TJPQyZ/blib/arch
    /export/home/cpant4/.cpan/build/XML-LibXML-Simple-0.91-TJPQyZ/blib/lib
    /export/home/cpant4/.cpan/build/XML-Compile-1.25-Z7k7FI/blib/arch
    /export/home/cpant4/.cpan/build/XML-Compile-1.25-Z7k7FI/blib/lib
    /export/home/cpant4/.cpan/build/XML-Compile-Tester-0.06-qwpxhU/blib/arch
    /export/home/cpant4/.cpan/build/XML-Compile-Tester-0.06-qwpxhU/blib/lib
    /export/home/cpant4/.cpan/build/Log-Report-0.94-dahx65/blib/arch
    /export/home/cpant4/.cpan/build/Log-Report-0.94-dahx65/blib/lib
    /export/home/cpant4/perl5/perlbrew/perls/perl-5.15.8/lib/site_perl/5.15.8/i86pc-solaris-64int
    /export/home/cpant4/perl5/perlbrew/perls/perl-5.15.8/lib/site_perl/5.15.8
    /export/home/cpant4/perl5/perlbrew/perls/perl-5.15.8/lib/5.15.8/i86pc-solaris-64int
    /export/home/cpant4/perl5/perlbrew/perls/perl-5.15.8/lib/5.15.8
    .