MooseX-WithCache v0.01007 Perl 5 v5.32.1 i386-openbsd
- Status
- Pass
- From
- Alceu Rodrigues de Freitas Junior
- Dist
-
MooseX-WithCache v0.01007
- Platform
- Perl 5 v5.32.1 i386-openbsd
- Date
- 2022-06-29 15:57:53
- ID
- 3c309e68-f7c4-11ec-b737-db65ffa5fe2c
This distribution has been tested as part of the CPAN Testers
project, supporting the Perl programming language. See
http://wiki.cpantesters.org/ for more information or email
questions to cpan-testers-discuss@perl.org
--
Dear Robin Clarke,
This is a computer-generated report for MooseX-WithCache-0.01007
on perl 5.32.1, created by CPAN-Reporter-1.2018.
Thank you for uploading your work to CPAN. Congratulations!
All tests were successful.
Sections of this report:
* Tester comments
* Program output
* Prerequisites
* Environment and other context
------------------------------
TESTER COMMENTS
------------------------------
Additional comments from tester:
this report is from an automated smoke testing program
and was not reviewed by a human for accuracy
If you would like to try to reproduce this report results or even to work with
the same environment for a bug fix, please refer to
https://github.com/glasswalk3r/cpan-openbsd-smoker to see how to use the
prebuilt virtual machines available.
------------------------------
PROGRAM OUTPUT
------------------------------
Output from '/usr/bin/make test':
PERL_DL_NONLAZY=1 "/usr/bin/perl" "-MExtUtils::Command::MM" "-MTest::Harness" "-e" "undef *Test::Harness::Switches; test_harness(0, 'inc', 'blib/lib', 'blib/arch')" t/*.t t/*/*.t
t/00_compile.t ....... ok
t/02_memcached.t ..... skipped: no memcached server found
must specify either 'datastore' hashref or 'global' flag at /home/goku/perl5/lib/perl5/CHI/Driver/Memory.pm line 34.
CHI::Driver::Memory::BUILD(CHI::Driver::Memory__WITH__CHI::Driver::Role::Universal=HASH(0x54a7a620), HASH(0x7453d2d0)) called at (eval 276) line 508
CHI::Driver::Memory__WITH__CHI::Driver::Role::Universal::new("CHI::Driver::Memory__WITH__CHI::Driver::Role::Universal", "chi_root_class", "CHI", "driver_class", "CHI::Driver::Memory") called at (eval 275) line 56
CHI::Driver::Memory::new("CHI::Driver::Memory__WITH__CHI::Driver::Role::Universal", "chi_root_class", "CHI", "driver_class", "CHI::Driver::Memory") called at /home/goku/perl5/lib/perl5/CHI.pm line 151
CHI::new("CHI", "driver", "Memory") called at t/03_chi.t line 29
t/03_chi.t ........... ok
t/04_fastmmap.t ...... ok
t/05_filecache.t ..... ok
t/99_pod-coverage.t .. skipped: Enable TEST_POD environment variable to test POD
t/99_pod.t ........... skipped: Enable TEST_POD environment variable to test POD
All tests successful.
Files=7, Tests=43, 5 wallclock secs ( 0.07 usr 0.07 sys + 3.29 cusr 1.19 csys = 4.62 CPU)
Result: PASS
------------------------------
PREREQUISITES
------------------------------
Prerequisite modules loaded:
requires:
Module Need Have
--------------------------- ----- --------
Cache::FileCache 0 0
Cache::Memcached 0 1.30
Data::Dumper 0 2.183
Digest::MD5 0 2.58
Moose 0.59 2.2201
MooseX::Role::Parameterized 0 1.11
perl 5.008 5.032001
build_requires:
Module Need Have
--------------------------- ----- --------
ExtUtils::MakeMaker 6.42 7.65_01
IO::Socket::INET 0 1.49
Test::Exception 0 0.43
Test::More 0 1.302190
configure_requires:
Module Need Have
--------------------------- ----- --------
ExtUtils::MakeMaker 6.42 7.65_01
------------------------------
ENVIRONMENT AND OTHER CONTEXT
------------------------------
Environment variables:
AUTOMATED_TESTING = 1
PATH = /home/goku/perl5/bin:/usr/bin:/bin:/usr/sbin:/sbin:/usr/X11R6/bin:/usr/local/bin:/usr/local/sbin
PERL5LIB = /home/goku/perl5/lib/perl5
PERL5OPT =
PERL5_CPANPLUS_IS_RUNNING = 39595
PERL5_CPAN_IS_RUNNING = 39595
PERL5_CPAN_IS_RUNNING_IN_RECURSION = 1201,39595
PERL_CR_SMOKER_CURRENT = WebService-Pingboard-0.009
PERL_EXTUTILS_AUTOINSTALL = --defaultdeps
PERL_LOCAL_LIB_ROOT = /home/goku/perl5
PERL_MB_OPT = --install_base "/home/goku/perl5"
PERL_MM_OPT = INSTALL_BASE=/home/goku/perl5
PERL_MM_USE_DEFAULT = 1
PERL_USE_UNSAFE_INC = 1
SHELL = /bin/ksh
TERM = xterm-256color
Perl special variables (and OS-specific diagnostics, for MSWin32):
$^X = /usr/bin/perl
$UID/$EUID = 1001 / 1001
$GID = 1002 1002 1001
$EGID = 1002 1002 1001
Perl module toolchain versions installed:
Module Have
------------------- --------
CPAN 2.34
CPAN::Meta 2.150010
Cwd 3.78
ExtUtils::CBuilder 0.280236
ExtUtils::Command 7.65_01
ExtUtils::Install 2.20
ExtUtils::MakeMaker 7.65_01
ExtUtils::Manifest 1.73
ExtUtils::ParseXS 3.44
File::Spec 3.78
JSON 4.06
JSON::PP 4.09
Module::Build 0.4231
Module::Signature n/a
Parse::CPAN::Meta 2.150010
Test::Harness 3.44
Test::More 1.302190
YAML 1.30
YAML::Syck 1.34
version 0.9929
--
Summary of my perl5 (revision 5 version 32 subversion 1) configuration:
Platform:
osname=openbsd
osvers=7.1
archname=i386-openbsd
uname='openbsd'
config_args='-dse -Dopenbsd_distribution=defined -Dmksymlinks'
hint=recommended
useposix=true
d_sigaction=define
useithreads=undef
usemultiplicity=undef
use64bitint=undef
use64bitall=undef
uselongdouble=undef
usemymalloc=n
default_inc_excludes_dot=define
bincompat5005=undef
Compiler:
cc='cc'
ccflags ='-DNO_LOCALE_NUMERIC -DNO_LOCALE_COLLATE -fno-strict-aliasing -fno-delete-null-pointer-checks -pipe -fstack-protector-strong -I/usr/local/include'
optimize='-O2'
cppflags='-DBIG_TIME -DNO_LOCALE_NUMERIC -DNO_LOCALE_COLLATE -fno-strict-aliasing -fno-delete-null-pointer-checks -pipe -fstack-protector-strong -I/usr/local/include'
ccversion=''
gccversion='OpenBSD Clang 13.0.0'
gccosandvers=''
intsize=4
longsize=4
ptrsize=4
doublesize=8
byteorder=1234
doublekind=3
d_longlong=define
longlongsize=8
d_longdbl=define
longdblsize=12
longdblkind=3
ivtype='long'
ivsize=4
nvtype='double'
nvsize=8
Off_t='off_t'
lseeksize=8
alignbytes=4
prototype=define
Linker and Libraries:
ld='cc'
ldflags ='-Wl,-E -fstack-protector-strong -L/usr/local/lib'
libpth=/usr/lib /usr/lib/clang/13.0.0/lib /usr/lib
libs=-lm -lc
perllibs=-lm -lc
libc=/usr/lib/libc.so.96.1
so=so
useshrplib=true
libperl=libperl.so.22.0
gnulibc_version=''
Dynamic Linking:
dlsrc=dl_dlopen.xs
dlext=so
d_dlsymun=undef
ccdlflags='-Wl,-R/usr/libdata/perl5/i386-openbsd/CORE'
cccdlflags='-DPIC -fpic '
lddlflags='-shared -fpic -fstack-protector-strong -L/usr/local/lib'
Characteristics of this binary (from libperl):
Compile-time options:
HAS_TIMES
PERLIO_LAYERS
PERL_COPY_ON_WRITE
PERL_DONT_CREATE_GVSV
PERL_MALLOC_WRAP
PERL_OP_PARENT
PERL_PRESERVE_IVUV
USE_LARGE_FILES
USE_LOCALE
USE_LOCALE_CTYPE
USE_LOCALE_TIME
USE_PERLIO
USE_PERL_ATOF
Built under openbsd
%ENV:
PERL5LIB="/home/goku/perl5/lib/perl5"
PERL5OPT=""
PERL5_CPANPLUS_IS_RUNNING="39595"
PERL5_CPAN_IS_RUNNING="39595"
PERL5_CPAN_IS_RUNNING_IN_RECURSION="1201,39595"
PERL_CR_SMOKER_CURRENT="WebService-Pingboard-0.009"
PERL_EXTUTILS_AUTOINSTALL="--defaultdeps"
PERL_LOCAL_LIB_ROOT="/home/goku/perl5"
PERL_MB_OPT="--install_base "/home/goku/perl5""
PERL_MM_OPT="INSTALL_BASE=/home/goku/perl5"
PERL_MM_USE_DEFAULT="1"
PERL_USE_UNSAFE_INC="1"
@INC:
/home/goku/perl5/lib/perl5/5.32.1/i386-openbsd
/home/goku/perl5/lib/perl5/5.32.1
/home/goku/perl5/lib/perl5/i386-openbsd
/home/goku/perl5/lib/perl5
/usr/local/libdata/perl5/site_perl/i386-openbsd
/usr/local/libdata/perl5/site_perl
/usr/libdata/perl5/i386-openbsd
/usr/libdata/perl5
.