Back
From: metabase:user:314402c4-2aae-11df-837a-5e0a49663a4f
Subject: PASS App-GitHooks-Plugin-PerlCompile-v1.1.1 v5.10.1 GNU/Linux
Date: 2016-05-22T02:23:56Z
This distribution has been tested as part of the CPAN Testers
project, supporting the Perl programming language. See
http://wiki.cpantesters.org/ for more information or email
questions to cpan-testers-discuss@perl.org
--
Dear Guillaume Aubert,
This is a computer-generated report for App-GitHooks-Plugin-PerlCompile-v1.1.1
on perl 5.10.1, created by CPAN-Reporter-1.2017.
Thank you for uploading your work to CPAN. Congratulations!
All tests were successful.
Sections of this report:
* Tester comments
* Program output
* Prerequisites
* Environment and other context
------------------------------
TESTER COMMENTS
------------------------------
Additional comments from tester:
none provided
------------------------------
PROGRAM OUTPUT
------------------------------
Output from './Build test':
# Testing App::GitHooks::Plugin::PerlCompile 1.1.1, Perl 5.010001, /bbbike/perl-5.10.1/bin/perl5.10.1
t/00-load.t ........................ ok
# Using git version 2.1.4.
t/01-git_version.t ................. ok
t/03-get_file_check_description.t .. ok
t/05-get_file_pattern.t ............ ok
t/10-run.t ......................... ok
All tests successful.
Files=5, Tests=16, 9 wallclock secs ( 0.03 usr 0.03 sys + 0.91 cusr 1.00 csys = 1.97 CPU)
Result: PASS
------------------------------
PREREQUISITES
------------------------------
Prerequisite modules loaded:
requires:
Module Need Have
------------------- ----- --------
App::GitHooks 0 1.8.0
File::Spec 0 3.62
perl 5.01 5.010001
System::Command 0 1.117
build_requires:
Module Need Have
------------------- ----- --------
Capture::Tiny 0 0.36
Git::Repository 0 1.318
Test::Exception 0 0.43
Test::FailWarnings 0 0.008
Test::More 0.94 1.302015
Test::Requires::Git 1.005 1.006
Test::Type 0 1.2.0
configure_requires:
Module Need Have
------------------- ----- --------
Module::Build 0 0.4218
------------------------------
ENVIRONMENT AND OTHER CONTEXT
------------------------------
Environment variables:
LANG = C
LC_ALL = de_DE.UTF-8
PATH = /usr/local/bin:/usr/bin:/bin:/usr/local/sbin:/usr/sbin:/sbin:/home/cpansand/bin/linux-gnu:/home/cpansand/bin/sh:/home/cpansand/bin:/usr/games:/home/cpansand/devel:/home/eserte/src/srezic-misc/scripts
PERL5LIB = /home/cpansand/.cpan/build/2016052200/App-GitHooks-Plugin-NotifyReleasesToSlack-v1.1.1-FRZzLO/blib/arch:/home/cpansand/.cpan/build/2016052200/App-GitHooks-Plugin-NotifyReleasesToSlack-v1.1.1-FRZzLO/blib/lib:/home/cpansand/.cpan/build/2016052200/App-GitHooks-v1.8.0-75AhT6/blib/arch:/home/cpansand/.cpan/build/2016052200/App-GitHooks-v1.8.0-75AhT6/blib/lib:/home/cpansand/.cpan/build/2016052200/Test-Type-v1.2.0-GcESHj/blib/arch:/home/cpansand/.cpan/build/2016052200/Test-Type-v1.2.0-GcESHj/blib/lib:/home/cpansand/.cpan/build/2016052200/Data-Validate-Type-v1.5.1-Uhy4JD/blib/arch:/home/cpansand/.cpan/build/2016052200/Data-Validate-Type-v1.5.1-Uhy4JD/blib/lib
PERL5OPT =
PERL5_CPANPLUS_IS_RUNNING = 30457
PERL5_CPAN_IS_RUNNING = 30457
PERL5_CPAN_IS_RUNNING_IN_RECURSION = 30371,30457
PERLDOC = -MPod::Perldoc::ToTextOverstrike
PERL_BATCH = yes
PERL_CANARY_STABILITY_NOPROMPT = 1
PERL_CPAN_REPORTER_CONFIG = /run/user/1023/cpansmoker/2016052200/cpanreporter_000_config.ini
PERL_EXTUTILS_AUTOINSTALL = --defaultdeps
PERL_PARALLEL_SMOKER = yes
SHELL = /bin/zsh
TERM = screen
TMPDIR = /run/user/1023/cpansmoker/2016052200
Perl special variables (and OS-specific diagnostics, for MSWin32):
$^X = /bbbike/perl-5.10.1/bin/perl5.10.1
$UID/$EUID = 1023 / 1023
$GID = 1023 1023
$EGID = 1023 1023
Perl module toolchain versions installed:
Module Have
------------------- --------
CPAN 1.9402
CPAN::Meta 2.143240
Cwd 3.62
ExtUtils::CBuilder 0.280224
ExtUtils::Command 7.16
ExtUtils::Install 1.54
ExtUtils::MakeMaker 7.16
ExtUtils::Manifest 1.70
ExtUtils::ParseXS 3.30
File::Spec 3.62
JSON 2.90
JSON::PP 2.27400
Module::Build 0.4218
Module::Signature 0.79
Parse::CPAN::Meta 1.4414
Test::Harness 3.36
Test::More 1.302015
YAML 1.15
YAML::Syck 1.29
version 0.9916
--
Summary of my perl5 (revision 5 version 10 subversion 1) configuration:
Platform:
osname=linux, osvers=3.16.0-4-amd64, archname=x86_64-linux
uname='linux eserte 3.16.0-4-amd64 #1 smp debian 3.16.7-ckt25-2 (2016-04-08) x86_64 gnulinux '
config_args='-ds -e -Dprefix=/opt/perl-5.10.1 -Dcf_email=srezic@cpan.org'
hint=recommended, useposix=true, d_sigaction=define
useithreads=undef, usemultiplicity=undef
useperlio=define, d_sfio=undef, uselargefiles=define, usesocks=undef
use64bitint=define, use64bitall=define, uselongdouble=undef
usemymalloc=n, bincompat5005=undef
Compiler:
cc='cc', ccflags ='-fno-strict-aliasing -pipe -fstack-protector -I/usr/local/include -D_LARGEFILE_SOURCE -D_FILE_OFFSET_BITS=64',
optimize='-O2',
cppflags='-fno-strict-aliasing -pipe -fstack-protector -I/usr/local/include'
ccversion='', gccversion='4.9.2', gccosandvers=''
intsize=4, longsize=8, ptrsize=8, doublesize=8, byteorder=12345678
d_longlong=define, longlongsize=8, d_longdbl=define, longdblsize=16
ivtype='long', ivsize=8, nvtype='double', nvsize=8, Off_t='off_t', lseeksize=8
alignbytes=8, prototype=define
Linker and Libraries:
ld='cc', ldflags =' -fstack-protector -L/usr/local/lib'
libpth=/usr/local/lib /lib/x86_64-linux-gnu /lib/../lib /usr/lib/x86_64-linux-gnu /usr/lib/../lib /lib /usr/lib
libs=-lnsl -ldl -lm -lcrypt -lutil -lc
perllibs=-lnsl -ldl -lm -lcrypt -lutil -lc
libc=libc-2.19.so, so=so, useshrplib=false, libperl=libperl.a
gnulibc_version='2.19'
Dynamic Linking:
dlsrc=dl_dlopen.xs, dlext=so, d_dlsymun=undef, ccdlflags='-Wl,-E'
cccdlflags='-fPIC', lddlflags='-shared -O2 -L/usr/local/lib -fstack-protector'
Characteristics of this binary (from libperl):
Compile-time options: PERL_DONT_CREATE_GVSV PERL_MALLOC_WRAP USE_64_BIT_ALL
USE_64_BIT_INT USE_LARGE_FILES USE_PERLIO
Locally applied patches:
Devel::PatchPerl 1.42
Built under linux
Compiled at May 7 2016 09:04:56
%ENV:
PERL5LIB="/home/cpansand/.cpan/build/2016052200/App-GitHooks-Plugin-NotifyReleasesToSlack-v1.1.1-FRZzLO/blib/arch:/home/cpansand/.cpan/build/2016052200/App-GitHooks-Plugin-NotifyReleasesToSlack-v1.1.1-FRZzLO/blib/lib:/home/cpansand/.cpan/build/2016052200/App-GitHooks-v1.8.0-75AhT6/blib/arch:/home/cpansand/.cpan/build/2016052200/App-GitHooks-v1.8.0-75AhT6/blib/lib:/home/cpansand/.cpan/build/2016052200/Test-Type-v1.2.0-GcESHj/blib/arch:/home/cpansand/.cpan/build/2016052200/Test-Type-v1.2.0-GcESHj/blib/lib:/home/cpansand/.cpan/build/2016052200/Data-Validate-Type-v1.5.1-Uhy4JD/blib/arch:/home/cpansand/.cpan/build/2016052200/Data-Validate-Type-v1.5.1-Uhy4JD/blib/lib"
PERL5OPT=""
PERL5_CPANPLUS_IS_RUNNING="30457"
PERL5_CPAN_IS_RUNNING="30457"
PERL5_CPAN_IS_RUNNING_IN_RECURSION="30371,30457"
PERLDOC="-MPod::Perldoc::ToTextOverstrike"
PERL_BATCH="yes"
PERL_CANARY_STABILITY_NOPROMPT="1"
PERL_CPAN_REPORTER_CONFIG="/run/user/1023/cpansmoker/2016052200/cpanreporter_000_config.ini"
PERL_EXTUTILS_AUTOINSTALL="--defaultdeps"
PERL_PARALLEL_SMOKER="yes"
@INC:
/home/cpansand/.cpan/build/2016052200/App-GitHooks-Plugin-NotifyReleasesToSlack-v1.1.1-FRZzLO/blib/arch
/home/cpansand/.cpan/build/2016052200/App-GitHooks-Plugin-NotifyReleasesToSlack-v1.1.1-FRZzLO/blib/lib
/home/cpansand/.cpan/build/2016052200/App-GitHooks-v1.8.0-75AhT6/blib/arch
/home/cpansand/.cpan/build/2016052200/App-GitHooks-v1.8.0-75AhT6/blib/lib
/home/cpansand/.cpan/build/2016052200/Test-Type-v1.2.0-GcESHj/blib/arch
/home/cpansand/.cpan/build/2016052200/Test-Type-v1.2.0-GcESHj/blib/lib
/home/cpansand/.cpan/build/2016052200/Data-Validate-Type-v1.5.1-Uhy4JD/blib/arch
/home/cpansand/.cpan/build/2016052200/Data-Validate-Type-v1.5.1-Uhy4JD/blib/lib
/opt/perl-5.10.1/lib/5.10.1/x86_64-linux
/opt/perl-5.10.1/lib/5.10.1
/opt/perl-5.10.1/lib/site_perl/5.10.1/x86_64-linux
/opt/perl-5.10.1/lib/site_perl/5.10.1
.