Crypt-OpenSSL-PKCS10 v0.33-TRIAL Perl 5 v5.24.0 x86_64-linux

Status
Pass
From
Slaven Rezić
Dist
Crypt-OpenSSL-PKCS10 v0.33-TRIAL
Platform
Perl 5 v5.24.0 x86_64-linux
Date
2025-01-24 23:09:17
ID
3c5e18f6-daa8-11ef-a6d3-b51f6e8775ea
This distribution has been tested as part of the CPAN Testers
project, supporting the Perl programming language.  See
http://wiki.cpantesters.org/ for more information or email
questions to cpan-testers-discuss@perl.org


--
Dear Timothy Legge,

This is a computer-generated report for Crypt-OpenSSL-PKCS10-0.33-TRIAL
on perl 5.24.0, created by CPAN-Reporter-1.2018.

Thank you for uploading your work to CPAN.  Congratulations!
All tests were successful.

Sections of this report:

    * Tester comments
    * Program output
    * Prerequisites
    * Environment and other context

------------------------------
TESTER COMMENTS
------------------------------

Additional comments from tester:

none provided

------------------------------
PROGRAM OUTPUT
------------------------------

Output from '/usr/bin/make test':

"/opt/perl-5.24.0/bin/perl" -MExtUtils::Command::MM -e 'cp_nonempty' -- PKCS10.bs blib/arch/auto/Crypt/OpenSSL/PKCS10/PKCS10.bs 644
PERL_DL_NONLAZY=1 "/opt/perl-5.24.0/bin/perl" "-MExtUtils::Command::MM" "-MTest::Harness" "-e" "undef *Test::Harness::Switches; test_harness(0, 'blib/lib', 'blib/arch')" t/*.t
# OpenSSL 1.0.1t  3 May 2016
t/00-openssl-version.t .. ok
t/10-rsa-keys.t ......... ok
t/20-ec.t ............... ok
t/30-ec-keys.t .......... ok
t/author-pod-spell.t .... skipped: these tests are for testing by the author
t/author-pod-syntax.t ... skipped: these tests are for testing by the author
-----BEGIN CERTIFICATE REQUEST-----
MIIBPzCBqQIBADAAMIGfMA0GCSqGSIb3DQEBAQUAA4GNADCBiQKBgQDDglUuL/o+
sN+pCirNaJtRnC9vtss++JdHGjieJMH3oDHCqkFlE2LqP5p3kaHYNDQVpkcMXHnX
JGDlSYt1ICGletQBqCk0/VfQyB4v9YL3VQSi3pLN3b3lJssfucsdxN+gNfh+zpWk
8YEYlt8k4TZM/NX4oqa/+0uRFX0DK/bufwIDAQABoAAwDQYJKoZIhvcNAQELBQAD
gYEAR6TUB00lx72NNWoav2UlRxsE6XzBatoswZOY3VrLMvaMK8+RvfUsnHdErpbp
KsqYt/LjFhkjmF9mbgSoIG88/eBPWELLBKKTC8Z5QPLH0VS59vaFHyAosBkYTHCN
L58hrY52ccfMGhGhCbRur/CLpxl+/nm6vrFZD3lXJXqAIyw=
-----END CERTIFICATE REQUEST-----
-----BEGIN PRIVATE KEY-----
MIICdgIBADANBgkqhkiG9w0BAQEFAASCAmAwggJcAgEAAoGBAMOCVS4v+j6w36kK
Ks1om1GcL2+2yz74l0caOJ4kwfegMcKqQWUTYuo/mneRodg0NBWmRwxcedckYOVJ
i3UgIaV61AGoKTT9V9DIHi/1gvdVBKLeks3dveUmyx+5yx3E36A1+H7OlaTxgRiW
3yThNkz81fiipr/7S5EVfQMr9u5/AgMBAAECgYAGG0kL00XOtXmW7xFdLxpC100I
AT6h7ePTvbbtAZrpYCCNwwGd5ZgeVvQ9LdhPR3ok/veTJERN+v3ny39GnkVOttzg
dGESYYTjRcQwfKPuEPOZWScN/4HW+SmxGN4ayu5fYwiBBO2WGxHg+VeFuKmKonPr
MVqJo8O4NTNeeAgp6QJBAPKi5XKomXPyTsoPZ4N2ptuGV3to67OXrYye3CR6/pCi
bPWChvafxj9yvfqemx2ON0ssVKgAL+al+oHZm5+dt0sCQQDORvTIYh9m+JsMQca3
R6FHYr5Ze8eU2L6K9RRdgrBlPgkuNy5Q8Z0U2zLQNyaRWWJbbSfCaCh+B0Or0/gx
maEdAkEAtIEw9vqsplBGAxYwqOF1Qm0P2dR1PLcDOlDYbx89EHZ1XrPLGeBFCOCg
qrihpvws8HS7SfxRpmImGcG8f6NCPwJAJ7CbdNr8c9Gt86PMWoOb0qJ7QbiBZHB3
6UDS1FNLIY/YMF5JuSVkNhkfI9UYxKrQNAtCtTNZZzZ6nNtCTDjlOQJAURpMjJy3
F4R/B1PZUU9Jw69J6hbWqLvIy33CbtDR0wVpdb88NmdiMAw38UrLv6wRCx3JDHqs
Z8iwwU6cQzR4GQ==
-----END PRIVATE KEY-----


Public-Key: (1024 bit)
Modulus:

-----BEGIN CERTIFICATE REQUEST-----
MIIBPzCBqQIBADAAMIGfMA0GCSqGSIb3DQEBAQUAA4GNADCBiQKBgQCaRLSZtIwg
7ebqnrxmNVt1wALLJC7ELlteyEXXxts21TJ+zx3qpIDX+cWe9j3/aCc9U+IYdea4
Tl8WTIT61BILHTkv8hfvtvC0S2Liuf55Rj5cSMr6Xm9Ku7CorLUFMW/uuD5NXKlf
mjuq6wnpDEXsAlVOrEHfaepJ8iFHRHClIQIDAQABoAAwDQYJKoZIhvcNAQELBQAD
gYEAWPuyvyabIKqyGDCIZbyieyjTue0b/GLsRa9DKwpJtfjykJYevQ3JRZmAyQDM
XvOldhtNIXbuuABYS4NfH9flcg0f/jgHb0dAoJ46NBE2BJg+PKAl1XM1JLSHWk42
Pq0iXtJB+Pmodb2CuX0cH2V9h/VUe2fbY9NinKO7ObRrTN8=
-----END CERTIFICATE REQUEST-----

Public-Key: (1024 bit)
Modulus:

rsa
-----BEGIN PUBLIC KEY-----
MIGfMA0GCSqGSIb3DQEBAQUAA4GNADCBiQKBgQCaRLSZtIwg7ebqnrxmNVt1wALL
JC7ELlteyEXXxts21TJ+zx3qpIDX+cWe9j3/aCc9U+IYdea4Tl8WTIT61BILHTkv
8hfvtvC0S2Liuf55Rj5cSMr6Xm9Ku7CorLUFMW/uuD5NXKlfmjuq6wnpDEXsAlVO
rEHfaepJ8iFHRHClIQIDAQAB
-----END PUBLIC KEY-----

-----BEGIN CERTIFICATE REQUEST-----
MIIBPzCBqQIBADAAMIGfMA0GCSqGSIb3DQEBAQUAA4GNADCBiQKBgQDgW+Qy1pgK
k6cGddTeX4i5J7Rse+N0lVUFlLDUKeMZOLibF193vY4kLUSEELQT5QEb3/cuYPhK
HH8EI3zzLhrAg/WOOdnn9d+E5jaOLCK5FHJuvgYlunvCLZjpgJMLSlaPPVxOIxg9
iHEXgzRBxgNrPPA/buh27oPC1OT2j8q3GwIDAQABoAAwDQYJKoZIhvcNAQEMBQAD
gYEA0AeQm+zTXZsSBgzceu25gsKX3eEEsG0ZdZ9hxgSpAsB31y6qUuPMCo2kj5ca
aMDMlzGi9T2XIHMP3CnB4VITcbSUdxCJWm3UpYDCRuiubpEGuJbVOea0I4OvRQW7
DfmuQpC153ABp5P0P4sO4AFZOhcsLoyN4pWrONQWbL4iJQ8=
-----END CERTIFICATE REQUEST-----

Public-Key: (1024 bit)
Modulus:

rsa
-----BEGIN PUBLIC KEY-----
MIGfMA0GCSqGSIb3DQEBAQUAA4GNADCBiQKBgQDgW+Qy1pgKk6cGddTeX4i5J7Rs
e+N0lVUFlLDUKeMZOLibF193vY4kLUSEELQT5QEb3/cuYPhKHH8EI3zzLhrAg/WO
Odnn9d+E5jaOLCK5FHJuvgYlunvCLZjpgJMLSlaPPVxOIxg9iHEXgzRBxgNrPPA/
buh27oPC1OT2j8q3GwIDAQAB
-----END PUBLIC KEY-----

-----BEGIN CERTIFICATE REQUEST-----
MIICJzCCAZACAQAwKTELMAkGA1UEBhMCUk8xDDAKBgNVBAoMA1VUSTEMMAoGA1UE
CwwDc3NpMIGfMA0GCSqGSIb3DQEBAQUAA4GNADCBiQKBgQDYV0G4uir41WG5dOfe
1JoqY663yJ9/Jycfyt4nsaHvqBGzo9PTVis1lJ5loNOlQhvzq6/6E9Fwg58oa545
jxDGaGrhC8fuC7W8GXR7jDauwquvmrfHrUIZAC1oxZs1KKf6Yw66Tki/XaveBwzs
6pHKWHwhh5mXB6bOJALjM0LW8wIDAQABoIG9MIG6BgkqhkiG9w0BCQ4xgawwgakw
DgYDVR0PAQH/BAQDAgWgMC4GA1UdJQQnMCUGCCsGAQUFBwMBBglghkgBhvhCBAEG
CisGAQQBgjcKAwMGAisEMBwGA1UdEQQVMBOBEXN0ZXZlQG9wZW5zc2wub3JnMB0G
A1UdDgQWBBT/Drcmqgn390J7ZCNj5TV/tNRiBTAZBgMqAwMEEhYQTXkgbmV3IGV4
dGVuc2lvbjAPBgMqAwQECB4GAGEAYgBjMA0GCSqGSIb3DQEBCwUAA4GBAC5C1IdA
uq9QCfG76isMLN8ZwZaluDj0DqaWldb+NPsndfDaZpTfeaG/7tseFIkNB6/Ab7wj
ZnUYenFLeHxLgiWwymaYLaIjYaZ4VBAaM8r8wn87o8bNucDXAJvDxBML0GGenGZY
1Ov4CK2yddMMp3b7Xaq5x1bjPTKa43nOGggV
-----END CERTIFICATE REQUEST-----
Public-Key: (1024 bit)
Modulus:

-----BEGIN PUBLIC KEY-----
MIGfMA0GCSqGSIb3DQEBAQUAA4GNADCBiQKBgQDYV0G4uir41WG5dOfe1JoqY663
yJ9/Jycfyt4nsaHvqBGzo9PTVis1lJ5loNOlQhvzq6/6E9Fwg58oa545jxDGaGrh
C8fuC7W8GXR7jDauwquvmrfHrUIZAC1oxZs1KKf6Yw66Tki/XaveBwzs6pHKWHwh
h5mXB6bOJALjM0LW8wIDAQAB
-----END PUBLIC KEY-----

t/Mytest.t .............. ok
t/release-kwalitee.t .... skipped: these tests are for release candidate testing
t/release-meta-json.t ... skipped: these tests are for release candidate testing
All tests successful.
Files=9, Tests=102,  2 wallclock secs ( 0.02 usr  0.02 sys +  2.04 cusr  0.07 csys =  2.15 CPU)
Result: PASS

------------------------------
PREREQUISITES
------------------------------

Prerequisite modules loaded:

requires:

    Module                Need  Have    
    --------------------- ----- --------
    Crypt::OpenSSL::RSA   0     0.28    
    Exporter              0     5.72    
    perl                  5.008 5.024000
    XSLoader              0     0.24    

build_requires:

    Module                Need  Have    
    --------------------- ----- --------
    Crypt::OpenSSL::Guess 0.11  0.15    
    Crypt::OpenSSL::RSA   0     0.28    
    File::Slurper         0     0.009   
    File::Spec::Functions 0     3.63    
    File::Temp            0     0.2304  
    Import::Into          0     1.002005
    Test::Lib             0     0.002   
    Test::More            0     1.302052

configure_requires:

    Module                Need  Have    
    --------------------- ----- --------
    Crypt::OpenSSL::Guess 0.11  0.15    
    ExtUtils::MakeMaker   0     7.24    


------------------------------
ENVIRONMENT AND OTHER CONTEXT
------------------------------

Environment variables:

    LANG = en_US.UTF-8
    LANGUAGE = en_US:en
    LC_ALL = en_US.UTF-8
    PATH = /usr/local/bin:/usr/bin:/bin:/usr/local/sbin:/usr/sbin:/sbin:/home/cpansand/bin/linux-gnu:/home/cpansand/bin/sh:/home/cpansand/bin:/usr/games:/home/cpansand/devel:/home/eserte/src/srezic-misc/scripts
    PERL5LIB = /home/cpansand/.cpan/build/2025012500/Crypt-OpenSSL-Guess-0.15-0/blib/arch:/home/cpansand/.cpan/build/2025012500/Crypt-OpenSSL-Guess-0.15-0/blib/lib
    PERL5OPT = 
    PERL5_CPANPLUS_IS_RUNNING = 1489
    PERL5_CPAN_IS_RUNNING = 1489
    PERL5_CPAN_IS_RUNNING_IN_RECURSION = 2984,1489
    PERLDOC = -MPod::Perldoc::ToTextOverstrike
    PERL_BATCH = yes
    PERL_CANARY_STABILITY_NOPROMPT = 1
    PERL_CPAN_REPORTER_CONFIG = /var/tmp/cpansmoker-1023/2025012422/cpanreporter_000_config.ini
    PERL_EXTUTILS_AUTOINSTALL = --defaultdeps
    PERL_USE_UNSAFE_INC = 1
    SHELL = /bin/zsh
    TERM = screen
    TMPDIR = /var/tmp/cpansmoker-1023/2025012422

Perl special variables (and OS-specific diagnostics, for MSWin32):

    $^X = /opt/perl-5.24.0/bin/perl
    $UID/$EUID = 1023 / 1023
    $GID = 1023 1023
    $EGID = 1023 1023

Perl module toolchain versions installed:

    Module              Have    
    ------------------- --------
    CPAN                2.28    
    CPAN::Meta          2.150010
    Cwd                 3.63    
    ExtUtils::CBuilder  0.280225
    ExtUtils::Command   7.24    
    ExtUtils::Install   2.04    
    ExtUtils::MakeMaker 7.24    
    ExtUtils::Manifest  1.70    
    ExtUtils::ParseXS   3.31    
    File::Spec          3.63    
    JSON                2.90    
    JSON::PP            2.27300 
    Module::Build       0.4220  
    Module::Signature   0.80    
    Parse::CPAN::Meta   2.150010
    Test::Harness       3.36    
    Test::More          1.302052
    YAML                1.17    
    YAML::Syck          1.29    
    version             0.9916  


--

Summary of my perl5 (revision 5 version 24 subversion 0) configuration:
   
  Platform:
    osname=linux, osvers=3.2.0-4-amd64, archname=x86_64-linux
    uname='linux cvrsnica-wheezy 3.2.0-4-amd64 #1 smp debian 3.2.54-2 x86_64 gnulinux '
    config_args='-ds -e -Dprefix=/opt/perl-5.24.0 -Dcf_email=srezic@cpan.org'
    hint=recommended, useposix=true, d_sigaction=define
    useithreads=undef, usemultiplicity=undef
    use64bitint=define, use64bitall=define, uselongdouble=undef
    usemymalloc=n, bincompat5005=undef
  Compiler:
    cc='cc', ccflags ='-fwrapv -fno-strict-aliasing -pipe -fstack-protector -I/usr/local/include -D_LARGEFILE_SOURCE -D_FILE_OFFSET_BITS=64 -D_FORTIFY_SOURCE=2',
    optimize='-O2',
    cppflags='-fwrapv -fno-strict-aliasing -pipe -fstack-protector -I/usr/local/include'
    ccversion='', gccversion='4.7.2', gccosandvers=''
    intsize=4, longsize=8, ptrsize=8, doublesize=8, byteorder=12345678, doublekind=3
    d_longlong=define, longlongsize=8, d_longdbl=define, longdblsize=16, longdblkind=3
    ivtype='long', ivsize=8, nvtype='double', nvsize=8, Off_t='off_t', lseeksize=8
    alignbytes=8, prototype=define
  Linker and Libraries:
    ld='cc', ldflags =' -fstack-protector -L/usr/local/lib'
    libpth=/usr/local/lib /usr/lib/gcc/x86_64-linux-gnu/4.7/include-fixed /usr/include/x86_64-linux-gnu /usr/lib /lib/x86_64-linux-gnu /lib/../lib /usr/lib/x86_64-linux-gnu /usr/lib/../lib /lib
    libs=-lpthread -lnsl -ldb -ldl -lm -lcrypt -lutil -lc
    perllibs=-lpthread -lnsl -ldl -lm -lcrypt -lutil -lc
    libc=libc-2.13.so, so=so, useshrplib=false, libperl=libperl.a
    gnulibc_version='2.13'
  Dynamic Linking:
    dlsrc=dl_dlopen.xs, dlext=so, d_dlsymun=undef, ccdlflags='-Wl,-E'
    cccdlflags='-fPIC', lddlflags='-shared -O2 -L/usr/local/lib -fstack-protector'


Characteristics of this binary (from libperl): 
  Compile-time options: HAS_TIMES PERLIO_LAYERS PERL_COPY_ON_WRITE
                        PERL_DONT_CREATE_GVSV
                        PERL_HASH_FUNC_ONE_AT_A_TIME_HARD PERL_MALLOC_WRAP
                        PERL_PRESERVE_IVUV USE_64_BIT_ALL USE_64_BIT_INT
                        USE_LARGE_FILES USE_LOCALE USE_LOCALE_COLLATE
                        USE_LOCALE_CTYPE USE_LOCALE_NUMERIC USE_LOCALE_TIME
                        USE_PERLIO USE_PERL_ATOF
  Built under linux
  Compiled at May 30 2016 08:43:25
  %ENV:
    PERL5LIB="/home/cpansand/.cpan/build/2025012500/Crypt-OpenSSL-Guess-0.15-0/blib/arch:/home/cpansand/.cpan/build/2025012500/Crypt-OpenSSL-Guess-0.15-0/blib/lib"
    PERL5OPT=""
    PERL5_CPANPLUS_IS_RUNNING="1489"
    PERL5_CPAN_IS_RUNNING="1489"
    PERL5_CPAN_IS_RUNNING_IN_RECURSION="2984,1489"
    PERLDOC="-MPod::Perldoc::ToTextOverstrike"
    PERL_BATCH="yes"
    PERL_CANARY_STABILITY_NOPROMPT="1"
    PERL_CPAN_REPORTER_CONFIG="/var/tmp/cpansmoker-1023/2025012422/cpanreporter_000_config.ini"
    PERL_EXTUTILS_AUTOINSTALL="--defaultdeps"
    PERL_USE_UNSAFE_INC="1"
  @INC:
    /home/cpansand/.cpan/build/2025012500/Crypt-OpenSSL-Guess-0.15-0/blib/arch
    /home/cpansand/.cpan/build/2025012500/Crypt-OpenSSL-Guess-0.15-0/blib/lib
    /opt/perl-5.24.0/lib/site_perl/5.24.0/x86_64-linux
    /opt/perl-5.24.0/lib/site_perl/5.24.0
    /opt/perl-5.24.0/lib/5.24.0/x86_64-linux
    /opt/perl-5.24.0/lib/5.24.0
    .