Report for Test-PostgreSQL-1.22

Back
From: metabase:user:30f4dfbe-2aae-11df-837a-5e0a49663a4f
Subject: PASS Test-PostgreSQL-1.22 v5.14.4 Mac OS X
Date: 2017-04-12T14:28:02Z

This distribution has been tested as part of the CPAN Testers
project, supporting the Perl programming language.  See
http://wiki.cpantesters.org/ for more information or email
questions to cpan-testers-discuss@perl.org


--
Dear Toby Corkindale,

This is a computer-generated report for Test-PostgreSQL-1.22
on perl 5.14.4, created by CPAN-Reporter-1.2018.

Thank you for uploading your work to CPAN.  Congratulations!
All tests were successful.

Sections of this report:

    * Tester comments
    * Program output
    * Prerequisites
    * Environment and other context

------------------------------
TESTER COMMENTS
------------------------------

Additional comments from tester:

this report is from an automated smoke testing program
and was not reviewed by a human for accuracy

------------------------------
PROGRAM OUTPUT
------------------------------

Output from '/sw/bin/make test':

PERL_DL_NONLAZY=1 "/Users/hornenj/perl5/perlbrew/perls/perl-5.14.4/bin/perl5.14.4" "-MExtUtils::Command::MM" "-MTest::Harness" "-e" "undef *Test::Harness::Switches; test_harness(0, 'inc', 'blib/lib', 'blib/arch')" t/*.t
t/00-base.t .......... ok
FATAL:  could not create shared memory segment: No space left on device
DETAIL:  Failed system call was shmget(key=1, size=56, 03600).
HINT:  This error does *not* mean that you have run out of disk space.  It occurs either if all available shared memory IDs have been taken, in which case you need to raise the SHMMNI parameter in your kernel, or because the system's overall limit for shared memory has been reached.
	The PostgreSQL documentation contains more information about shared memory configuration.
child process exited with exit code 1
initdb: removing data directory "/var/folders/pz/pd7y1qjs6s3cbk170cw50fjc000c61/T/pgtest.ZqgaR/data"
pg_ctl: database system initialization failed
pg_ctl: directory "/var/folders/pz/pd7y1qjs6s3cbk170cw50fjc000c61/T/pgtest.ZqgaR/data" does not exist
pg_ctl: directory "/var/folders/pz/pd7y1qjs6s3cbk170cw50fjc000c61/T/pgtest.ZqgaR/data" does not exist
pg_ctl: directory "/var/folders/pz/pd7y1qjs6s3cbk170cw50fjc000c61/T/pgtest.ZqgaR/data" does not exist
pg_ctl: directory "/var/folders/pz/pd7y1qjs6s3cbk170cw50fjc000c61/T/pgtest.ZqgaR/data" does not exist
pg_ctl: directory "/var/folders/pz/pd7y1qjs6s3cbk170cw50fjc000c61/T/pgtest.ZqgaR/data" does not exist
pg_ctl: directory "/var/folders/pz/pd7y1qjs6s3cbk170cw50fjc000c61/T/pgtest.ZqgaR/data" does not exist
pg_ctl: directory "/var/folders/pz/pd7y1qjs6s3cbk170cw50fjc000c61/T/pgtest.ZqgaR/data" does not exist
pg_ctl: directory "/var/folders/pz/pd7y1qjs6s3cbk170cw50fjc000c61/T/pgtest.ZqgaR/data" does not exist
pg_ctl: directory "/var/folders/pz/pd7y1qjs6s3cbk170cw50fjc000c61/T/pgtest.ZqgaR/data" does not exist
pg_ctl: directory "/var/folders/pz/pd7y1qjs6s3cbk170cw50fjc000c61/T/pgtest.ZqgaR/data" does not exist
pg_ctl: directory "/var/folders/pz/pd7y1qjs6s3cbk170cw50fjc000c61/T/pgtest.ZqgaR/data" does not exist
t/01-raii.t .......... skipped: Failed to start postgres on port 15442: Failed to open /var/folders/pz/pd7y1qjs6s3cbk170cw50fjc000c61/T/pgtest.ZqgaR/data/postmaster.pid: No such file or directory at /Users/hornenj/.cpan/build/Test-PostgreSQL-1.22-0/blib/lib/Test/PostgreSQL.pm line 313.
FATAL:  could not create shared memory segment: No space left on device
DETAIL:  Failed system call was shmget(key=1, size=56, 03600).
HINT:  This error does *not* mean that you have run out of disk space.  It occurs either if all available shared memory IDs have been taken, in which case you need to raise the SHMMNI parameter in your kernel, or because the system's overall limit for shared memory has been reached.
	The PostgreSQL documentation contains more information about shared memory configuration.
child process exited with exit code 1
initdb: removing data directory "/var/folders/pz/pd7y1qjs6s3cbk170cw50fjc000c61/T/pgtest.u8OJc/data"
pg_ctl: database system initialization failed
pg_ctl: directory "/var/folders/pz/pd7y1qjs6s3cbk170cw50fjc000c61/T/pgtest.u8OJc/data" does not exist
pg_ctl: directory "/var/folders/pz/pd7y1qjs6s3cbk170cw50fjc000c61/T/pgtest.u8OJc/data" does not exist
pg_ctl: directory "/var/folders/pz/pd7y1qjs6s3cbk170cw50fjc000c61/T/pgtest.u8OJc/data" does not exist
pg_ctl: directory "/var/folders/pz/pd7y1qjs6s3cbk170cw50fjc000c61/T/pgtest.u8OJc/data" does not exist
pg_ctl: directory "/var/folders/pz/pd7y1qjs6s3cbk170cw50fjc000c61/T/pgtest.u8OJc/data" does not exist
pg_ctl: directory "/var/folders/pz/pd7y1qjs6s3cbk170cw50fjc000c61/T/pgtest.u8OJc/data" does not exist
pg_ctl: directory "/var/folders/pz/pd7y1qjs6s3cbk170cw50fjc000c61/T/pgtest.u8OJc/data" does not exist
pg_ctl: directory "/var/folders/pz/pd7y1qjs6s3cbk170cw50fjc000c61/T/pgtest.u8OJc/data" does not exist
pg_ctl: directory "/var/folders/pz/pd7y1qjs6s3cbk170cw50fjc000c61/T/pgtest.u8OJc/data" does not exist
pg_ctl: directory "/var/folders/pz/pd7y1qjs6s3cbk170cw50fjc000c61/T/pgtest.u8OJc/data" does not exist
pg_ctl: directory "/var/folders/pz/pd7y1qjs6s3cbk170cw50fjc000c61/T/pgtest.u8OJc/data" does not exist
t/02-multi.t ......... skipped: Failed to start postgres on port 15442: Failed to open /var/folders/pz/pd7y1qjs6s3cbk170cw50fjc000c61/T/pgtest.u8OJc/data/postmaster.pid: No such file or directory at /Users/hornenj/.cpan/build/Test-PostgreSQL-1.22-0/blib/lib/Test/PostgreSQL.pm line 313.
FATAL:  could not create shared memory segment: No space left on device
DETAIL:  Failed system call was shmget(key=1, size=56, 03600).
HINT:  This error does *not* mean that you have run out of disk space.  It occurs either if all available shared memory IDs have been taken, in which case you need to raise the SHMMNI parameter in your kernel, or because the system's overall limit for shared memory has been reached.
	The PostgreSQL documentation contains more information about shared memory configuration.
child process exited with exit code 1
initdb: removing data directory "/var/folders/pz/pd7y1qjs6s3cbk170cw50fjc000c61/T/pgtest.dkqWq/data"
pg_ctl: database system initialization failed
pg_ctl: directory "/var/folders/pz/pd7y1qjs6s3cbk170cw50fjc000c61/T/pgtest.dkqWq/data" does not exist
pg_ctl: directory "/var/folders/pz/pd7y1qjs6s3cbk170cw50fjc000c61/T/pgtest.dkqWq/data" does not exist
pg_ctl: directory "/var/folders/pz/pd7y1qjs6s3cbk170cw50fjc000c61/T/pgtest.dkqWq/data" does not exist
pg_ctl: directory "/var/folders/pz/pd7y1qjs6s3cbk170cw50fjc000c61/T/pgtest.dkqWq/data" does not exist
pg_ctl: directory "/var/folders/pz/pd7y1qjs6s3cbk170cw50fjc000c61/T/pgtest.dkqWq/data" does not exist
pg_ctl: directory "/var/folders/pz/pd7y1qjs6s3cbk170cw50fjc000c61/T/pgtest.dkqWq/data" does not exist
pg_ctl: directory "/var/folders/pz/pd7y1qjs6s3cbk170cw50fjc000c61/T/pgtest.dkqWq/data" does not exist
pg_ctl: directory "/var/folders/pz/pd7y1qjs6s3cbk170cw50fjc000c61/T/pgtest.dkqWq/data" does not exist
pg_ctl: directory "/var/folders/pz/pd7y1qjs6s3cbk170cw50fjc000c61/T/pgtest.dkqWq/data" does not exist
pg_ctl: directory "/var/folders/pz/pd7y1qjs6s3cbk170cw50fjc000c61/T/pgtest.dkqWq/data" does not exist
pg_ctl: directory "/var/folders/pz/pd7y1qjs6s3cbk170cw50fjc000c61/T/pgtest.dkqWq/data" does not exist
t/04-multiprocess.t .. skipped: Failed to start postgres on port 15442: Failed to open /var/folders/pz/pd7y1qjs6s3cbk170cw50fjc000c61/T/pgtest.dkqWq/data/postmaster.pid: No such file or directory at /Users/hornenj/.cpan/build/Test-PostgreSQL-1.22-0/blib/lib/Test/PostgreSQL.pm line 313.
FATAL:  could not create shared memory segment: No space left on device
DETAIL:  Failed system call was shmget(key=1, size=56, 03600).
HINT:  This error does *not* mean that you have run out of disk space.  It occurs either if all available shared memory IDs have been taken, in which case you need to raise the SHMMNI parameter in your kernel, or because the system's overall limit for shared memory has been reached.
	The PostgreSQL documentation contains more information about shared memory configuration.
child process exited with exit code 1
initdb: removing data directory "/var/folders/pz/pd7y1qjs6s3cbk170cw50fjc000c61/T/pgtest.o71xw/data"
pg_ctl: database system initialization failed
pg_ctl: directory "/var/folders/pz/pd7y1qjs6s3cbk170cw50fjc000c61/T/pgtest.o71xw/data" does not exist
pg_ctl: directory "/var/folders/pz/pd7y1qjs6s3cbk170cw50fjc000c61/T/pgtest.o71xw/data" does not exist
pg_ctl: directory "/var/folders/pz/pd7y1qjs6s3cbk170cw50fjc000c61/T/pgtest.o71xw/data" does not exist
pg_ctl: directory "/var/folders/pz/pd7y1qjs6s3cbk170cw50fjc000c61/T/pgtest.o71xw/data" does not exist
pg_ctl: directory "/var/folders/pz/pd7y1qjs6s3cbk170cw50fjc000c61/T/pgtest.o71xw/data" does not exist
pg_ctl: directory "/var/folders/pz/pd7y1qjs6s3cbk170cw50fjc000c61/T/pgtest.o71xw/data" does not exist
pg_ctl: directory "/var/folders/pz/pd7y1qjs6s3cbk170cw50fjc000c61/T/pgtest.o71xw/data" does not exist
pg_ctl: directory "/var/folders/pz/pd7y1qjs6s3cbk170cw50fjc000c61/T/pgtest.o71xw/data" does not exist
pg_ctl: directory "/var/folders/pz/pd7y1qjs6s3cbk170cw50fjc000c61/T/pgtest.o71xw/data" does not exist
pg_ctl: directory "/var/folders/pz/pd7y1qjs6s3cbk170cw50fjc000c61/T/pgtest.o71xw/data" does not exist
pg_ctl: directory "/var/folders/pz/pd7y1qjs6s3cbk170cw50fjc000c61/T/pgtest.o71xw/data" does not exist
t/deadlock.t ......... skipped: Failed to start postgres on port 15442: Failed to open /var/folders/pz/pd7y1qjs6s3cbk170cw50fjc000c61/T/pgtest.o71xw/data/postmaster.pid: No such file or directory at /Users/hornenj/.cpan/build/Test-PostgreSQL-1.22-0/blib/lib/Test/PostgreSQL.pm line 313.
t/pod.t .............. ok
All tests successful.
Files=6, Tests=2,  8 wallclock secs ( 0.02 usr  0.01 sys +  1.35 cusr  1.99 csys =  3.37 CPU)
Result: PASS

------------------------------
PREREQUISITES
------------------------------

Prerequisite modules loaded:

requires:

    Module               Need  Have    
    -------------------- ----- --------
  ! DBD::Pg              0     n/a     
    DBI                  0     1.634   
    File::Spec           0     3.47    
    File::Which          0     1.19    
    Function::Parameters 0     2.000003
    Moo                  0     2.000002
    perl                 5.014 5.014004
    POSIX                0     1.24    
    Tie::Hash::Method    0     0.02    
    Try::Tiny            0     0.22    
    Types::Standard      0     1.000005
    User::pwent          0     1.00    

build_requires:

    Module               Need  Have    
    -------------------- ----- --------
  ! DBD::Pg              0     n/a     
    ExtUtils::MakeMaker  6.59  7.22    
    Test::SharedFork     0.06  0.34    


------------------------------
ENVIRONMENT AND OTHER CONTEXT
------------------------------

Environment variables:

    AUTOMATED_TESTING = 1
    LANG = en_US.UTF-8
    LC_ALL = POSIX
    LDFLAGS = 
    PATH = /Users/hornenj/perl5/perlbrew/bin:/Users/hornenj/perl5/perlbrew/perls/perl-5.14.4/bin:/Users/hornenj/perl5/perlbrew/bin:/Users/hornenj/bin:/sw/lib/perl5/ExtUtils:/sw/bin:/am/ncbiapdata/bin:/usr/bin:/bin:/usr/X11R6/bin:/netopt/ncbi_tools/bin:/usr/local/ncbi/blast/bin:/net/traces01.be-md.ncbi.nlm.nih.gov/trace_software/vdb/mac/release/x86_64/bin
    PERL5LIB = /Users/hornenj/.cpan/build/Tie-Hash-Method-0.02-0/blib/arch:/Users/hornenj/.cpan/build/Tie-Hash-Method-0.02-0/blib/lib:/Users/hornenj/.cpan/build/Function-Parameters-2.000003-0/blib/arch:/Users/hornenj/.cpan/build/Function-Parameters-2.000003-0/blib/lib:/Users/hornenj/.cpan/build/Dir-Self-0.11-0/blib/arch:/Users/hornenj/.cpan/build/Dir-Self-0.11-0/blib/lib:/Users/hornenj/.cpan/build/Date-Utility-1.07-0/blib/arch:/Users/hornenj/.cpan/build/Date-Utility-1.07-0/blib/lib:/Users/hornenj/.cpan/build/Time-Duration-Concise-Localize-2.61-0/blib/arch:/Users/hornenj/.cpan/build/Time-Duration-Concise-Localize-2.61-0/blib/lib:/Users/hornenj/.cpan/build/Tie-Hash-LRU-0.05-0/blib/arch:/Users/hornenj/.cpan/build/Tie-Hash-LRU-0.05-0/blib/lib
    PERL5OPT = 
    PERL5_CPANPLUS_IS_RUNNING = 27394
    PERL5_CPAN_IS_RUNNING = 27394
    PERL5_MINISMOKEBOX = 0.58
    PERLBREW_BASHRC_VERSION = 0.77
    PERLBREW_HOME = /Users/hornenj/.perlbrew
    PERLBREW_LIB = 
    PERLBREW_MANPATH = /Users/hornenj/perl5/perlbrew/perls/perl-5.14.4/man
    PERLBREW_PATH = /Users/hornenj/perl5/perlbrew/bin:/Users/hornenj/perl5/perlbrew/perls/perl-5.14.4/bin
    PERLBREW_PERL = perl-5.14.4
    PERLBREW_ROOT = /Users/hornenj/perl5/perlbrew
    PERLBREW_VERSION = 0.77
    PERL_EXTUTILS_AUTOINSTALL = --defaultdeps
    PERL_LOCAL_LIB_ROOT = 
    PERL_MM_USE_DEFAULT = 1
    SHELL = /bin/bash
    TERM = xterm-256color
    TMPDIR = /var/folders/pz/pd7y1qjs6s3cbk170cw50fjc000c61/T/
    ac_cv_path_INTLTOOL_PERL = /usr/bin/perl

Perl special variables (and OS-specific diagnostics, for MSWin32):

    $^X = /Users/hornenj/perl5/perlbrew/perls/perl-5.14.4/bin/perl5.14.4
    $UID/$EUID = 12481 / 12481
    $GID = 14 14 5344 37191 527 37223 241
    $EGID = 14 14 5344 37191 527 37223 241

Perl module toolchain versions installed:

    Module              Have    
    ------------------- --------
    CPAN                2.14    
    CPAN::Meta          2.150005
    Cwd                 3.47    
    ExtUtils::CBuilder  0.280224
    ExtUtils::Command   7.22    
    ExtUtils::Install   2.04    
    ExtUtils::MakeMaker 7.22    
    ExtUtils::Manifest  1.70    
    ExtUtils::ParseXS   3.30    
    File::Spec          3.47    
    JSON                2.90    
    JSON::PP            2.27400 
    Module::Build       0.4214  
    Module::Signature   n/a     
    Parse::CPAN::Meta   1.4422  
    Test::Harness       3.36    
    Test::More          1.302075
    YAML                1.21    
    YAML::Syck          1.29    
    version             0.9912  


--

Summary of my perl5 (revision 5 version 14 subversion 4) configuration:
   
  Platform:
    osname=darwin, osvers=14.3.0, archname=darwin-thread-multi-2level
    uname='darwin ncbimac2027.ncbi.nlm.nih.gov 14.3.0 darwin kernel version 14.3.0: mon mar 23 11:59:05 pdt 2015; root:xnu-2782.20.48~5release_x86_64 x86_64 '
    config_args='-de -Dprefix=/Users/hornenj/perl5/perlbrew/perls/perl-5.14.4 -Duseithreads -Dusemultiplicity -Dusedevel -Accflags=-O2 -W -Wformat=2 -Wswitch -Wshadow -Wwrite-strings -Wuninitialized -Wall -pipe -mtune=native -march=native -fomit-frame-pointer -msse2 -msse -mmmx -pedantic -D_FORTIFY_SOURCE=2 -Wpointer-arith -Wstrict-prototypes -fstack-protector -Wstack-protector -Wextra -Wbad-function-cast -Wcast-align -Wcast-qual -Wdisabled-optimization -Wendif-labels -Wfloat-equal -Wformat-nonliteral -Winline -Wmissing-declarations -Wmissing-prototypes -Wnested-externs -Wpointer-arith -Wundef -Wformat-security -fassociative-math -Acc=cc -Aeval:scriptdir=/Users/hornenj/perl5/perlbrew/perls/perl-5.14.4/bin'
    hint=recommended, useposix=true, d_sigaction=define
    useithreads=define, usemultiplicity=define
    useperlio=define, d_sfio=undef, uselargefiles=define, usesocks=undef
    use64bitint=define, use64bitall=define, uselongdouble=undef
    usemymalloc=n, bincompat5005=undef
  Compiler:
    cc=' cc', ccflags ='-fno-common -DPERL_DARWIN -O2 -W -Wformat=2 -Wswitch -Wshadow -Wwrite-strings -Wuninitialized -Wall -pipe -mtune=native -march=native -fomit-frame-pointer -msse2 -msse -mmmx -pedantic -D_FORTIFY_SOURCE=2 -Wpointer-arith -Wstrict-prototypes -fstack-protector -Wstack-protector -Wextra -Wbad-function-cast -Wcast-align -Wcast-qual -Wdisabled-optimization -Wendif-labels -Wfloat-equal -Wformat-nonliteral -Winline -Wmissing-declarations -Wmissing-prototypes -Wnested-externs -Wpointer-arith -Wundef -Wformat-security -fassociative-math -fno-strict-aliasing -I/usr/local/include',
    optimize='-O3',
    cppflags='-fno-common -DPERL_DARWIN -O2 -W -Wformat=2 -Wswitch -Wshadow -Wwrite-strings -Wuninitialized -Wall -pipe -mtune=native -march=native -fomit-frame-pointer -msse2 -msse -mmmx -pedantic -D_FORTIFY_SOURCE=2 -Wpointer-arith -Wstrict-prototypes -fstack-protector -Wstack-protector -Wextra -Wbad-function-cast -Wcast-align -Wcast-qual -Wdisabled-optimization -Wendif-labels -Wfloat-equal -Wformat-nonliteral -Winline -Wmissing-declarations -Wmissing-prototypes -Wnested-externs -Wpointer-arith -Wundef -Wformat-security -fassociative-math -fno-strict-aliasing -I/usr/local/include'
    ccversion='', gccversion='4.2.1 Compatible Apple LLVM 6.0 (clang-600.0.56)', gccosandvers=''
    intsize=4, longsize=8, ptrsize=8, doublesize=8, byteorder=12345678
    d_longlong=define, longlongsize=8, d_longdbl=define, longdblsize=16
    ivtype='long', ivsize=8, nvtype='double', nvsize=8, Off_t='off_t', lseeksize=8
    alignbytes=8, prototype=define
  Linker and Libraries:
    ld='env MACOSX_DEPLOYMENT_TARGET=10.3 cc', ldflags =' -fstack-protector -L/usr/local/lib'
    libpth=/usr/local/lib /usr/lib
    libs=-ldbm -ldl -lm -lutil -lc
    perllibs=-ldl -lm -lutil -lc
    libc=, so=dylib, useshrplib=false, libperl=libperl.a
    gnulibc_version=''
  Dynamic Linking:
    dlsrc=dl_dlopen.xs, dlext=bundle, d_dlsymun=undef, ccdlflags=' '
    cccdlflags=' ', lddlflags=' -bundle -undefined dynamic_lookup -L/usr/local/lib -fstack-protector'


Characteristics of this binary (from libperl): 
  Compile-time options: MULTIPLICITY PERL_DONT_CREATE_GVSV
                        PERL_IMPLICIT_CONTEXT PERL_MALLOC_WRAP
                        PERL_PRESERVE_IVUV PERL_USE_DEVEL USE_64_BIT_ALL
                        USE_64_BIT_INT USE_ITHREADS USE_LARGE_FILES
                        USE_PERLIO USE_PERL_ATOF USE_REENTRANT_API
  Locally applied patches:
	Devel::PatchPerl 1.30
  Built under darwin
  Compiled at Apr 20 2015 09:34:28
  %ENV:
    PERL5LIB="/Users/hornenj/.cpan/build/Tie-Hash-Method-0.02-0/blib/arch:/Users/hornenj/.cpan/build/Tie-Hash-Method-0.02-0/blib/lib:/Users/hornenj/.cpan/build/Function-Parameters-2.000003-0/blib/arch:/Users/hornenj/.cpan/build/Function-Parameters-2.000003-0/blib/lib:/Users/hornenj/.cpan/build/Dir-Self-0.11-0/blib/arch:/Users/hornenj/.cpan/build/Dir-Self-0.11-0/blib/lib:/Users/hornenj/.cpan/build/Date-Utility-1.07-0/blib/arch:/Users/hornenj/.cpan/build/Date-Utility-1.07-0/blib/lib:/Users/hornenj/.cpan/build/Time-Duration-Concise-Localize-2.61-0/blib/arch:/Users/hornenj/.cpan/build/Time-Duration-Concise-Localize-2.61-0/blib/lib:/Users/hornenj/.cpan/build/Tie-Hash-LRU-0.05-0/blib/arch:/Users/hornenj/.cpan/build/Tie-Hash-LRU-0.05-0/blib/lib"
    PERL5OPT=""
    PERL5_CPANPLUS_IS_RUNNING="27394"
    PERL5_CPAN_IS_RUNNING="27394"
    PERL5_MINISMOKEBOX="0.58"
    PERLBREW_BASHRC_VERSION="0.77"
    PERLBREW_HOME="/Users/hornenj/.perlbrew"
    PERLBREW_LIB=""
    PERLBREW_MANPATH="/Users/hornenj/perl5/perlbrew/perls/perl-5.14.4/man"
    PERLBREW_PATH="/Users/hornenj/perl5/perlbrew/bin:/Users/hornenj/perl5/perlbrew/perls/perl-5.14.4/bin"
    PERLBREW_PERL="perl-5.14.4"
    PERLBREW_ROOT="/Users/hornenj/perl5/perlbrew"
    PERLBREW_VERSION="0.77"
    PERL_EXTUTILS_AUTOINSTALL="--defaultdeps"
    PERL_LOCAL_LIB_ROOT=""
    PERL_MM_USE_DEFAULT="1"
  @INC:
    /Users/hornenj/.cpan/build/Tie-Hash-Method-0.02-0/blib/arch
    /Users/hornenj/.cpan/build/Tie-Hash-Method-0.02-0/blib/lib
    /Users/hornenj/.cpan/build/Function-Parameters-2.000003-0/blib/arch
    /Users/hornenj/.cpan/build/Function-Parameters-2.000003-0/blib/lib
    /Users/hornenj/.cpan/build/Dir-Self-0.11-0/blib/arch
    /Users/hornenj/.cpan/build/Dir-Self-0.11-0/blib/lib
    /Users/hornenj/.cpan/build/Date-Utility-1.07-0/blib/arch
    /Users/hornenj/.cpan/build/Date-Utility-1.07-0/blib/lib
    /Users/hornenj/.cpan/build/Time-Duration-Concise-Localize-2.61-0/blib/arch
    /Users/hornenj/.cpan/build/Time-Duration-Concise-Localize-2.61-0/blib/lib
    /Users/hornenj/.cpan/build/Tie-Hash-LRU-0.05-0/blib/arch
    /Users/hornenj/.cpan/build/Tie-Hash-LRU-0.05-0/blib/lib
    /Users/hornenj/perl5/perlbrew/perls/perl-5.14.4/lib/site_perl/5.14.4/darwin-thread-multi-2level
    /Users/hornenj/perl5/perlbrew/perls/perl-5.14.4/lib/site_perl/5.14.4
    /Users/hornenj/perl5/perlbrew/perls/perl-5.14.4/lib/5.14.4/darwin-thread-multi-2level
    /Users/hornenj/perl5/perlbrew/perls/perl-5.14.4/lib/5.14.4
    .